{"text_format":"1","workbook":"xlsx","n_sheets":6,"sheets":["HOJA DE PEDIDO","EXHIBIDORES","marylin","inventario","ficha producto","LISTA PROFIT"],"not_rendered":{"charts":0,"images":0,"macros":1,"external_links":2,"defined_names":6,"comments":0,"pivot_tables":0},"unopened":[],"bounds":{"document_bytes":16777216,"sheet_cells":100000,"rows_first":2000,"rows_last":500,"rows_between":2000,"halvings":0,"cell_chars":16384,"cell_head_chars":4096},"cells_cut":0,"cells_raw":0,"read":"whole","date_system":"1900"}

{"sheet":"HOJA DE PEDIDO","index":0,"n_rows":290,"n_cols":14,"rows_kept":290,"cut":false,"hidden":false,"merged":[[289,2,289,8],[283,2,283,8],[288,2,288,8],[11,1,11,13],[30,1,30,13],[48,1,48,13],[58,1,58,13],[66,1,66,13],[87,1,87,13],[92,1,92,13],[102,1,102,13],[111,1,111,13],[9,7,9,8],[8,7,8,8],[4,7,4,8],[272,1,272,13],[215,1,215,13],[222,1,222,13],[233,1,233,13],[244,1,244,13],[253,1,253,13],[151,1,151,13],[153,1,153,13],[152,1,152,13],[179,1,179,13],[192,1,192,13],[127,1,127,13]]}
[]
[]
[]
[]
[null,null,null,null,null,null,null,"CLIENTES DIRECTOS"]
[null,null,null,"CLIENTE"]
[null,null,"RIFJ-40847190-6","VENDEDOR"]
[null,null,null,"CONDICION"]
[null,null,null,"OBSERVACION",null,null,null,"LISTA DE PRECIO $"]
[]
[]
[null,"LINEA PROTECCION BEBE"]
[null,"CODIGO","MODELO","CODIGO UPC","DESCRIPCION","UNID PAQ","UNID BULTO","PRECIO UNIDAD","PRECIO BULTO","DESCUENTO","BULTOS","UND","TOTAL","INV. BULTOS"]
[null,901060270142,"PB-HUG-RN","7702425804654","HUGGIES PANAL BEBE ACTIVE TALLA RN (RECIEN NACIDO) 32 UND",32,"06",5.14,{"$f":"+H14*G14","v":30.839999999999996},null,null,{"$f":"+K14*G14","v":0},{"$f":"L14*H14*(1-J14)","v":0},{"$f":"IFERROR(VLOOKUP(B14,inventario!$B$2:$G$164,6,0),0)","v":1684}]
[null,901060270141,"PB-HUG-P36","7702425806597","HUGGIES PANAL BEBE ACTIVE TALLA P 36 UND ","36","06",5.48,{"$f":"+G15*H15","v":32.880000000000003},7.0000000000000007E-2,null,{"$f":"+K15*G15","v":0},{"$f":"L15*H15*(1-J15)","v":0},{"$f":"IFERROR(VLOOKUP(B15,inventario!$B$2:$G$164,6,0),0)","v":2291}]
[null,901060270139,"PB-HUG-M","7702425801462","HUGGIES PANAL BEBE ACTIVE TALLA M 30 UND","30","08",5.51,44.08,7.0000000000000007E-2,null,0,0,{"$f":"IFERROR(VLOOKUP(B16,inventario!$B$2:$G$164,6,0),0)","v":1907}]
[null,901060270137,"PB-HUG-G","7702425801530","HUGGIES PANAL BEBE ACTIVE TALLA G 30 UND","30","08",6.42,51.36,0.12,null,0,{"$f":"L17*H17*(1-J17)","v":0},{"$f":"IFERROR(VLOOKUP(B17,inventario!$B$2:$G$164,6,0),0)","v":127}]
[null,901060270143,"PB-HUG-XG","7702425801615","HUGGIES PANAL BEBE ACTIVE TALLA XG 30 UND","30","08",7.72,61.76,0.12,null,0,0,{"$f":"IFERROR(VLOOKUP(B18,inventario!$B$2:$G$164,6,0),0)","v":1175}]
[null,901060270145,"PB-HUG-XXG","7702425801677","HUGGIES PANAL BEBE ACTIVE TALLA XXG 30 UND","30","08",8.34,66.72,0.12,null,0,0,{"$f":"IFERROR(VLOOKUP(B19,inventario!$B$2:$G$164,6,0),0)","v":2518}]
[null,901060270149,"PB-HUGNAT-P","7702425802155","HUGGIES PANAL BEBE NATURAL CARE (ROJOS) TALLA P 30 UND ","30","08",5.82,46.56,0.05,null,0,0,{"$f":"IFERROR(VLOOKUP(B20,inventario!$B$2:$G$164,6,0),0)","v":910}]
[null,901060270148,"PB-HUGNAT-M","7702425808690","HUGGIES PANAL BEBE NATURAL CARE (ROJOS) TALLA M 30 UND","30","08",6.72,53.76,0.05,null,0,0,{"$f":"IFERROR(VLOOKUP(B21,inventario!$B$2:$G$164,6,0),0)","v":586}]
[null,901060270147,"PB-HUGNAT-G","7702425808706","HUGGIES PANAL BEBE NATURAL CARE (ROJOS) TALLA G 30 UND ","30","08",8.1300000000000008,65.040000000000006,0.05,null,0,0,{"$f":"IFERROR(VLOOKUP(B22,inventario!$B$2:$G$164,6,0),0)","v":155}]
[null,901060270151,"PB-HUGNAT-XG","7702425802438","HUGGIES PANAL BEBE NATURAL CARE (ROJOS) TALLA XG 30 UND","30","04",9.65,38.6,0.05,null,0,0,{"$f":"IFERROR(VLOOKUP(B23,inventario!$B$2:$G$164,6,0),0)","v":0}]
[null,901060270152,"PB-HUGNAT-XXG","7702425808720","HUGGIES PANAL BEBE NATURAL CARE (ROJOS) TALLA XXG 30 UND ","30","08",10.27,82.16,0.05,null,{"$f":"+K24*G24","v":0},{"$f":"L24*H24*(1-J24)","v":0},{"$f":"IFERROR(VLOOKUP(B24,inventario!$B$2:$G$164,6,0),0)","v":3}]
[null,901060270150,"PB-HUGNAT-RN20",7702425802148,"PANAL HUGGIES NATURAL CARE RN 20un","20","08",3.75,{"$f":"+G25*H25","v":30},null,null,{"$f":"+K25*G25","v":0},{"$f":"L25*H25*(1-J25)","v":0},{"$f":"IFERROR(VLOOKUP(B25,inventario!$B$2:$G$164,6,0),0)","v":1007}]
[null,901060270138,"PB-HUG-G20",7702425810754,"PANAL HUGGIES ACTIVE SEC G 20un","20","08",4.5599999999999996,36.479999999999997,7.0000000000000007E-2,null,0,{"$f":"L26*H26*(1-J26)","v":0},{"$f":"IFERROR(VLOOKUP(B26,inventario!$B$2:$G$164,6,0),0)","v":501}]
[null,901060270144,"PB-HUG-XG20",7702425810761,"PANAL HUGGIES ACTIVE SEC XG 20un","20","08",5.48,43.84,0.15,null,0,0,{"$f":"IFERROR(VLOOKUP(B27,inventario!$B$2:$G$164,6,0),0)","v":6}]
[null,901060270146,"PB-HUG-XXG20",7702425810778,"PANAL HUGGIES ACTIVE SEC XXG 20un",20,"08",6.36,{"$f":"+H28*G28","v":50.88},0.18,null,0,0,{"$f":"IFERROR(VLOOKUP(B28,inventario!$B$2:$G$164,6,0),0)","v":1512}]
[]
[]
[null,"LINEA PROTECCION FEMENINA"]
[null,"CODIGO","MODELO","CODIGO UPC","DESCRIPCION","UNID PAQ","UNID BULTO","PRECIO UNIDAD","PRECIO BULTO","DESCUENTO","BULTOS","UND","TOTAL","INV. BULTOS"]
[null,1101070210120,"KOTEX-TAMM","7702425540613","TAMPONES KOTEX MEDIUM 12X8 SPORT","8","12",3.49,{"$f":"+G33*H33","v":41.88},7.4999999999999997E-2,null,{"$f":"+K33*G33","v":0},{"$f":"L33*H33*(1-J33)","v":0},{"$f":"IFERROR(VLOOKUP(B33,inventario!$B$2:$G$164,6,0),0)","v":0}]
[null,1101070210121,"KOTEX-TAMS","7702425540606","TAMPONES KOTEX SUPER 12X8","8","12",3.63,{"$f":"+G34*H34","v":43.56},7.4999999999999997E-2,null,0,0,{"$f":"IFERROR(VLOOKUP(B34,inventario!$B$2:$G$164,6,0),0)","v":0}]
[null,1101070190123,"KOTEX-UFNOCT","7702425807648","KOTEX TOALLA FEM UF DIA & NOCHE ","8","12",1.22,14.64,null,null,0,0,{"$f":"IFERROR(VLOOKUP(B35,inventario!$B$2:$G$164,6,0),0)","v":1721}]
[null,1101070190125,"KOTEX-ULTRAF","7702425801288","KOTEX TOALLA FEMENINA DISCRETA 10 UND","10","48",0.71,34.08,null,null,0,0,{"$f":"IFERROR(VLOOKUP(B36,inventario!$B$2:$G$164,6,0),0)","v":2129}]
[null,1101070190113,"KOTEX-DIA","7702425800779","KOTEX TOALLA FEMENINA DIURNA 10 UND","10","48",0.74,35.519999999999996,null,null,0,0,{"$f":"IFERROR(VLOOKUP(B37,inventario!$B$2:$G$164,6,0),0)","v":0}]
[null,1101070190119,"KOTEX-NOC","7702425803008","KOTEX TOALLA FEMENINA NOCTURNA 8 UND","08","12",1.03,12.36,null,null,0,0,{"$f":"IFERROR(VLOOKUP(B38,inventario!$B$2:$G$164,6,0),0)","v":0}]
[null,1101070200114,"KOTEX-LIN15","7702425544932","KOTEX PROTECTOR DIARIO FEMENINO (LINER) 15 UND ","15","12",0.55000000000000004,6.6000000000000005,null,null,0,0,{"$f":"IFERROR(VLOOKUP(B39,inventario!$B$2:$G$164,6,0),0)","v":2444}]
[null,1101070200115,"KOTEX-LIN50","7702425809765","KOTEX PROTECTOR DIARIO FEMENINO (LINER) 50 UND","50","12",1.78,21.36,7.0000000000000007E-2,null,0,0,{"$f":"IFERROR(VLOOKUP(B40,inventario!$B$2:$G$164,6,0),0)","v":4140.8333329999996}]
[null,1101070190117,"KOTEX-LINAB50","7702425809758","KOTEX LINER ANTIBACTERIAL 12X50 ","50","12",1.84,22.080000000000002,null,null,{"$f":"+K41*G41","v":0},0,{"$f":"IFERROR(VLOOKUP(B41,inventario!$B$2:$G$164,6,0),0)","v":1130}]
[null,1101070190116,"KOTEX-LINAB15","7702425807549","KOTEX LINER ANTIBACTERIAL 12X15 ","15","12",0.56000000000000005,6.7200000000000006,null,null,{"$f":"+K42*G42","v":0},{"$f":"L42*H42*(1-J42)","v":0},{"$f":"IFERROR(VLOOKUP(B42,inventario!$B$2:$G$164,6,0),0)","v":2266}]
[null,1101070190122,"KOTEX-UFAB-R5","7702425810006",{"$f":"VLOOKUP(C43,'[1]DESPUES DEL CAMBIO'!$C$13:$I$1048576,2,0)","v":"KOTEX TOALLA FEM UF AB 10X5X5 RISTRA"},5,10,2.67,26.7,null,null,0,0,{"$f":"IFERROR(VLOOKUP(B43,inventario!$B$2:$G$164,6,0),0)","v":1296}]
[null,1101070190118,"KOTEX-LINPURE50","7702425810860","KOTEX LINER PURE 12X50 ","50","12",1.94,23.28,null,null,0,0,{"$f":"IFERROR(VLOOKUP(B44,inventario!$B$2:$G$164,6,0),0)","v":0}]
[null,1101070190208,"KOTEX-ESENSA10","7441008164326","KOTEX TOALLA FEMENINA ESENCIAL S/ALAS 24X10 ",10,24,0.56000000000000005,13.440000000000001,null,null,0,0,{"$f":"IFERROR(VLOOKUP(B45,inventario!$B$2:$G$164,6,0),0)","v":3496.875}]
[null,1101070190124,"KOTEX-UFPURE","7702425810501","KOTEX TOALLA FEM UF PURE 12X10UND",10,12,0.78,{"$f":"+H46*G46","v":9.36},null,null,0,0,{"$f":"IFERROR(VLOOKUP(B46,inventario!$B$2:$G$164,6,0),0)","v":2164}]
[]
[]
[null,"LINEA CUIDADO PERSONAL-TOALLAS HUMEDAS"]
[null,"CODIGO","MODELO","CODIGO UPC","DESCRIPCION","UNID PAQ","UNID BULTO","PRECIO UNIDAD","PRECIO BULTO","DESCUENTO","BULTOS","UND","TOTAL","INV. BULTOS"]
[null,901060170191,"TH-HUGMAN-80","7702425804821","TOALLAS HUMEDAS HUGGIES MANITAS 80 UND ",80,12,1.51,{"$f":"+H51*G51","v":18.12},null,null,{"$f":"+K51*G51","v":0},{"$f":"L51*H51*(1-J51)","v":0},{"$f":"IFERROR(VLOOKUP(B51,inventario!$B$2:$G$164,6,0),0)","v":0}]
[null,901060170190,"TH-HUGMAN-48","7702425809772","TOALLAS HUMEDAS HUGGIES MANITAS 48 UND  ",48,24,1.1399999999999999,{"$f":"+H52*G52","v":27.36},null,null,0,{"$f":"L52*H52*(1-J52)","v":0},{"$f":"IFERROR(VLOOKUP(B52,inventario!$B$2:$G$164,6,0),0)","v":0}]
[null,901060170189,"TH-HUGEFI-48","7896018700628","TOALLAS HUMEDAS HUGGIES LIMP EFECTIVA (VERDES) 48 UND CON TAPA ",48,24,1.04,24.96,null,null,0,{"$f":"L53*H53*(1-J53)","v":0},{"$f":"IFERROR(VLOOKUP(B53,inventario!$B$2:$G$164,6,0),0)","v":0}]
[null,901060170188,"TH-HUGCOT-80","7702425805187","TOALLAS HUMEDAS HUGGIES LIMP COTIDIANA (AMARILLOS) 80 UND ",80,12,1.1499999999999999,13.799999999999999,0.15,null,0,0,{"$f":"IFERROR(VLOOKUP(B54,inventario!$B$2:$G$164,6,0),0)","v":0}]
[null,401060170186,"TH-BABYSOFT-40","8699444262031","TOALLAS HUMEDADAS DE 40 UNIDADES BABY SOFT PREMIUM",40,36,0.57999999999999996,{"$f":"+G55*H55","v":20.88},0.1,null,{"$f":"+K55*G55","v":0},{"$f":"L55*H55*(1-J55)","v":0},{"$f":"IFERROR(VLOOKUP(B55,inventario!$B$2:$G$164,6,0),0)","v":0}]
[null,401060170187,"TH-BABYSOFT-72","8699444260631","TOALLAS HUMEDADAS DE 72 UNIDADES BABY SOFT PREMIUM CON TAPA ","72","24",0.95,20.88,null,null,null,{"$f":"L56*H56*(1-J56)","v":0},{"$f":"IFERROR(VLOOKUP(B56,inventario!$B$2:$G$164,6,0),0)","v":0}]
[]
[]
[null,"LINEA CUIDADO PERSONAL-TALCOS"]
[null,"CODIGO","MODELO","CODIGO UPC","DESCRIPCION","UNID PAQ","UNID BULTO","PRECIO UNIDAD","PRECIO BULTO","DESCUENTO","BULTOS","UND","TOTAL","INV. BULTOS"]
[null,101010040019,"AMMENS-ORI125","7502221182143","TALCO AMMENS ORIGINAL - 125G ","01","12",2.16,{"$f":"+H61*G61","v":25.92},null,null,{"$f":"+K61*G61","v":0},0,{"$f":"IFERROR(VLOOKUP(B61,inventario!$B$2:$G$164,6,0),0)","v":682}]
[null,101010040015,"AMMENS-BABY125","7502221182181","TALCO AMMENS BABY - 125G ","01","12",2.16,25.92,null,null,0,0,{"$f":"IFERROR(VLOOKUP(B62,inventario!$B$2:$G$164,6,0),0)","v":579}]
[null,101010040017,"AMMENS-FRESH125","7502221182167","TALCO AMMENS FRESCO AROMA - 125G ","01","12",2.16,25.92,null,null,0,0,{"$f":"IFERROR(VLOOKUP(B63,inventario!$B$2:$G$164,6,0),0)","v":722}]
[null,101010040020,"AMMENS-PIE60","7502221184437","TALCO AMMENS PARA PIES - 60G ","01","12",1.65,19.799999999999997,null,null,0,0,{"$f":"IFERROR(VLOOKUP(B64,inventario!$B$2:$G$164,6,0),0)","v":720}]
[]
[]
[null,"LINEA CUIDADO PERSONAL-DESODORANTES"]
[null,"CODIGO","MODELO","CODIGO UPC","DESCRIPCION","UNID PAQ","UNID BULTO","PRECIO UNIDAD","PRECIO BULTO","DESCUENTO","BULTOS","UND","TOTAL","INV. BULTOS"]
[null,201020030010,"AH-FRESH","033200197249","DESODORANTE ARM & HAMMER ULTRAMAX SOLID FRESH / FRESCO - 73g","01",12,2.4,{"$f":"+H69*G69","v":28.799999999999997},0.4,null,{"$f":"+K69*G69","v":0},{"$f":"L69*H69*(1-J69)","v":0},{"$f":"IFERROR(VLOOKUP(B69,inventario!$B$2:$G$164,6,0),0)","v":0}]
[null,201020030014,"AH-UNSCENTED","033200194606","DESODORANTE ARM & HAMMER ULTRAMAX SOLID UNCENTED / SIN AROMA - 73g","01",12,2.4,28.799999999999997,0.4,null,0,0,{"$f":"IFERROR(VLOOKUP(B70,inventario!$B$2:$G$164,6,0),0)","v":0}]
[null,201020030011,"AH-GELCOOL","033200197560","DESODORANTE ARM & HAMMER ULTRAMAX GEL COOL BLAST - 113g ","01",12,2.7,32.400000000000006,0.4,null,0,0,{"$f":"IFERROR(VLOOKUP(B71,inventario!$B$2:$G$164,6,0),0)","v":0}]
[null,201020030012,"AH-MAXPWER",33200194705,"A&H DEO POWDER FRESH 12X73G","1",12,2.4,{"$f":"+H72*G72","v":28.799999999999997},0.4,null,0,0,{"$f":"IFERROR(VLOOKUP(B72,inventario!$B$2:$G$164,6,0),0)","v":0}]
[null,201020030013,"AH-MAXSPORT",33200197447,"A&H DEO ACTIVE SPORT 12X73G","1",12,2.4,28.799999999999997,0.4,null,0,0,{"$f":"IFERROR(VLOOKUP(B73,inventario!$B$2:$G$164,6,0),0)","v":0}]
[null,301020120049,"DEO-AXBS-BLCK","079400589873","AXE SPRAY PARA EL CUERPO -BLACK 113G","01",12,2.12,25.44,null,null,0,0,{"$f":"IFERROR(VLOOKUP(B74,inventario!$B$2:$G$164,6,0),0)","v":0}]
[null,301020120052,"DEO-AXBS-DARK","079400379979","AXE SPRAY PARA EL CUERPO -DARK TEMPTATION 113G","01",12,2.12,25.44,null,null,0,0,{"$f":"IFERROR(VLOOKUP(B75,inventario!$B$2:$G$164,6,0),0)","v":0}]
[null,301020120047,"DEO-AXBS-ANARC","079400197207","AXE SPRAY PARA EL CUERPO - ANARCHY MALE 113G","01",12,2.12,25.44,null,null,{"$f":"+K76*G76","v":0},{"$f":"L76*H76*(1-J76)","v":0},{"$f":"IFERROR(VLOOKUP(B76,inventario!$B$2:$G$164,6,0),0)","v":0}]
[null,301020120053,"DEO-AXBS-DARKT","7791293025797","AXE BODY SPRAY DARK TEMPTATION 150ML ","01","12",2.12,25.44,null,null,{"$f":"+K77*G77","v":0},{"$f":"L77*H77*(1-J77)","v":0},{"$f":"IFERROR(VLOOKUP(B77,inventario!$B$2:$G$164,6,0),0)","v":2114}]
[null,301020120048,"DEO-AXBS-APOLLO","7791293025780","AXE BODY SPRAY APOLLO 150ML ","01",12,2.12,25.44,null,null,0,0,{"$f":"IFERROR(VLOOKUP(B78,inventario!$B$2:$G$164,6,0),0)","v":1402}]
[null,301020120050,"DEO-AXBS-BLKNGHT","7791293032153","AXE BODY SPRAY BLACK KNIGHT 150ML ","01",12,2.12,25.44,null,null,0,0,{"$f":"IFERROR(VLOOKUP(B79,inventario!$B$2:$G$164,6,0),0)","v":3099}]
[null,301020120054,"DEO-AXBS-EXCITE","7791293025803","AXE BODY SPRAY EXCITE 150ML ","01",12,2.12,25.44,null,null,0,0,{"$f":"IFERROR(VLOOKUP(B80,inventario!$B$2:$G$164,6,0),0)","v":2777}]
[null,301020120055,"DEO-AXBS-FUSION","7791293025810","AXE BODY SPRAY FUSION 150ML ","01",12,2.12,25.44,null,null,0,0,{"$f":"IFERROR(VLOOKUP(B81,inventario!$B$2:$G$164,6,0),0)","v":1970}]
[null,301020120051,"DEO-AXBS-COLL","7506306202832","AXE BODY SPRAY COLLISION 150ML ","01",12,2.12,25.44,null,null,0,0,{"$f":"IFERROR(VLOOKUP(B82,inventario!$B$2:$G$164,6,0),0)","v":2324}]
[null,301020030058,"DEO-AXSTI-DARK","000075025922","AXE DEO STICK DARK TEMPTATION 50G ","01",12,2.2799999999999998,27.36,null,null,0,0,{"$f":"IFERROR(VLOOKUP(B83,inventario!$B$2:$G$164,6,0),0)","v":0}]
[null,301020030197,"DEO-AXSTI-BLK","000075048082","AXE DEO STICK BLACK 50G","01",12,2.2799999999999998,27.36,null,null,0,0,{"$f":"IFERROR(VLOOKUP(B84,inventario!$B$2:$G$164,6,0),0)","v":488}]
[null,301020030057,"DEO-AXSTI-COLL","000075060206","AXE DEO STICK COLLISION 50G ","01",12,2.2799999999999998,27.36,null,null,0,0,{"$f":"IFERROR(VLOOKUP(B85,inventario!$B$2:$G$164,6,0),0)","v":601}]
[]
[]
[null,"LINEA CUIDADO DEL HOGAR-PAPEL HIGIENICO"]
[null,"CODIGO","MODELO","CODIGO UPC","DESCRIPCION","UNID PAQ","UNID BULTO","PRECIO UNIDAD","PRECIO BULTO","DESCUENTO","BULTOS","UND","TOTAL","INV. BULTOS"]
[null,2002030280153,"PH-SCOTT-4R","7702425808034","SCOTT PAPEL HIGIENICO RINDEMAX 4 ROLLOS - 28 METROS","04",12,1.84,{"$f":"+H90*G90","v":22.080000000000002},0.1,null,{"$f":"+K90*G90","v":0},{"$f":"L90*H90*(1-J90)","v":0},{"$f":"IFERROR(VLOOKUP(B90,inventario!$B$2:$G$164,6,0),0)","v":0}]
[null,2002030420240,"N/A","7702425810808","SCOTT PAPEL TOALLIN CALORIE ABSORB 12X1UND ","04",12,0.8,{"$f":"+H91*G91","v":9.6000000000000014},null,null,null,null,{"$f":"IFERROR(VLOOKUP(B91,inventario!$B$2:$G$164,6,0),0)","v":0}]
[]
[null,"LINEACUIDADODELHOGAR-DETERGENTELIQUIDO"]
[null,"CODIGO","MODELO","CODIGO UPC","DESCRIPCION","UNID PAQ","UNID BULTO","PRECIO UNIDAD","PRECIO BULTO","DESCUENTO","BULTOS","UND","TOTAL","INV. BULTOS"]
[null,null,"QM-OXISPR-636ML","757037516935","OXICLEAN QUITAMANCHA DE ROPA - SPRAY 636ml  AGOTADO","01",8,3.73,{"$f":"+H95*G95","v":29.84},null,null,{"$f":"+K95*G95","v":0},0,{"$f":"IFERROR(VLOOKUP(C95,inventario!$B$2:$H$218,9,0),0)","v":0}]
[null,null,"QM-OXIPLV-800G","757037950869","OXICLEAN VERSATILE QUITAMANCHA DE ROPA - POLVO 802g AGOTADO","01",4,4.84,19.36,null,null,0,0,{"$f":"IFERROR(VLOOKUP(C96,inventario!$B$2:$H$218,9,0),0)","v":0}]
[null,202020150084,"DL-AHESTALLIDO","033200099901","ARM & HAMMER DETERGENTE LIQUIDO ESTALLIDO DE LIMPIEZA - 1.47L","01","8",4.0999999999999996,32.799999999999997,0.4,null,0,0,{"$f":"IFERROR(VLOOKUP(B97,inventario!$B$2:$G$164,6,0),0)","v":0}]
[null,202020150085,"DL-AHJARDIN","033200099949","ARM & HAMMER DETERGENTE LIQUIDO JARDIN FLORECIENTE CON SUAVIZANTE - 1.47L","01","8",4.0999999999999996,32.799999999999997,0.4,null,0,0,{"$f":"IFERROR(VLOOKUP(B98,inventario!$B$2:$G$164,6,0),0)","v":2}]
[null,2502020150087,"DL-XTROXI","094514428863","XTRA DETERGENTE LIQUIDO LIMPIEZA CRISTAL CON OXICLEAN (C/DESMANCHANTE) - 1.50L ","01","8",3.55,28.4,0.4,null,0,0,{"$f":"IFERROR(VLOOKUP(B99,inventario!$B$2:$G$164,6,0),0)","v":0}]
[null,2502020150088,"DL-XTRTROPICAL","094514424049","XTRA DETERGENTE LIQUIDO PASION TROPICAL - 1.50L  ","01","8",3.55,28.4,0.4,null,0,0,{"$f":"IFERROR(VLOOKUP(B100,inventario!$B$2:$G$164,6,0),0)","v":2}]
[]
[]
[null,"LINEA CUIDADO PERSONAL-LOCIONES CORPORALES"]
[null,"CODIGO","MODELO","CODIGO UPC","DESCRIPCION","UNID PAQ","UNID BULTO","PRECIO UNIDAD","PRECIO BULTO","DESCUENTO","BULTOS","UND","TOTAL","INV. BULTOS"]
[null,2401010220126,"LC-VASEALM-295","305210044654","LOCION CORPORAL VASELINE ALMOND SMOOTH 295ML","01","6",2.48,{"$f":"H105*G105","v":14.879999999999999},null,null,{"$f":"+K105*G105","v":0},{"$f":"L105*H105*(1-J105)","v":0},{"$f":"IFERROR(VLOOKUP(B105,inventario!$B$2:$G$164,6,0),0)","v":0}]
[null,2401010220127,"LC-VASEALOE-295","305213091006","LOCION CORPORAL VASELINE ALOE SOOTHE 295ML","01","6",2.48,{"$f":"H106*G106","v":14.879999999999999},null,null,0,0,{"$f":"IFERROR(VLOOKUP(B106,inventario!$B$2:$G$164,6,0),0)","v":0}]
[null,2401010220128,"LC-VASECOCOA-295","305210134416","LOCION CORPORAL VASELINE COCOA RADIANT 295ML","01","6",2.48,14.879999999999999,null,null,0,0,{"$f":"IFERROR(VLOOKUP(B107,inventario!$B$2:$G$164,6,0),0)","v":0}]
[null,2401010300166,"PJ-VASEPUR-100","305210541344","VASELINA VASELINE PURE ORIGINAL 100G","01","72",2.1,151.20000000000002,null,null,0,0,{"$f":"IFERROR(VLOOKUP(B108,inventario!$B$2:$G$164,6,0),0)","v":0}]
[null,2401010300167,"PJ-VASEPUR-50","305210541412","VASELINA VASELINE PURE ORIGINAL 50G","01","72",1.4,100.8,null,null,0,0,{"$f":"IFERROR(VLOOKUP(B109,inventario!$B$2:$G$164,6,0),0)","v":0}]
[]
[]
[null,"LINEABATERIAS"]
[null,"CODIGO","MODELO","CODIGO UPC","DESCRIPCION","UNID PAQ","UNID BULTO","PRECIO UNIDAD","PRECIO BULTO","DESCUENTO","BULTOS","UND","TOTAL","INV. BULTOS"]
[null,702010290156,"PIL-EGZR-AAAX2","039800014009","ENERGIZER MAX AAAx2 - BATERIA ALKALINA ","02","24",1.1599999999999999,{"$f":"+H114*G114","v":27.839999999999996},null,null,{"$f":"+K114*G114","v":0},0,{"$f":"IFERROR(VLOOKUP(B114,inventario!$B$2:$G$164,6,0),0)","v":109}]
[null,702010290157,"PIL-EGZR-AAAX4","039800099099","ENERGIZER MAX AAAx4 - BATERIA ALKALINA  ","04","24",2.02,48.480000000000004,null,null,0,0,{"$f":"IFERROR(VLOOKUP(B115,inventario!$B$2:$G$164,6,0),0)","v":0}]
[null,702010290158,"PIL-EGZR-AAX2","039800015464","ENERGIZER MAX AAx2 - BATERIA ALKALINA  ","02","24",1.1599999999999999,27.839999999999996,null,null,0,0,{"$f":"IFERROR(VLOOKUP(B116,inventario!$B$2:$G$164,6,0),0)","v":126}]
[null,702010290159,"PIL-EGZR-AAX4","039800011329","ENERGIZER MAX AAx4 - BATERIA ALKALINA    ","04","24",2.02,48.480000000000004,null,null,0,0,{"$f":"IFERROR(VLOOKUP(B117,inventario!$B$2:$G$164,6,0),0)","v":0}]
[null,702010290160,"PIL-EGZR-CX2","039800011367","ENERGIZER MAX Cx2 - BATERIA ALKALINA    ","02","12",2.2999999999999998,27.599999999999998,null,null,0,{"$f":"L118*H118*(1-J118)","v":0},{"$f":"IFERROR(VLOOKUP(B118,inventario!$B$2:$G$164,6,0),0)","v":0}]
[null,702010290161,"PIL-EGZR-DX2","039800011398","ENERGIZER MAX Dx2 - BATERIA ALKALINA   ","02","12",3.65,43.8,null,null,0,0,{"$f":"IFERROR(VLOOKUP(B119,inventario!$B$2:$G$164,6,0),0)","v":1}]
[null,702010290154,"PIL-EGZR-9V","039800013613","ENERGIZER MAX 9V - BATERIA ALKALINA       ","01","24",1.57,37.68,null,null,0,0,{"$f":"IFERROR(VLOOKUP(B120,inventario!$B$2:$G$164,6,0),0)","v":330}]
[null,702010290155,"PIL-EGZR-A23X2","39800110091","ENERGIZER A23X2 BATERIA ALKALINA MINI ","2","72",1.17,{"$f":"+H121*G121","v":84.24},null,null,0,0,{"$f":"IFERROR(VLOOKUP(B121,inventario!$B$2:$G$164,6,0),0)","v":0}]
[null,802010290162,"PIL-EVR-AAAX4","39800040015","PILA EVEREADY AAAX4 ","4","24",0.8,{"$f":"+H122*G122","v":19.200000000000003},null,null,{"$f":"+K122*G122","v":0},{"$f":"L122*H122*(1-J122)","v":0},{"$f":"IFERROR(VLOOKUP(B122,inventario!$B$2:$G$164,6,0),0)","v":0}]
[null,802010290163,"PIL-EVR-AAX4","39800040008","PILA EVEREADY AAX4 ","4","24",0.8,19.200000000000003,null,null,0,0,{"$f":"IFERROR(VLOOKUP(B123,inventario!$B$2:$G$164,6,0),0)","v":32}]
[null,802010290164,"PIL-EVR-CX2","39800059154","PILA EVEREADY CX2 ","2","12",0.97,11.64,0.1,null,0,0,{"$f":"IFERROR(VLOOKUP(B124,inventario!$B$2:$G$164,6,0),0)","v":335.91666700000002}]
[null,802010290165,"PIL-EVR-DX2","39800059352","PILA EVEREADY DX2 ","2","12",1.59,19.080000000000002,0.1,null,0,0,{"$f":"IFERROR(VLOOKUP(B125,inventario!$B$2:$G$164,6,0),0)","v":281}]
[null,702010230130,"N/A","8888021302974","ENERGIZER LINTERNA 50 LED + AAAX6 ","1",4,3.5,{"$f":"+H126*G126","v":14},null,null,null,null,{"$f":"IFERROR(VLOOKUP(B126,inventario!$B$2:$G$164,6,0),0)","v":1585}]
[]
[null,"LINEA ALIMENTOS "]
[null,"CODIGO","MODELO","CODIGO UPC","DESCRIPCION","UNID PAQ","UNID BULTO","PRECIO UNIDAD","PRECIO BULTO","DESCUENTO","BULTOS","UND","TOTAL","INV. BULTOS"]
[null,1003010110045,"CUB-KNORRPOL-8",8886467068768,"Cubito Knorr de Pollo Deshidratado 8un ","01",144,0.8,{"$f":"+H130*G130","v":115.2},null,null,{"$f":"+K130*G130","v":0},{"$f":"L130*H130*(1-J130)","v":0},{"$f":"IFERROR(VLOOKUP(B130,inventario!$B$2:$G$164,6,0),0)","v":8785}]
[null,1003010110043,"CUB-KNORRPOL-12",8886467068751,"Cubito Knorr de Pollo Deshidratado 12un ","01",96,0.99,{"$f":"+H131*G131","v":95.039999999999992},null,null,0,0,{"$f":"IFERROR(VLOOKUP(B131,inventario!$B$2:$G$164,6,0),0)","v":9068}]
[null,1003010110044,"CUB-KNORRPOL-120",8886467068157,"Cubito Knorr de Pollo Deshidratado 120un ","01",12,11.95,143.39999999999998,null,null,0,0,{"$f":"IFERROR(VLOOKUP(B132,inventario!$B$2:$G$164,6,0),0)","v":3081}]
[null,1003010110223,"CUB-KNORRCAR-8",8886467052651,"CUBITO KNORR DE CARNE DESHIDRATADO 8UN ","01",144,0.85,122.39999999999999,null,null,0,0,{"$f":"IFERROR(VLOOKUP(B133,inventario!$B$2:$G$164,6,0),0)","v":682}]
[null,1003010110222,"CUB-KNORRCAR-12",8886467052644,"CUBITO KNORR DE CARNE DESHIDRATADO 12UN ","01",96,1.06,101.76,null,null,0,0,{"$f":"IFERROR(VLOOKUP(B134,inventario!$B$2:$G$164,6,0),0)","v":735}]
[null,1003010110225,"CUB-KNORRCOS-8",8886467052682,"CUBITO KNORR DE COSTILLA DESHIDRATADO 8UN ","01",144,0.85,122.39999999999999,null,null,0,0,{"$f":"IFERROR(VLOOKUP(B135,inventario!$B$2:$G$164,6,0),0)","v":664}]
[null,1003010110224,"CUB-KNORRCOS-12",8886467052675,"CUBITO KNORR DE COSTILLA DESHIDRATADO 12UN ","01",96,1.06,101.76,null,null,0,0,{"$f":"IFERROR(VLOOKUP(B136,inventario!$B$2:$G$164,6,0),0)","v":726}]
[null,1003020250133,"NOO-KNORPOL-75",8886467052033,"KNORR NOODLES POLLO 75G  ","01",30,0.28000000000000003,{"$f":"H137*G137","v":8.4},null,null,0,0,{"$f":"IFERROR(VLOOKUP(B137,inventario!$B$2:$G$164,6,0),0)","v":77}]
[null,1003020250132,"NOO-KNORCAR-75",8886467052040,"KNORR NOODLES CARNE 75G  ","01",30,0.24,{"$f":"H138*G138","v":7.1999999999999993},null,null,0,0,{"$f":"IFERROR(VLOOKUP(B138,inventario!$B$2:$G$164,6,0),0)","v":4161}]
[null,1003030380226,"SOP-KNORRPOL-60",8886467052798,"SOPA INSTANTANEA DE POLLO 72X60GR ","01",72,0.45,{"$f":"H139*G139","v":32.4},null,null,{"$f":"+K139*G139","v":0},{"$f":"L139*H139*(1-J139)","v":0},{"$f":"IFERROR(VLOOKUP(B139,inventario!$B$2:$G$164,6,0),0)","v":3156}]
[null,1003030380227,"SOP-KNORRVEG-60",8886467052811,"SOPA INSTANTANEA DE VEGETALES 72X60GR ","01",72,0.45,32.4,null,null,0,0,{"$f":"IFERROR(VLOOKUP(B140,inventario!$B$2:$G$164,6,0),0)","v":1480}]
[null,1003030390228,"CRE-KNORRPOL-60",8886467052828,"CREMA DE POLLO 72X60GR ","01",72,0.5,36,null,null,0,0,{"$f":"IFERROR(VLOOKUP(B141,inventario!$B$2:$G$164,6,0),0)","v":2187}]
[null,1003030390229,"CRE-KNORRCHA-60",8886467052835,"CREMA DE CHAMPIÑONES 72X60GR ","01",72,0.5,36,null,null,0,0,{"$f":"IFERROR(VLOOKUP(B142,inventario!$B$2:$G$164,6,0),0)","v":1421}]
[null,1003030390230,"CRE-KNORRMAIZ-60",8886467052859,"CREMA DE MAÍZ 72X60GR ","01",72,0.5,36,null,null,0,0,{"$f":"IFERROR(VLOOKUP(B143,inventario!$B$2:$G$164,6,0),0)","v":1525}]
[null,1003030390231,"CRE-KNORRCAM-60",8886467052866,"CREMA DE CAMARONES 72X60GR ","01",72,0.5,36,null,null,0,0,{"$f":"IFERROR(VLOOKUP(B144,inventario!$B$2:$G$164,6,0),0)","v":1580}]
[null,1003040400232,"SAZ-KNORRTODO-200",8886467052781,"SAZONADOR 48X200GR ","01",48,1.83,87.84,null,null,0,0,{"$f":"IFERROR(VLOOKUP(B145,inventario!$B$2:$G$164,6,0),0)","v":1653}]
[null,1006010410235,null,725765285515,"KNORR PROMO 2 SOPAS 60G + 1 CUBITO 12 UND  (PROMO)","01",36,1.39,50.04,null,null,{"$f":"+K146*G146","v":0},{"$f":"L146*H146*(1-J146)","v":0},{"$f":"IFERROR(VLOOKUP(B146,inventario!$B$2:$G$164,6,0),0)","v":0}]
[null,1006010410236,null,725765285508,"KNORR PROMO 1 SOPA 60G + 2 CUBITOS 8UND  (PROMO)","01",36,1.39,50.04,null,null,0,0,{"$f":"IFERROR(VLOOKUP(B147,inventario!$B$2:$G$164,6,0),0)","v":12}]
[null,1006010410237,null,725765285539,"KNORR PROMO 1 SAZONADOR 200 G + (1 NOODLES MUESTRA GRATIS) ","01",24,1.83,43.92,null,null,0,0,{"$f":"IFERROR(VLOOKUP(B148,inventario!$B$2:$G$164,6,0),0)","v":3}]
[null,1006010410238,null,725765285522,"KNORR PROMO 1 CUBITO 12 UND + (1 NOODLES MUESTRA GRATIS) ","01",36,0.99,35.64,null,null,0,0,{"$f":"IFERROR(VLOOKUP(B149,inventario!$B$2:$G$164,6,0),0)","v":33}]
[]
[]
[null,"UNILEVER"]
[null,"CUIDADOCORPORAL"]
[null,"DESODORANTES REXONA"]
[null,"CODIGO","MODELO","CODIGO UPC","DESCRIPCION","UNID PAQ","UNID BULTO","PRECIO UNIDAD","PRECIO BULTO","DESCUENTO","BULTOS","UND","TOTAL","INV. BULTOS"]
[null,1901020130081,"DEO-REXV8-A150",7791293022567,"DESODORANTE SPRAY REXONA V8 90GR","01",12,2.5,{"$f":"+H156*G156","v":30},null,null,{"$f":"+K156*G156","v":0},0,{"$f":"IFERROR(VLOOKUP(B156,inventario!$B$2:$G$164,6,0),0)","v":102}]
[null,1901020030083,"DEO-REXV8-S50","0000075024956","DESODORANTE BARRA REXONA V8 50GR","01",12,2.0099999999999998,{"$f":"+H157*G157","v":24.119999999999997},null,null,0,0,{"$f":"IFERROR(VLOOKUP(B157,inventario!$B$2:$G$164,6,0),0)","v":522}]
[null,1901020140082,"DEO-REXV8-R50","0000078923454","DESODORANTE ROLLON REXONA DEOS V8 50 ML ","01",12,1.1100000000000001,13.32,null,null,0,0,{"$f":"IFERROR(VLOOKUP(B158,inventario!$B$2:$G$164,6,0),0)","v":185}]
[null,1901020130077,"DEO-REXSPFAN-A150",7791293022543,"DESODORANTE SPRAY REXONA SPORTFAN 90GR","01",12,2.5,30,null,null,0,0,{"$f":"IFERROR(VLOOKUP(B159,inventario!$B$2:$G$164,6,0),0)","v":133}]
[null,1901020030079,"DEO-REXSPFAN-S50","0000075026608","DESODORANTE REXONA DEOS STICK SPORTFAN 50 GR","01",12,1.92,23.04,null,null,0,0,{"$f":"IFERROR(VLOOKUP(B160,inventario!$B$2:$G$164,6,0),0)","v":0}]
[null,1901020140078,"DEO-REXSPFAN-R50","0000078924895","DESODORANTE ROLLON REXONA SPORT FAN 50ML","01",12,1.02,12.24,null,null,0,0,{"$f":"IFERROR(VLOOKUP(B161,inventario!$B$2:$G$164,6,0),0)","v":0}]
[null,1901020130074,"DEO-REXMAB-A150",7506306244184,"DESODORANTE REXONA MEN AEROSOL ANTIBACTERIAL INVISIBLE 150 ML","01",12,2.5,30,null,null,0,0,{"$f":"IFERROR(VLOOKUP(B162,inventario!$B$2:$G$164,6,0),0)","v":123}]
[null,1901020030076,"DEO-REXMAB-S50","0000075058838","DESODORANTE REXONA MEN DEOS STICK ANTIBACTERIAL INVISIBLE 50 GR","01",12,2.0099999999999998,24.119999999999997,null,null,0,0,{"$f":"IFERROR(VLOOKUP(B163,inventario!$B$2:$G$164,6,0),0)","v":0}]
[null,1901020140075,"DEO-REXMAB-R50","000075058852","DESODORANTE REXONA DEO ROLLON ANTIBACTERIAL INVISIBLE 50 ML","01",12,1.1100000000000001,13.32,null,null,0,0,{"$f":"IFERROR(VLOOKUP(B164,inventario!$B$2:$G$164,6,0),0)","v":0}]
[null,1901020130070,"DEO-REXBAMB-A150",7791293036069,"DESODORANTE SPRAY REXONA WOMEN BAMBOO & ALOE VERA 150 ML","01",12,2.5,30,null,null,0,0,{"$f":"IFERROR(VLOOKUP(B165,inventario!$B$2:$G$164,6,0),0)","v":321}]
[null,1901020130071,"DEO-REXCOTT-A150",7791293032467,"DESODORANTE REXONA AEROSOL COTTON DRY 150ML","01",12,2.5,30,null,null,0,0,{"$f":"IFERROR(VLOOKUP(B166,inventario!$B$2:$G$164,6,0),0)","v":741}]
[null,1901020030072,"DEO-REXCOTT-S50","0000078084117","DESODORANTE REXONA DEOS STICK COTTON 50 GR.","01",12,2.0099999999999998,24.119999999999997,null,null,0,0,{"$f":"IFERROR(VLOOKUP(B167,inventario!$B$2:$G$164,6,0),0)","v":723}]
[null,1901020130073,"DEO-REXEFFI-A153",7791293033471,"DESODORANTE REXONA AEROSOL EFFICIENT 153ML","01",12,2.5,30,null,null,0,0,{"$f":"IFERROR(VLOOKUP(B168,inventario!$B$2:$G$164,6,0),0)","v":0}]
[null,"1901020130199","DEO-REXPERFECT-A150",7506306206625,"REXONA DEO AER PERFECT TONE 12X90GR/150ML ","01",12,2.5,30,null,null,{"$f":"+K169*G169","v":0},{"$f":"L169*H169*(1-J169)","v":0},{"$f":"IFERROR(VLOOKUP(B169,inventario!$B$2:$G$164,6,0),0)","v":0}]
[null,"1901020140200","DEO-REXPERFECT-R50",75062804,"REXONA DEO ROLLON PERFECT TONE 12X50ML ","01",12,1.1100000000000001,13.32,null,null,0,0,{"$f":"IFERROR(VLOOKUP(B170,inventario!$B$2:$G$164,6,0),0)","v":0}]
[null,"1901020030201","DEO-REXPERFECT-S45",75062798,"REXONA DEO STICK PERFECT TONE 12X45GR","01",12,2.0099999999999998,24.119999999999997,null,null,0,0,{"$f":"IFERROR(VLOOKUP(B171,inventario!$B$2:$G$164,6,0),0)","v":0}]
[null,1901020130080,"DEO-REXV8-2PK",7702006200981,"REXONA DEO AER BIPACK V8 6X2X90GR/150ML ","2",6,4.07,{"$f":"H172*G172","v":24.42},null,null,{"$f":"+K172*G172","v":0},{"$f":"L172*H172*(1-J172)","v":0},{"$f":"IFERROR(VLOOKUP(B172,inventario!$B$2:$G$164,6,0),0)","v":124}]
[null,1901020130069,"DEO-REXBAMB-2PK",7702006200998,"REXONA DEO AER BIPACK BAMB AL VERA 6X2X90GR/150ML ","2",6,4.07,{"$f":"H173*G173","v":24.42},null,null,0,{"$f":"L173*H173*(1-J173)","v":0},{"$f":"IFERROR(VLOOKUP(B173,inventario!$B$2:$G$164,6,0),0)","v":115}]
[null,1901020030194,"DEO-REXBAMB-S50",78004498,"REXONA DEO STICK BAMBOO 12X50GR ",1,12,2.0099999999999998,{"$f":"H174*G174","v":24.119999999999997},null,null,{"$f":"+K174*G174","v":0},{"$f":"L174*H174*(1-J174)","v":0},{"$f":"IFERROR(VLOOKUP(B174,inventario!$B$2:$G$164,6,0),0)","v":239}]
[null,1901020130198,"DEO-REXEFFIDEL-A210",7791293042091,"REXONA DEO AER AP EFFI DELICATE 12X210ML","01",12,2.94,{"$f":"+H175*G175","v":35.28},null,null,{"$f":"+K175*G175","v":0},{"$f":"L175*H175*(1-J175)","v":0},{"$f":"IFERROR(VLOOKUP(B175,inventario!$B$2:$G$164,6,0),0)","v":78}]
[null,1901020140233,"N/A",78924345,"REXONA DEO ROLLON BAMBOO 12X50ML ","01",12,1.1100000000000001,13.32,null,null,null,null,{"$f":"IFERROR(VLOOKUP(B176,inventario!$B$2:$G$164,6,0),0)","v":215}]
[null,1901020130221,"N/A",7791293042114,"REXONA DEO AER AP EFFI ORIGINAL 12X210ML ","01",12,2.94,35.28,null,null,null,null,{"$f":"IFERROR(VLOOKUP(B177,inventario!$B$2:$G$164,6,0),0)","v":218}]
[]
[]
[null,"DESODORANTES DOVE"]
[null,"CODIGO","MODELO","CODIGO UPC","DESCRIPCION","UNID PAQ","UNID BULTO","PRECIO UNIDAD","PRECIO BULTO","DESCUENTO","BULTOS","UND","TOTAL","INV. BULTOS"]
[null,601020130062,"DEO-DOVMINV-A150",7791293022819,"DESODORANTE DOVE AEROSOL MEN INVISIBLE DRY 150ML","01",12,2.74,32.880000000000003,null,null,0,0,{"$f":"IFERROR(VLOOKUP(B182,inventario!$B$2:$G$164,6,0),0)","v":143}]
[null,601020030063,"DEO-DOVMINV-S50",75046224,"DESODORANTE DOVE BARRA MEN INVISIBLE DRY 50GR","01",12,2.21,26.52,null,null,0,0,{"$f":"IFERROR(VLOOKUP(B183,inventario!$B$2:$G$164,6,0),0)","v":0}]
[null,601020130065,"DEO-DOVORG-A150",7506306241183,"DESODORANTE DOVE AEROSOL DAMA ORIGINAL 150 ML","01",12,2.74,32.880000000000003,null,null,0,0,{"$f":"IFERROR(VLOOKUP(B184,inventario!$B$2:$G$164,6,0),0)","v":905}]
[null,601020030067,"DEO-DOVORG-S50","000075027513","DESODORANTE DOVE BARRA ORIGINAL 50 ML","01",12,2.21,26.52,null,null,0,0,{"$f":"IFERROR(VLOOKUP(B185,inventario!$B$2:$G$164,6,0),0)","v":0}]
[null,601020140066,"DEO-DOVORG-R50","0000078924468","DESODORANTE DOVE ROLLON DAMA ORIGINAL 50ML","01",12,1.26,15.120000000000001,null,null,0,0,{"$f":"IFERROR(VLOOKUP(B186,inventario!$B$2:$G$164,6,0),0)","v":0}]
[null,601020130059,"DEO-DOVDERM-A150",7506306241152,"DESODORANTE DOVE AEROSOL DAMA DERMOACLARANTE 150 ML","01",12,2.74,32.880000000000003,null,null,0,0,{"$f":"IFERROR(VLOOKUP(B187,inventario!$B$2:$G$164,6,0),0)","v":277}]
[null,601020030061,"DEO-DOVDERM-S50","0000075034238","DOVE DEO STICK DERMO ACLARANT 12X50G","01",12,2.21,26.52,null,null,{"$f":"+K188*G188","v":0},0,{"$f":"IFERROR(VLOOKUP(B188,inventario!$B$2:$G$164,6,0),0)","v":654}]
[null,601020140060,"DEO-DOVDERM-R50","0000078928503","DESODORANTE DOVE ROLLON DAMA DERMOACLARANTE 50 ML","01",12,1.26,15.120000000000001,null,null,0,0,{"$f":"IFERROR(VLOOKUP(B189,inventario!$B$2:$G$164,6,0),0)","v":383}]
[null,601020130064,"DEO-DOVORG-2PK",7702006201032,"DOVE DEO WOMEN AER ORIGINAL BIPACK 6X2X89GR/150ML ","2",6,4.5199999999999996,{"$f":"H190*G190","v":27.119999999999997},null,null,{"$f":"+K190*G190","v":0},{"$f":"L190*H190*(1-J190)","v":0},{"$f":"IFERROR(VLOOKUP(C190,inventario!$D$2:$G$164,4,0),0)","v":119}]
[]
[]
[null,"ROSTRO"]
[null,"CODIGO","MODELO","CODIGO UPC","DESCRIPCION","UNID PAQ","UNID BULTO","PRECIO UNIDAD","PRECIO BULTO","DESCUENTO","BULTOS","UND","TOTAL","INV. BULTOS"]
[null,1801040060022,"CF-PONDBIO-100",{"$f":"VLOOKUP(C195,[2]Hoja1!$G$27:$H$42,2,0)","v":7501056330330},"PONDS CR BIOHIDRATANTE 24X100G  ","01",24,2.61,62.64,null,null,0,0,{"$f":"IFERROR(VLOOKUP(B195,inventario!$B$2:$G$164,6,0),0)","v":418}]
[null,1801040060023,"CF-PONDBIO-50",{"$f":"VLOOKUP(C196,[2]Hoja1!$G$27:$H$42,2,0)","v":7501056330323},"PONDS CR BIOHIDRATANTE 24X50G   ","01",24,1.41,33.839999999999996,null,null,0,0,{"$f":"IFERROR(VLOOKUP(B196,inventario!$B$2:$G$164,6,0),0)","v":528}]
[null,1801040070024,"CF-PONDC-45",{"$f":"VLOOKUP(C197,[2]Hoja1!$G$27:$H$42,2,0)","v":7501056325169},"PONDS CR C ORIGINAL 24X45G","01",24,0.87,20.88,null,null,0,0,{"$f":"IFERROR(VLOOKUP(B197,inventario!$B$2:$G$164,6,0),0)","v":412}]
[null,1801040070025,"CF-PONDC-95",{"$f":"VLOOKUP(C198,[2]Hoja1!$G$27:$H$42,2,0)","v":7501056325176},"PONDS CR C ORIGINAL 24X95G  ","01",24,1.41,33.839999999999996,null,null,0,{"$f":"L198*H198*(1-J198)","v":0},{"$f":"IFERROR(VLOOKUP(B198,inventario!$B$2:$G$164,6,0),0)","v":516}]
[null,1801040070026,"CF-PONDC-SCH10",{"$f":"VLOOKUP(C199,[2]Hoja1!$G$27:$H$42,2,0)","v":7702006201827},"PONDS CR C ORIGINAL DPL 12X10X10G  ","01",120,0.25,30,null,null,0,0,{"$f":"IFERROR(VLOOKUP(B199,inventario!$B$2:$G$164,6,0),0)","v":0}]
[null,1801040080027,"CF-PONDCLAR-100",7501056330309,"PONDS CR CLARANT B3 GRASA 24X100G","01",24,3,72,null,null,0,0,{"$f":"IFERROR(VLOOKUP(B200,inventario!$B$2:$G$164,6,0),0)","v":177}]
[null,1801040080028,"CF-PONDCLAR-50",7501056330293,"PONDS CR CLARANT B3 GRASA 24X50G","01",24,1.94,46.56,null,null,0,0,{"$f":"IFERROR(VLOOKUP(B201,inventario!$B$2:$G$164,6,0),0)","v":45}]
[null,1801040070029,"CF-PONDCPEP-100",{"$f":"VLOOKUP(C202,[2]Hoja1!$G$27:$H$42,2,0)","v":7501056324889},"PONDS CR C PEPINO 24X100G   ","01",24,1.41,33.839999999999996,null,null,0,0,{"$f":"IFERROR(VLOOKUP(B202,inventario!$B$2:$G$164,6,0),0)","v":37}]
[null,1801040060030,"CF-PONDH-100",7501056325398,"PONDS CR H 24X100G","01",24,2.2599999999999998,54.239999999999995,null,null,0,0,{"$f":"IFERROR(VLOOKUP(B203,inventario!$B$2:$G$164,6,0),0)","v":206}]
[null,1801040060031,"CF-PONDH-50",7501056325381,"PONDS CR H 24X50G","01",24,1.35,32.400000000000006,null,null,0,0,{"$f":"IFERROR(VLOOKUP(B204,inventario!$B$2:$G$164,6,0),0)","v":0}]
[null,1801040090033,"CF-PONDREJ-100",7501056330491,"PONDS CR REJUVENESS DIA 24X100G","01",24,2.88,69.12,null,null,0,0,{"$f":"IFERROR(VLOOKUP(B205,inventario!$B$2:$G$164,6,0),0)","v":324}]
[null,1801040090034,"CF-PONDREJ-50",7501056330484,"PONDS CR REJUVENESS  24X50G","01",24,1.87,44.88,null,null,0,0,{"$f":"IFERROR(VLOOKUP(B206,inventario!$B$2:$G$164,6,0),0)","v":99}]
[null,1801040090035,"CF-PONDREJ-SCH10",{"$f":"VLOOKUP(C207,[2]Hoja1!$G$27:$H$42,2,0)","v":7702006920742},"PONDS CR REJUVENESS SCH 12X10X10G   ","01",120,0.53,63.6,null,null,0,0,{"$f":"IFERROR(VLOOKUP(B207,inventario!$B$2:$G$164,6,0),0)","v":0}]
[null,1801040060036,"CF-PONDS-100",7501056326142,"PONDS CR S HUMECTANTE NUTRITIVA 24X100G","01",24,2.5299999999999998,60.72,null,null,0,0,{"$f":"IFERROR(VLOOKUP(B208,inventario!$B$2:$G$164,6,0),0)","v":94}]
[null,1801040060037,"CF-PONDS-50",7501056325442,"PONDS CR S HUMECTANTE NUTRITIVA 24X50G","01",24,1.41,33.839999999999996,null,null,0,0,{"$f":"IFERROR(VLOOKUP(B209,inventario!$B$2:$G$164,6,0),0)","v":318}]
[null,1801040060038,"CF-PONDS-SCH10",{"$f":"VLOOKUP(C210,[2]Hoja1!$G$27:$H$42,2,0)","v":7702006920612},"PONDS CR S SCH 12X10X10G","01",120,0.35,42,null,null,0,0,{"$f":"IFERROR(VLOOKUP(B210,inventario!$B$2:$G$164,6,0),0)","v":0}]
[null,1801040080196,"CF-PONDCLARS-100",7501056330262,"PONDS CR CLARANT B3 SECA 24X100G","01",24,3,72,null,null,0,0,{"$f":"IFERROR(VLOOKUP(B211,inventario!$B$2:$G$164,6,0),0)","v":208}]
[null,1801040080217,"CF-PONDCLARS-SCH8",null,"PONDS CR CLARA B3 P SECA DPL 12X10X8.5G","01",120,0.42,50.4,null,null,0,0,{"$f":"IFERROR(VLOOKUP(B212,inventario!$B$2:$G$164,6,0),0)","v":0}]
[null,1801040080216,"N/A",7501056330255,"PONDS CR CLARANT B3 SECA 24X50G ","1",24,1.94,46.56,null,null,{"$f":"+K213*G213","v":0},{"$f":"L213*H213*(1-J213)","v":0},{"$f":"IFERROR(VLOOKUP(B213,inventario!$B$2:$G$164,6,0),0)","v":141}]
[]
[]
[null,"LIMPIEZA DE LA PIEL DOVE"]
[null,"CODIGO","MODELO","CODIGO UPC","DESCRIPCION","UNID PAQ","UNID BULTO","PRECIO UNIDAD","PRECIO BULTO","DESCUENTO","BULTOS","UND","TOTAL","INV. BULTOS"]
[null,601050180095,"JB-DOVVAN-90",7891150019560,"JABON EN BARRA DOVE KARITE Y VAINILLA 90GR","01",48,0.68,32.64,null,null,0,0,{"$f":"IFERROR(VLOOKUP(B218,inventario!$B$2:$G$164,6,0),0)","v":1248}]
[null,601050180094,"JB-DOVORG-90",7898422746759,"JABON EN BARRA DOVE ORIGINAL 90GR","01",48,0.68,32.64,null,null,0,0,{"$f":"IFERROR(VLOOKUP(B219,inventario!$B$2:$G$164,6,0),0)","v":1142}]
[null,601050180093,"JB-DOVCOCO-90",7891150034075,"JABON EN BARRA DOVE LECHE DE COCO 90GR","01",48,0.68,32.64,null,null,0,0,{"$f":"IFERROR(VLOOKUP(B220,inventario!$B$2:$G$164,6,0),0)","v":0}]
[]
[]
[null,"LIMPIEZA DE LA PIEL LUX"]
[null,"CODIGO","MODELO","CODIGO UPC","DESCRIPCION","UNID PAQ","UNID BULTO","PRECIO UNIDAD","PRECIO BULTO","DESCUENTO","BULTOS","UND","TOTAL","INV. BULTOS"]
[null,1201050180096,"JB-LUXJAZ-125",7702006205016,"JABON BARRA LUX JAZMIN 48X125G","01",48,0.5,24,null,null,0,0,{"$f":"IFERROR(VLOOKUP(B225,inventario!$B$2:$G$164,6,0),0)","v":246}]
[null,1201050180100,"JB-LUXROSA-125",7702006205009,"JABON BARRA LUX ROSAS FRANCESAS 48X125G","01",48,0.5,24,null,null,0,0,{"$f":"IFERROR(VLOOKUP(B226,inventario!$B$2:$G$164,6,0),0)","v":459}]
[null,1201050180102,"JB-LUXVAN-125",7702006205023,"JABON BARRA LUX VAINILLA 48X125G","01",48,0.5,{"$f":"+H227*G227","v":24},null,null,0,0,{"$f":"IFERROR(VLOOKUP(B227,inventario!$B$2:$G$164,6,0),0)","v":0}]
[null,1201050180098,"JB-LUXORQ-125",7702006205047,"JABON BARRA LUX ORQUIDEA NEGRA 48X125GR","01",48,0.5,24,null,null,0,0,{"$f":"IFERROR(VLOOKUP(B228,inventario!$B$2:$G$164,6,0),0)","v":0}]
[null,1201050180097,"JB-LUXJAZ-3PK","7702006205061","LUX JABON BARRA JAZMIN 16X3X125G ","03",16,1.34,{"$f":"H229*G229","v":21.44},null,null,{"$f":"+K229*G229","v":0},{"$f":"L229*H229*(1-J229)","v":0},{"$f":"IFERROR(VLOOKUP(B229,inventario!$B$2:$G$164,6,0),0)","v":483}]
[null,1201050180099,"JB-LUXROSA-3PK","770200205054","JABON BARRA LUX ROSAS FRANCESAS 16X3X125G ","03",16,1.34,{"$f":"H230*G230","v":21.44},null,null,{"$f":"+K230*G230","v":0},{"$f":"L230*H230*(1-J230)","v":0},{"$f":"IFERROR(VLOOKUP(B230,inventario!$B$2:$G$164,6,0),0)","v":407}]
[null,1201050180103,"JB-LUXVAN-3PK","7702006205075","JABON BARRA LUX VAINILLA 16X3X125G ","03",16,1.34,{"$f":"H231*G231","v":21.44},null,null,{"$f":"+K231*G231","v":0},{"$f":"L231*H231*(1-J231)","v":0},{"$f":"IFERROR(VLOOKUP(B231,inventario!$B$2:$G$164,6,0),0)","v":506}]
[null,1201050180101,"JB-LUXORQ-3PK","7702006205092","JABON BARRA LUX ORQUIDEA NEGRA 16X3X125G ","03",16,1.34,{"$f":"H232*G232","v":21.44},null,null,{"$f":"+K232*G232","v":0},{"$f":"L232*H232*(1-J232)","v":0},{"$f":"IFERROR(VLOOKUP(B232,inventario!$B$2:$G$164,6,0),0)","v":297}]
[]
[null,"LIMPIEZA DE LA PIEL REXONA"]
[null,"CODIGO","MODELO","CODIGO UPC","DESCRIPCION","UNID PAQ","UNID BULTO","PRECIO UNIDAD","PRECIO BULTO","DESCUENTO","BULTOS","UND","TOTAL","INV. BULTOS"]
[null,1901050180111,"JB-REXLIMP-120",7702006402194,"JABON BARRA REXONA ANTIB LIMPIEZA  48X120G","01",48,0.5,{"$f":"+H236*G236","v":24},null,null,0,0,{"$f":"IFERROR(VLOOKUP(B236,inventario!$B$2:$G$164,6,0),0)","v":275}]
[null,1901050180107,"JB-REXBAMB-120",7702006402200,"JABON BARRA REXONA ANTIB BAMBOO 48X120G","01",48,0.5,24,null,null,0,0,{"$f":"IFERROR(VLOOKUP(B237,inventario!$B$2:$G$164,6,0),0)","v":121}]
[null,1901050180105,"JB-REXAVE-120",7702006402231,"JABON BARRA REXONA ANTIB AVENA 48X120G","01",48,0.5,24,null,null,0,0,{"$f":"IFERROR(VLOOKUP(B238,inventario!$B$2:$G$164,6,0),0)","v":527}]
[null,1901050180109,"JB-REXFRESH-120",7702006402187,"JABON BARRA REXONA ANTIB FRESH 48X120G","01",48,0.5,{"$f":"+H239*G239","v":24},null,null,0,0,{"$f":"IFERROR(VLOOKUP(B239,inventario!$B$2:$G$164,6,0),0)","v":623}]
[null,1901050180106,"JB-REXAVE-3PK","7702006205405","REXONA JABON BARRA ANTIB AVENA 16X3X120G ","03",16,1.34,{"$f":"H240*G240","v":21.44},null,null,{"$f":"+K240*G240","v":0},{"$f":"L240*H240*(1-J240)","v":0},{"$f":"IFERROR(VLOOKUP(B240,inventario!$B$2:$G$164,6,0),0)","v":0}]
[null,1901050180112,"JB-REXLIMP-3PK","7702006205389","REXONA JABON BARRA ANTIB LIMPIEZA 16X3X120G ","03",16,1.34,{"$f":"H241*G241","v":21.44},null,null,{"$f":"+K241*G241","v":0},{"$f":"L241*H241*(1-J241)","v":0},{"$f":"IFERROR(VLOOKUP(B241,inventario!$B$2:$G$164,6,0),0)","v":204}]
[null,1901050180110,"JB-REXFRESH-3PK","7702006205375","REXONA JABON BARRA ANTIB FRESH 16X3X120G ","03",16,1.34,{"$f":"H242*G242","v":21.44},null,null,{"$f":"+K242*G242","v":0},{"$f":"L242*H242*(1-J242)","v":0},{"$f":"IFERROR(VLOOKUP(B242,inventario!$B$2:$G$164,6,0),0)","v":164}]
[null,1901050180108,"JB-REXBAMB-3PK","7702006205399","REXONA JABON BARRA ANTIB BAMBOO 16X3X120G ","03",16,1.34,{"$f":"H243*G243","v":21.44},null,null,{"$f":"+K243*G243","v":0},{"$f":"L243*H243*(1-J243)","v":0},{"$f":"IFERROR(VLOOKUP(B243,inventario!$B$2:$G$164,6,0),0)","v":325}]
[]
[null,"CABELLO DOVE"]
[null,"CODIGO","MODELO","CODIGO UPC","DESCRIPCION","UNID PAQ","UNID BULTO","PRECIO UNIDAD","PRECIO BULTO","DESCUENTO","BULTOS","UND","TOTAL","INV. BULTOS"]
[null,601030010001,"AC-DOVOLEO-400",7891150017337,"ACODICIONADOR DOVE OLEO NUTRICION 12X400ML","01",12,2.61,{"$f":"+H247*G247","v":31.32},null,null,{"$f":"+K247*G247","v":0},{"$f":"L247*H247*(1-J247)","v":0},{"$f":"IFERROR(VLOOKUP(B247,inventario!$B$2:$G$164,6,0),0)","v":821}]
[null,601030010002,"AC-DOVRECON-400",7791293004976,"ACODICIONADOR DOVE RECONSTRUCION COMPLETA 12X400ML","01",12,2.61,{"$f":"+H248*G248","v":31.32},null,null,{"$f":"+K248*G248","v":0},{"$f":"L248*H248*(1-J248)","v":0},{"$f":"IFERROR(VLOOKUP(B248,inventario!$B$2:$G$164,6,0),0)","v":1045}]
[null,601030340173,"SH-DOVOLEO-400",7891150017368,"SHAMPOO DOVE OLEO NUTRICION 12X400ML","01",12,2.61,{"$f":"+H249*G249","v":31.32},null,null,{"$f":"+K249*G249","v":0},{"$f":"L249*H249*(1-J249)","v":0},{"$f":"IFERROR(VLOOKUP(B249,inventario!$B$2:$G$164,6,0),0)","v":0}]
[null,601030340174,"SH-DOVRECON-400",7791293005010,"SHAMPOO DOVE RECONSTRUCCION COMPLETA 12X400ML","01",12,2.61,{"$f":"+H250*G250","v":31.32},null,null,{"$f":"+K250*G250","v":0},{"$f":"L250*H250*(1-J250)","v":0},{"$f":"IFERROR(VLOOKUP(B250,inventario!$B$2:$G$164,6,0),0)","v":1122}]
[null,601030010218,"N/A",7891150058613,"DOVE BAÑO DE CREMA CONCENTRADO RECONS 6X300G ","1","06",2.83,{"$f":"+H251*G251","v":16.98},null,null,{"$f":"+K251*G251","v":0},{"$f":"L251*H251*(1-J251)","v":0},{"$f":"IFERROR(VLOOKUP(B251,inventario!$B$2:$G$164,6,0),0)","v":230}]
[]
[]
[null,"CABELLO SEDAL"]
[null,"CODIGO","MODELO","CODIGO UPC","DESCRIPCION","UNID PAQ","UNID BULTO","PRECIO UNIDAD","PRECIO BULTO","DESCUENTO","BULTOS","UND","TOTAL","INV. BULTOS"]
[null,2101030340177,"SH-SEDCERA-340",7506306237315,"SHAMPOO SEDAL CERAMIDAS 12X340ML","01",12,2.0499999999999998,24.599999999999998,null,null,0,0,{"$f":"IFERROR(VLOOKUP(B256,inventario!$B$2:$G$164,6,0),0)","v":82}]
[null,2101030340181,"SH-SEDRIZOS-340",7506306237421,"SHAMPOO SEDAL RIZOS DEFINIDOS 12X340ML","01",12,2.0499999999999998,24.599999999999998,null,null,0,0,{"$f":"IFERROR(VLOOKUP(B257,inventario!$B$2:$G$164,6,0),0)","v":900}]
[null,2101030100039,"CP-SEDCERA-300",{"$f":"VLOOKUP(C258,[2]Hoja1!$G$5:$H$81,2,0)","v":7501056340124},"CREMA DE PEINAR SEDAL PEIN CERAMIDAS VIVI 12X300ML","01",12,1.83,21.96,null,null,0,0,{"$f":"IFERROR(VLOOKUP(B258,inventario!$B$2:$G$164,6,0),0)","v":437}]
[null,2101030100040,"CP-SEDKERA-300",{"$f":"VLOOKUP(C259,[2]Hoja1!$G$5:$H$81,2,0)","v":7506306233249},"CREMA DE PEINAR SEDAL PEIN KERATINA C/ ANTIOX 12X300ML","01",12,1.83,21.96,null,null,0,0,{"$f":"IFERROR(VLOOKUP(B259,inventario!$B$2:$G$164,6,0),0)","v":109}]
[null,2101030100041,"CP-SEDRIZOS-300",{"$f":"VLOOKUP(C260,[2]Hoja1!$G$5:$H$81,2,0)","v":7501056340131},"CREMA DE PEINAR SEDAL PEIN RIZOS DEFINIDOS 12X300ML","01",12,1.83,21.96,null,null,0,0,{"$f":"IFERROR(VLOOKUP(B260,inventario!$B$2:$G$164,6,0),0)","v":418}]
[null,2101030340178,"SH-SEDDUO21-340",{"$f":"VLOOKUP(C261,[2]Hoja1!$G$5:$H$81,2,0)","v":7506306237889},"SHAMPOO SEDAL 2EN1 DUO 12X340ML ","01",12,2.0499999999999998,24.599999999999998,null,null,0,0,{"$f":"IFERROR(VLOOKUP(B261,inventario!$B$2:$G$164,6,0),0)","v":78}]
[null,2101030010003,"AC-SEDCERA-340",{"$f":"VLOOKUP(C262,[2]Hoja1!$G$5:$H$81,2,0)","v":7506306237902},"ACONDICIONADOR SEDAL CERAMIDAS 12X340ML ","01",12,2.0499999999999998,24.599999999999998,null,null,0,0,{"$f":"IFERROR(VLOOKUP(B262,inventario!$B$2:$G$164,6,0),0)","v":1087}]
[null,2101030010004,"AC-SEDKERA-340",{"$f":"VLOOKUP(C263,[2]Hoja1!$G$5:$H$81,2,0)","v":7506306237940},"ACONDICIONADOR SEDAL KERATINA C/ ANTIOX 12X340ML ","01",12,2.0499999999999998,24.599999999999998,null,null,0,0,{"$f":"IFERROR(VLOOKUP(B263,inventario!$B$2:$G$164,6,0),0)","v":862}]
[null,2101030340180,"SH-SEDKERA-340",7506306237339,"SEDAL SH KERATINA C/ ANTIOX 12X340ML ","01",12,2.0499999999999998,24.599999999999998,null,null,0,0,{"$f":"IFERROR(VLOOKUP(B264,inventario!$B$2:$G$164,6,0),0)","v":826}]
[null,2101030010005,"AC-SEDRIZOS-340",7506306237155,"SEDAL AC RIZOS DEFINIDOS 12X340ML ","01",12,2.0499999999999998,{"$f":"+H265*G265","v":24.599999999999998},null,null,0,0,{"$f":"IFERROR(VLOOKUP(B265,inventario!$B$2:$G$164,6,0),0)","v":702}]
[null,2101030340175,"SH-SEDCASP-340",750636237971,"SHAMPOO SEDAL CASPA CONTROL 12X340ML ","01",12,2.0499999999999998,{"$f":"H266*G266","v":24.599999999999998},null,null,{"$f":"+K266*G266","v":0},0,{"$f":"IFERROR(VLOOKUP(B266,inventario!$B$2:$G$164,6,0),0)","v":696}]
[null,2101030340176,"SH-SEDCERA-190",7506306237401,"SHAMPOO SEDAL CERAMIDAS 12X190ML     ",1,12,1.1399999999999999,{"$f":"H267*G267","v":13.68},null,null,{"$f":"+K267*G267","v":0},0,{"$f":"IFERROR(VLOOKUP(B267,inventario!$B$2:$G$164,6,0),0)","v":0}]
[null,2101030340179,"SH-SEDKERA-190",7506306237841,"SHAMPOO SEDAL KERATINA C/ANTIOX 12X190ML  ",1,12,1.1399999999999999,13.68,null,null,0,0,{"$f":"IFERROR(VLOOKUP(B268,inventario!$B$2:$G$164,6,0),0)","v":252}]
[null,2101030010195,"AC-SEDCERA-190",7506306237094,"ACONDICIONADOR SEDAL CERAMIDAS 12X190ML",1,12,1.1399999999999999,{"$f":"H269*G269","v":13.68},null,null,{"$f":"+K269*G269","v":0},{"$f":"L269*H269*(1-J269)","v":0},{"$f":"IFERROR(VLOOKUP(B269,inventario!$B$2:$G$164,6,0),0)","v":606}]
[null,2101030340234,"N/A",7506306237391,"SEDAL SHAMPOO RIZOS DEFINIDOS 12X190ML  ","1",12,1.1399999999999999,null,null,null,{"$f":"+K270*G270","v":0},{"$f":"L270*H270*(1-J270)","v":0},{"$f":"IFERROR(VLOOKUP(B270,inventario!$B$2:$G$164,6,0),0)","v":252}]
[]
[]
[null,"TALCOS REXONA"]
[null,"CODIGO","MODELO","CODIGO UPC","DESCRIPCION","UNID PAQ","UNID BULTO","PRECIO UNIDAD","PRECIO BULTO","DESCUENTO","BULTOS","UND","TOTAL","INV. BULTOS"]
[null,1901010040192,"TAL-REXEFFI-100",7791293035901,"REXONA EFFICIENT TAL ANTIB 12X100G ",1,12,1.49,17.88,null,null,0,0,{"$f":"IFERROR(VLOOKUP(B275,inventario!$B$2:$G$164,6,0),0)","v":0}]
[null,1901010040193,"TAL-REXEFFI-60",7702006202114,"REXONA EFFICIENT TAL ANTIBACTERIAL12X60G ",1,12,1.1100000000000001,13.32,null,null,{"$f":"+K276*G276","v":0},0,{"$f":"IFERROR(VLOOKUP(B276,inventario!$B$2:$G$164,6,0),0)","v":0}]
[]
[]
[]
[]
[null,null,null,null,null,null,null,null,null,null,"SUB TOTAL",{"$f":"SUM(L14:L276)","v":0},{"$f":"SUM(M14:M276)","v":0},{"$f":"SUM(N14:N276)","v":123875.625}]
[null,null,"PRECIOS NO INCLUYEN IVA",null,null,null,null,null,null,null,null,null,"IVA",{"$f":"+M281*0.16","v":0}]
[null,null,null,null,null,null,null,null,null,null,null,null,"TOTAL",{"$f":"+N282+M281","v":0}]
[null,null,"PARAPEDIDOSPORFAVORCONTACTARANUESTRODEPARTAMENTODEVENTAS:"]
[null,null,"EMAIL:VENTAS@DIMASSICORP.COM"]
[null,null,"TEL:0212-7503460/0212-7503461"]
[]
[]
[null,null,"AV.PRINCIPALCALLEBLANDINEDIFTORREDIGITELPISO12OFBURBLACASTELLANACARACAS(CHACAO)"]
[null,null,"CONTACTO:TEL:+58212-7503460/0212-7503461.EMAIL:VENTAS@DIMASSICORP.COM"]

{"sheet":"EXHIBIDORES","index":1,"n_rows":9,"n_cols":5,"rows_kept":9,"cut":false,"hidden":false,"merged":[[2,0,2,4]]}
[]
[]
["LINEA BATERIAS"]
["CODIGOPRODUCTO","DESCRIPCION","MARCA","ALMACEN","UNIDADES"]
["END-LG-4SV","Exhibidor Energizer PUNTA DE GONDOLA","ENERGIZER","PPAL",{"$f":"IFERROR(VLOOKUP(A5,inventario!$D$2:$G$164,4,0),0)","v":25}]
["CS-PLSTC","Exhibidor Energizer CS-PLSTC","ENERGIZER","PPAL",{"$f":"IFERROR(VLOOKUP(A6,inventario!$D$2:$G$164,4,0),0)","v":205}]
["POP-EN-MBHZ","Exhibidor Energizer MB-EX-HZ","ENERGIZER","PPAL",{"$f":"IFERROR(VLOOKUP(A7,inventario!$D$2:$G$164,4,0),0)","v":0}]
["POP-EN-SDKSM","Exhibidor Energizer SDK-SM","ENERGIZER","PPAL",{"$f":"IFERROR(VLOOKUP(A8,inventario!$D$2:$G$164,4,0),0)","v":0}]
["LIN-EGZR-AAAX6","LINTERNA ENERGIZER 50 LED + AAAX6","ENERGIZER","PPAL",{"$f":"IFERROR(VLOOKUP(A9,inventario!$D$2:$G$164,4,0),0)","v":1585}]

{"sheet":"marylin","index":2,"n_rows":277,"n_cols":5,"rows_kept":277,"cut":false,"hidden":true,"merged":[]}
["REFERENCIA","STOCK","PRECIO","DESCUENTO","DESCRIPCION"]
["ESM-MARYLIN",{"$f":"IFERROR(VLOOKUP($A2,#REF!,9,0),0)","v":0},0,{"$f":"IFERROR(VLOOKUP($A2,#REF!,8,0),0)*100","v":0},"MARYLIN ESMALTE TONOS VARIOS"]
["EU-MARY-1",{"$f":"IFERROR(VLOOKUP(A3,#REF!,9,0),0)","v":0},0,{"$f":"IFERROR(VLOOKUP($A3,#REF!,8,0),0)*100","v":0},"MARYLIN ESMALTE PROF TONO 1"]
["EU-MARY-100",{"$f":"IFERROR(VLOOKUP(A4,#REF!,9,0),0)","v":0},0,{"$f":"IFERROR(VLOOKUP($A4,#REF!,8,0),0)*100","v":0},"MARYLIN ESMALTE PROF TONO 100"]
["EU-MARY-101",{"$f":"IFERROR(VLOOKUP(A5,#REF!,9,0),0)","v":0},0,{"$f":"IFERROR(VLOOKUP($A5,#REF!,8,0),0)*100","v":0},"MARYLIN ESMALTE PROF TONO 101"]
["EU-MARY-102",{"$f":"IFERROR(VLOOKUP(A6,#REF!,9,0),0)","v":0},0,{"$f":"IFERROR(VLOOKUP($A6,#REF!,8,0),0)*100","v":0},"MARYLIN ESMALTE PROF TONO 102"]
["EU-MARY-103",{"$f":"IFERROR(VLOOKUP(A7,#REF!,9,0),0)","v":0},0,{"$f":"IFERROR(VLOOKUP($A7,#REF!,8,0),0)*100","v":0},"MARYLIN ESMALTE PROF TONO 103"]
["EU-MARY-104",{"$f":"IFERROR(VLOOKUP(A8,#REF!,9,0),0)","v":0},0,{"$f":"IFERROR(VLOOKUP($A8,#REF!,8,0),0)*100","v":0},"MARYLIN ESMALTE PROF TONO 104"]
["EU-MARY-108",{"$f":"IFERROR(VLOOKUP(A9,#REF!,9,0),0)","v":0},0,{"$f":"IFERROR(VLOOKUP($A9,#REF!,8,0),0)*100","v":0},"MARYLIN ESMALTE PROF TONO 108"]
["EU-MARY-109",{"$f":"IFERROR(VLOOKUP(A10,#REF!,9,0),0)","v":0},0,{"$f":"IFERROR(VLOOKUP($A10,#REF!,8,0),0)*100","v":0},"MARYLIN ESMALTE PROF TONO 109"]
["EU-MARY-110",{"$f":"IFERROR(VLOOKUP(A11,#REF!,9,0),0)","v":0},0,{"$f":"IFERROR(VLOOKUP($A11,#REF!,8,0),0)*100","v":0},"MARYLIN ESMALTE PROF TONO 110"]
["EU-MARY-115",{"$f":"IFERROR(VLOOKUP(A12,#REF!,9,0),0)","v":0},0,{"$f":"IFERROR(VLOOKUP($A12,#REF!,8,0),0)*100","v":0},"MARYLIN ESMALTE PROF TONO 115"]
["EU-MARY-116",{"$f":"IFERROR(VLOOKUP(A13,#REF!,9,0),0)","v":0},0,{"$f":"IFERROR(VLOOKUP($A13,#REF!,8,0),0)*100","v":0},"MARYLIN ESMALTE PROF TONO 116"]
["EU-MARY-117",{"$f":"IFERROR(VLOOKUP(A14,#REF!,9,0),0)","v":0},0,{"$f":"IFERROR(VLOOKUP($A14,#REF!,8,0),0)*100","v":0},"MARYLIN ESMALTE PROF TONO 117"]
["EU-MARY-118",{"$f":"IFERROR(VLOOKUP(A15,#REF!,9,0),0)","v":0},0,{"$f":"IFERROR(VLOOKUP($A15,#REF!,8,0),0)*100","v":0},"MARYLIN ESMALTE PROF TONO 118"]
["EU-MARY-119",{"$f":"IFERROR(VLOOKUP(A16,#REF!,9,0),0)","v":0},0,{"$f":"IFERROR(VLOOKUP($A16,#REF!,8,0),0)*100","v":0},"MARYLIN ESMALTE PROF TONO 119"]
["EU-MARY-12",{"$f":"IFERROR(VLOOKUP(A17,#REF!,9,0),0)","v":0},0,{"$f":"IFERROR(VLOOKUP($A17,#REF!,8,0),0)*100","v":0},"MARYLIN ESMALTE PROF TONO 12"]
["EU-MARY-120",{"$f":"IFERROR(VLOOKUP(A18,#REF!,9,0),0)","v":0},0,{"$f":"IFERROR(VLOOKUP($A18,#REF!,8,0),0)*100","v":0},"MARYLIN ESMALTE PROF TONO 120"]
["EU-MARY-123",{"$f":"IFERROR(VLOOKUP(A19,#REF!,9,0),0)","v":0},0,{"$f":"IFERROR(VLOOKUP($A19,#REF!,8,0),0)*100","v":0},"MARYLIN ESMALTE PROF TONO 123"]
["EU-MARY-126",{"$f":"IFERROR(VLOOKUP(A20,#REF!,9,0),0)","v":0},0,{"$f":"IFERROR(VLOOKUP($A20,#REF!,8,0),0)*100","v":0},"MARYLIN ESMALTE PROF TONO 126"]
["EU-MARY-13",{"$f":"IFERROR(VLOOKUP(A21,#REF!,9,0),0)","v":0},0,{"$f":"IFERROR(VLOOKUP($A21,#REF!,8,0),0)*100","v":0},"MARYLIN ESMALTE PROF TONO 13"]
["EU-MARY-132",{"$f":"IFERROR(VLOOKUP(A22,#REF!,9,0),0)","v":0},0,{"$f":"IFERROR(VLOOKUP($A22,#REF!,8,0),0)*100","v":0},"MARYLIN ESMALTE PROF TONO 132"]
["EU-MARY-135",{"$f":"IFERROR(VLOOKUP(A23,#REF!,9,0),0)","v":0},0,{"$f":"IFERROR(VLOOKUP($A23,#REF!,8,0),0)*100","v":0},"MARYLIN ESMALTE PROF TONO 135"]
["EU-MARY-136",{"$f":"IFERROR(VLOOKUP(A24,#REF!,9,0),0)","v":0},0,{"$f":"IFERROR(VLOOKUP($A24,#REF!,8,0),0)*100","v":0},"MARYLIN ESMALTE PROF TONO 136"]
["EU-MARY-14",{"$f":"IFERROR(VLOOKUP(A25,#REF!,9,0),0)","v":0},0,{"$f":"IFERROR(VLOOKUP($A25,#REF!,8,0),0)*100","v":0},"MARYLIN ESMALTE PROF TONO 14"]
["EU-MARY-150",{"$f":"IFERROR(VLOOKUP(A26,#REF!,9,0),0)","v":0},0,{"$f":"IFERROR(VLOOKUP($A26,#REF!,8,0),0)*100","v":0},"MARYLIN ESMALTE PROF TONO 150"]
["EU-MARY-153",{"$f":"IFERROR(VLOOKUP(A27,#REF!,9,0),0)","v":0},0,{"$f":"IFERROR(VLOOKUP($A27,#REF!,8,0),0)*100","v":0},"MARYLIN ESMALTE PROF TONO 153"]
["EU-MARY-156",{"$f":"IFERROR(VLOOKUP(A28,#REF!,9,0),0)","v":0},0,{"$f":"IFERROR(VLOOKUP($A28,#REF!,8,0),0)*100","v":0},"MARYLIN ESMALTE PROF TONO 156"]
["EU-MARY-157",{"$f":"IFERROR(VLOOKUP(A29,#REF!,9,0),0)","v":0},0,{"$f":"IFERROR(VLOOKUP($A29,#REF!,8,0),0)*100","v":0},"MARYLIN ESMALTE PROF TONO 157"]
["EU-MARY-158",{"$f":"IFERROR(VLOOKUP(A30,#REF!,9,0),0)","v":0},0,{"$f":"IFERROR(VLOOKUP($A30,#REF!,8,0),0)*100","v":0},"MARYLIN ESMALTE PROF TONO 158"]
["EU-MARY-159",{"$f":"IFERROR(VLOOKUP(A31,#REF!,9,0),0)","v":0},0,{"$f":"IFERROR(VLOOKUP($A31,#REF!,8,0),0)*100","v":0},"MARYLIN ESMALTE PROF TONO 159"]
["EU-MARY-16",{"$f":"IFERROR(VLOOKUP(A32,#REF!,9,0),0)","v":0},0,{"$f":"IFERROR(VLOOKUP($A32,#REF!,8,0),0)*100","v":0},"MARYLIN ESMALTE PROF TONO 16"]
["EU-MARY-160",{"$f":"IFERROR(VLOOKUP(A33,#REF!,9,0),0)","v":0},0,{"$f":"IFERROR(VLOOKUP($A33,#REF!,8,0),0)*100","v":0},"MARYLIN ESMALTE PROF TONO 160"]
["EU-MARY-161",{"$f":"IFERROR(VLOOKUP(A34,#REF!,9,0),0)","v":0},0,{"$f":"IFERROR(VLOOKUP($A34,#REF!,8,0),0)*100","v":0},"MARYLIN ESMALTE PROF TONO 161"]
["EU-MARY-162",{"$f":"IFERROR(VLOOKUP(A35,#REF!,9,0),0)","v":0},0,{"$f":"IFERROR(VLOOKUP($A35,#REF!,8,0),0)*100","v":0},"MARYLIN ESMALTE PROF TONO 162"]
["EU-MARY-163",{"$f":"IFERROR(VLOOKUP(A36,#REF!,9,0),0)","v":0},0,{"$f":"IFERROR(VLOOKUP($A36,#REF!,8,0),0)*100","v":0},"MARYLIN ESMALTE PROF TONO 163"]
["EU-MARY-164",{"$f":"IFERROR(VLOOKUP(A37,#REF!,9,0),0)","v":0},0,{"$f":"IFERROR(VLOOKUP($A37,#REF!,8,0),0)*100","v":0},"MARYLIN ESMALTE PROF TONO 164"]
["EU-MARY-165",{"$f":"IFERROR(VLOOKUP(A38,#REF!,9,0),0)","v":0},0,{"$f":"IFERROR(VLOOKUP($A38,#REF!,8,0),0)*100","v":0},"MARYLIN ESMALTE PROF TONO 165"]
["EU-MARY-166",{"$f":"IFERROR(VLOOKUP(A39,#REF!,9,0),0)","v":0},0,{"$f":"IFERROR(VLOOKUP($A39,#REF!,8,0),0)*100","v":0},"MARYLIN ESMALTE PROF TONO 166"]
["EU-MARY-168",{"$f":"IFERROR(VLOOKUP(A40,#REF!,9,0),0)","v":0},0,{"$f":"IFERROR(VLOOKUP($A40,#REF!,8,0),0)*100","v":0},"MARYLIN ESMALTE PROF TONO 168"]
["EU-MARY-169",{"$f":"IFERROR(VLOOKUP(A41,#REF!,9,0),0)","v":0},0,{"$f":"IFERROR(VLOOKUP($A41,#REF!,8,0),0)*100","v":0},"MARYLIN ESMALTE PROF TONO 169"]
["EU-MARY-170",{"$f":"IFERROR(VLOOKUP(A42,#REF!,9,0),0)","v":0},0,{"$f":"IFERROR(VLOOKUP($A42,#REF!,8,0),0)*100","v":0},"MARYLIN ESMALTE PROF TONO 170"]
["EU-MARY-171",{"$f":"IFERROR(VLOOKUP(A43,#REF!,9,0),0)","v":0},0,{"$f":"IFERROR(VLOOKUP($A43,#REF!,8,0),0)*100","v":0},"MARYLIN ESMALTE PROF TONO 171"]
["EU-MARY-172",{"$f":"IFERROR(VLOOKUP(A44,#REF!,9,0),0)","v":0},0,{"$f":"IFERROR(VLOOKUP($A44,#REF!,8,0),0)*100","v":0},"MARYLIN ESMALTE PROF TONO 172"]
["EU-MARY-173",{"$f":"IFERROR(VLOOKUP(A45,#REF!,9,0),0)","v":0},0,{"$f":"IFERROR(VLOOKUP($A45,#REF!,8,0),0)*100","v":0},"MARYLIN ESMALTE PROF TONO 173"]
["EU-MARY-174",{"$f":"IFERROR(VLOOKUP(A46,#REF!,9,0),0)","v":0},0,{"$f":"IFERROR(VLOOKUP($A46,#REF!,8,0),0)*100","v":0},"MARYLIN ESMALTE PROF TONO 174"]
["EU-MARY-175",{"$f":"IFERROR(VLOOKUP(A47,#REF!,9,0),0)","v":0},0,{"$f":"IFERROR(VLOOKUP($A47,#REF!,8,0),0)*100","v":0},"MARYLIN ESMALTE PROF TONO 175"]
["EU-MARY-177",{"$f":"IFERROR(VLOOKUP(A48,#REF!,9,0),0)","v":0},0,{"$f":"IFERROR(VLOOKUP($A48,#REF!,8,0),0)*100","v":0},"MARYLIN ESMALTE PROF TONO 177"]
["EU-MARY-18",{"$f":"IFERROR(VLOOKUP(A49,#REF!,9,0),0)","v":0},0,{"$f":"IFERROR(VLOOKUP($A49,#REF!,8,0),0)*100","v":0},"MARYLIN ESMALTE PROF TONO 18"]
["EU-MARY-180",{"$f":"IFERROR(VLOOKUP(A50,#REF!,9,0),0)","v":0},0,{"$f":"IFERROR(VLOOKUP($A50,#REF!,8,0),0)*100","v":0},"MARYLIN ESMALTE PROF TONO 180"]
["EU-MARY-183",{"$f":"IFERROR(VLOOKUP(A51,#REF!,9,0),0)","v":0},0,{"$f":"IFERROR(VLOOKUP($A51,#REF!,8,0),0)*100","v":0},"MARYLIN ESMALTE PROF TONO 183"]
["EU-MARY-19",{"$f":"IFERROR(VLOOKUP(A52,#REF!,9,0),0)","v":0},0,{"$f":"IFERROR(VLOOKUP($A52,#REF!,8,0),0)*100","v":0},"MARYLIN ESMALTE PROF TONO 19"]
["EU-MARY-2",{"$f":"IFERROR(VLOOKUP(A53,#REF!,9,0),0)","v":0},0,{"$f":"IFERROR(VLOOKUP($A53,#REF!,8,0),0)*100","v":0},"MARYLIN ESMALTE PROF TONO 2"]
["EU-MARY-21",{"$f":"IFERROR(VLOOKUP(A54,#REF!,9,0),0)","v":0},0,{"$f":"IFERROR(VLOOKUP($A54,#REF!,8,0),0)*100","v":0},"MARYLIN ESMALTE PROF TONO 21"]
["EU-MARY-22",{"$f":"IFERROR(VLOOKUP(A55,#REF!,9,0),0)","v":0},0,{"$f":"IFERROR(VLOOKUP($A55,#REF!,8,0),0)*100","v":0},"MARYLIN ESMALTE PROF TONO 22"]
["EU-MARY-28",{"$f":"IFERROR(VLOOKUP(A56,#REF!,9,0),0)","v":0},0,{"$f":"IFERROR(VLOOKUP($A56,#REF!,8,0),0)*100","v":0},"MARYLIN ESMALTE PROF TONO 28"]
["EU-MARY-3",{"$f":"IFERROR(VLOOKUP(A57,#REF!,9,0),0)","v":0},0,{"$f":"IFERROR(VLOOKUP($A57,#REF!,8,0),0)*100","v":0},"MARYLIN ESMALTE PROF TONO 3"]
["EU-MARY-30",{"$f":"IFERROR(VLOOKUP(A58,#REF!,9,0),0)","v":0},0,{"$f":"IFERROR(VLOOKUP($A58,#REF!,8,0),0)*100","v":0},"MARYLIN ESMALTE PROF TONO 30"]
["EU-MARY-32",{"$f":"IFERROR(VLOOKUP(A59,#REF!,9,0),0)","v":0},0,{"$f":"IFERROR(VLOOKUP($A59,#REF!,8,0),0)*100","v":0},"MARYLIN ESMALTE PROF TONO 32"]
["EU-MARY-37",{"$f":"IFERROR(VLOOKUP(A60,#REF!,9,0),0)","v":0},0,{"$f":"IFERROR(VLOOKUP($A60,#REF!,8,0),0)*100","v":0},"MARYLIN ESMALTE PROF TONO 37"]
["EU-MARY-4",{"$f":"IFERROR(VLOOKUP(A61,#REF!,9,0),0)","v":0},0,{"$f":"IFERROR(VLOOKUP($A61,#REF!,8,0),0)*100","v":0},"MARYLIN ESMALTE PROF TONO 4"]
["EU-MARY-40",{"$f":"IFERROR(VLOOKUP(A62,#REF!,9,0),0)","v":0},0,{"$f":"IFERROR(VLOOKUP($A62,#REF!,8,0),0)*100","v":0},"MARYLIN ESMALTE PROF TONO 40"]
["EU-MARY-41",{"$f":"IFERROR(VLOOKUP(A63,#REF!,9,0),0)","v":0},0,{"$f":"IFERROR(VLOOKUP($A63,#REF!,8,0),0)*100","v":0},"MARYLIN ESMALTE PROF TONO 41"]
["EU-MARY-44",{"$f":"IFERROR(VLOOKUP(A64,#REF!,9,0),0)","v":0},0,{"$f":"IFERROR(VLOOKUP($A64,#REF!,8,0),0)*100","v":0},"MARYLIN ESMALTE PROF TONO 44"]
["EU-MARY-45",{"$f":"IFERROR(VLOOKUP(A65,#REF!,9,0),0)","v":0},0,{"$f":"IFERROR(VLOOKUP($A65,#REF!,8,0),0)*100","v":0},"MARYLIN ESMALTE PROF TONO 45"]
["EU-MARY-47",{"$f":"IFERROR(VLOOKUP(A66,#REF!,9,0),0)","v":0},0,{"$f":"IFERROR(VLOOKUP($A66,#REF!,8,0),0)*100","v":0},"MARYLIN ESMALTE PROF TONO 47"]
["EU-MARY-5",{"$f":"IFERROR(VLOOKUP(A67,#REF!,9,0),0)","v":0},0,{"$f":"IFERROR(VLOOKUP($A67,#REF!,8,0),0)*100","v":0},"MARYLIN ESMALTE PROF TONO 5"]
["EU-MARY-51",{"$f":"IFERROR(VLOOKUP(A68,#REF!,9,0),0)","v":0},0,{"$f":"IFERROR(VLOOKUP($A68,#REF!,8,0),0)*100","v":0},"MARYLIN ESMALTE PROF TONO 51"]
["EU-MARY-52",{"$f":"IFERROR(VLOOKUP(A69,#REF!,9,0),0)","v":0},0,{"$f":"IFERROR(VLOOKUP($A69,#REF!,8,0),0)*100","v":0},"MARYLIN ESMALTE PROF TONO 52"]
["EU-MARY-53",{"$f":"IFERROR(VLOOKUP(A70,#REF!,9,0),0)","v":0},0,{"$f":"IFERROR(VLOOKUP($A70,#REF!,8,0),0)*100","v":0},"MARYLIN ESMALTE PROF TONO 53"]
["EU-MARY-54",{"$f":"IFERROR(VLOOKUP(A71,#REF!,9,0),0)","v":0},0,{"$f":"IFERROR(VLOOKUP($A71,#REF!,8,0),0)*100","v":0},"MARYLIN ESMALTE PROF TONO 54"]
["EU-MARY-57",{"$f":"IFERROR(VLOOKUP(A72,#REF!,9,0),0)","v":0},0,{"$f":"IFERROR(VLOOKUP($A72,#REF!,8,0),0)*100","v":0},"MARYLIN ESMALTE PROF TONO 57"]
["EU-MARY-58",{"$f":"IFERROR(VLOOKUP(A73,#REF!,9,0),0)","v":0},0,{"$f":"IFERROR(VLOOKUP($A73,#REF!,8,0),0)*100","v":0},"MARYLIN ESMALTE PROF TONO 58"]
["EU-MARY-61",{"$f":"IFERROR(VLOOKUP(A74,#REF!,9,0),0)","v":0},0,{"$f":"IFERROR(VLOOKUP($A74,#REF!,8,0),0)*100","v":0},"MARYLIN ESMALTE PROF TONO 61"]
["EU-MARY-68",{"$f":"IFERROR(VLOOKUP(A75,#REF!,9,0),0)","v":0},0,{"$f":"IFERROR(VLOOKUP($A75,#REF!,8,0),0)*100","v":0},"MARYLIN ESMALTE PROF TONO 68"]
["EU-MARY-69",{"$f":"IFERROR(VLOOKUP(A76,#REF!,9,0),0)","v":0},0,{"$f":"IFERROR(VLOOKUP($A76,#REF!,8,0),0)*100","v":0},"MARYLIN ESMALTE PROF TONO 69"]
["EU-MARY-7",{"$f":"IFERROR(VLOOKUP(A77,#REF!,9,0),0)","v":0},0,{"$f":"IFERROR(VLOOKUP($A77,#REF!,8,0),0)*100","v":0},"MARYLIN ESMALTE PROF TONO 7"]
["EU-MARY-70",{"$f":"IFERROR(VLOOKUP(A78,#REF!,9,0),0)","v":0},0,{"$f":"IFERROR(VLOOKUP($A78,#REF!,8,0),0)*100","v":0},"MARYLIN ESMALTE PROF TONO 70"]
["EU-MARY-77",{"$f":"IFERROR(VLOOKUP(A79,#REF!,9,0),0)","v":0},0,{"$f":"IFERROR(VLOOKUP($A79,#REF!,8,0),0)*100","v":0},"MARYLIN ESMALTE PROF TONO 77"]
["EU-MARY-79",{"$f":"IFERROR(VLOOKUP(A80,#REF!,9,0),0)","v":0},0,{"$f":"IFERROR(VLOOKUP($A80,#REF!,8,0),0)*100","v":0},"MARYLIN ESMALTE PROF TONO 79"]
["EU-MARY-82",{"$f":"IFERROR(VLOOKUP(A81,#REF!,9,0),0)","v":0},0,{"$f":"IFERROR(VLOOKUP($A81,#REF!,8,0),0)*100","v":0},"MARYLIN ESMALTE PROF TONO 82"]
["EU-MARY-83",{"$f":"IFERROR(VLOOKUP(A82,#REF!,9,0),0)","v":0},0,{"$f":"IFERROR(VLOOKUP($A82,#REF!,8,0),0)*100","v":0},"MARYLIN ESMALTE PROF TONO 83"]
["EU-MARY-85",{"$f":"IFERROR(VLOOKUP(A83,#REF!,9,0),0)","v":0},0,{"$f":"IFERROR(VLOOKUP($A83,#REF!,8,0),0)*100","v":0},"MARYLIN ESMALTE PROF TONO 85"]
["EU-MARY-89",{"$f":"IFERROR(VLOOKUP(A84,#REF!,9,0),0)","v":0},0,{"$f":"IFERROR(VLOOKUP($A84,#REF!,8,0),0)*100","v":0},"MARYLIN ESMALTE PROF TONO 89"]
["EU-MARY-90",{"$f":"IFERROR(VLOOKUP(A85,#REF!,9,0),0)","v":0},0,{"$f":"IFERROR(VLOOKUP($A85,#REF!,8,0),0)*100","v":0},"MARYLIN ESMALTE PROF TONO 90"]
["EU-MARY-91",{"$f":"IFERROR(VLOOKUP(A86,#REF!,9,0),0)","v":0},0,{"$f":"IFERROR(VLOOKUP($A86,#REF!,8,0),0)*100","v":0},"MARYLIN ESMALTE PROF TONO 91"]
["EU-MARY-94",{"$f":"IFERROR(VLOOKUP(A87,#REF!,9,0),0)","v":0},0,{"$f":"IFERROR(VLOOKUP($A87,#REF!,8,0),0)*100","v":0},"MARYLIN ESMALTE PROF TONO 94"]
["EU-MARY-96",{"$f":"IFERROR(VLOOKUP(A88,#REF!,9,0),0)","v":0},0,{"$f":"IFERROR(VLOOKUP($A88,#REF!,8,0),0)*100","v":0},"MARYLIN ESMALTE PROF TONO 96"]
["EU-MARY-97",{"$f":"IFERROR(VLOOKUP(A89,#REF!,9,0),0)","v":0},0,{"$f":"IFERROR(VLOOKUP($A89,#REF!,8,0),0)*100","v":0},"MARYLIN ESMALTE PROF TONO 97"]
["EU-MARY-98",{"$f":"IFERROR(VLOOKUP(A90,#REF!,9,0),0)","v":0},0,{"$f":"IFERROR(VLOOKUP($A90,#REF!,8,0),0)*100","v":0},"MARYLIN ESMALTE PROF TONO 98"]
["EU-MARY-99",{"$f":"IFERROR(VLOOKUP(A91,#REF!,9,0),0)","v":0},0,{"$f":"IFERROR(VLOOKUP($A91,#REF!,8,0),0)*100","v":0},"MARYLIN ESMALTE PROF TONO 99"]
["EU-MARY-BRILLO",{"$f":"IFERROR(VLOOKUP(A92,#REF!,9,0),0)","v":0},0,{"$f":"IFERROR(VLOOKUP($A92,#REF!,8,0),0)*100","v":0},"MARYLIN ESM PROF BRILLO"]
["HA-CSOFT-100",{"$f":"IFERROR(VLOOKUP(A93,#REF!,9,0),0)","v":0},0,{"$f":"IFERROR(VLOOKUP($A93,#REF!,8,0),0)*100","v":0},"HISOPOS DE ALGODON COTTON SOFT-100 UND"]
["HIS-CSOFT-100",{"$f":"IFERROR(VLOOKUP(A94,#REF!,9,0),0)","v":0},0,{"$f":"IFERROR(VLOOKUP($A94,#REF!,8,0),0)*100","v":0},"HISOPOS DE ALGODON 100 UND"]
["MARY-BSEC",{"$f":"IFERROR(VLOOKUP(A95,#REF!,9,0),0)","v":0},0,{"$f":"IFERROR(VLOOKUP($A95,#REF!,8,0),0)*100","v":0},"MARYLIN BRILLO SECANTE"]
["MARY-TAJO",{"$f":"IFERROR(VLOOKUP(A96,#REF!,9,0),0)","v":0},0,{"$f":"IFERROR(VLOOKUP($A96,#REF!,8,0),0)*100","v":0},"MARYLIN BASE  AJO LIMON"]
["MARY-TFCOL",{"$f":"IFERROR(VLOOKUP(A97,#REF!,9,0),0)","v":0},0,{"$f":"IFERROR(VLOOKUP($A97,#REF!,8,0),0)*100","v":0},"MARYLIN BASE  FORMULA COLOMB"]
["MARY-TFUS",{"$f":"IFERROR(VLOOKUP(A98,#REF!,9,0),0)","v":0},0,{"$f":"IFERROR(VLOOKUP($A98,#REF!,8,0),0)*100","v":0},"MARYLIN BASE FUS VITAMINAS"]
["MARY-TKROSA",{"$f":"IFERROR(VLOOKUP(A99,#REF!,9,0),0)","v":0},0,{"$f":"IFERROR(VLOOKUP($A99,#REF!,8,0),0)*100","v":0},"MARYLIN BASE KERATINA ROSADA"]
["ZDIF-FACTIMP",{"$f":"IFERROR(VLOOKUP($A100,'HOJA DE PEDIDO'!$C$14:$M$263,9,0),0)","v":0},0,{"$f":"IFERROR(VLOOKUP($A100,'HOJA DE PEDIDO'!$C$14:$M$263,8,0),0)*100","v":0},"DIFERENCIAS EN FACTURAS DE IMP'ORTACION"]
["AC-DOVOLEO-400",{"$f":"IFERROR(VLOOKUP(A101,'HOJA DE PEDIDO'!$C$14:$M$263,9,0),0)","v":0},0,{"$f":"IFERROR(VLOOKUP($A101,'HOJA DE PEDIDO'!$C$14:$M$263,8,0),0)*100","v":0},"ACONDICIONADOR DOVE OLEO NUTRICION 12X400ML"]
["AC-DOVRECON-400",{"$f":"IFERROR(VLOOKUP(A102,'HOJA DE PEDIDO'!$C$14:$M$263,9,0),0)","v":0},0,{"$f":"IFERROR(VLOOKUP($A102,'HOJA DE PEDIDO'!$C$14:$M$263,8,0),0)*100","v":0},"ACONDICIONADOR DOVE RECONSTRUCCION COMPLETA 12X400ML"]
["AC-SEDCERA-340",{"$f":"IFERROR(VLOOKUP(A103,'HOJA DE PEDIDO'!$C$14:$M$263,9,0),0)","v":0},0,{"$f":"IFERROR(VLOOKUP($A103,'HOJA DE PEDIDO'!$C$14:$M$263,8,0),0)*100","v":0},"ACONDICIONADOR SEDAL CERAMIDAS 12X340ML"]
["AC-SEDKERA-340",{"$f":"IFERROR(VLOOKUP(A104,'HOJA DE PEDIDO'!$C$14:$M$263,9,0),0)","v":0},0,{"$f":"IFERROR(VLOOKUP($A104,'HOJA DE PEDIDO'!$C$14:$M$263,8,0),0)*100","v":0},"ACONDICIONADOR SEDAL KERAT C/ANTIOX 12X340ML"]
["AC-SEDRIZOS-340",{"$f":"IFERROR(VLOOKUP(A105,'HOJA DE PEDIDO'!$C$14:$M$263,9,0),0)","v":0},0,{"$f":"IFERROR(VLOOKUP($A105,'HOJA DE PEDIDO'!$C$14:$M$263,8,0),0)*100","v":0},"ACONDICIONADOR SEDAL RIZOS DEFINIDOS 12X340ML"]
["AC-SUAMIEL-360",{"$f":"IFERROR(VLOOKUP(A106,'HOJA DE PEDIDO'!$C$14:$M$263,9,0),0)","v":0},0,{"$f":"IFERROR(VLOOKUP($A106,'HOJA DE PEDIDO'!$C$14:$M$263,8,0),0)*100","v":0},"SUAVE AC MIEL Y ALMENDRA 12X360ML"]
["AH-FRESH",{"$f":"IFERROR(VLOOKUP(A107,'HOJA DE PEDIDO'!$C$14:$M$263,9,0),0)","v":0},0,{"$f":"IFERROR(VLOOKUP($A107,'HOJA DE PEDIDO'!$C$14:$M$263,8,0),0)*100","v":40},"DEO ARM&HAMMER SOLID FRESH"]
["AH-GELCOOL",{"$f":"IFERROR(VLOOKUP(A108,'HOJA DE PEDIDO'!$C$14:$M$263,9,0),0)","v":0},0,{"$f":"IFERROR(VLOOKUP($A108,'HOJA DE PEDIDO'!$C$14:$M$263,8,0),0)*100","v":40},"DEO ARM&HAMMER GEL COOL BLAST"]
["AH-MAXPWER",{"$f":"IFERROR(VLOOKUP(A109,'HOJA DE PEDIDO'!$C$14:$M$263,9,0),0)","v":0},0,{"$f":"IFERROR(VLOOKUP($A109,'HOJA DE PEDIDO'!$C$14:$M$263,8,0),0)*100","v":40},"DEO ARM&HAMMER POWDER FRESH"]
["AH-MAXSPORT",{"$f":"IFERROR(VLOOKUP(A110,'HOJA DE PEDIDO'!$C$14:$M$263,9,0),0)","v":0},0,{"$f":"IFERROR(VLOOKUP($A110,'HOJA DE PEDIDO'!$C$14:$M$263,8,0),0)*100","v":40},"DEO ARM&HAMMER ACTIVE SPORT"]
["AH-UNSCENTED",{"$f":"IFERROR(VLOOKUP(A111,'HOJA DE PEDIDO'!$C$14:$M$263,9,0),0)","v":0},0,{"$f":"IFERROR(VLOOKUP($A111,'HOJA DE PEDIDO'!$C$14:$M$263,8,0),0)*100","v":40},"DEO ARM&HAMMER SOLID UNSCENTED"]
["AMMENS-BABY125",{"$f":"IFERROR(VLOOKUP(A112,'HOJA DE PEDIDO'!$C$14:$M$263,9,0),0)","v":0},0,{"$f":"IFERROR(VLOOKUP($A112,'HOJA DE PEDIDO'!$C$14:$M$263,8,0),0)*100","v":0},"TALCO AMMENS BABY 125GR"]
["AMMENS-FRESH",{"$f":"IFERROR(VLOOKUP(A113,'HOJA DE PEDIDO'!$C$14:$M$263,9,0),0)","v":0},0,{"$f":"IFERROR(VLOOKUP($A113,'HOJA DE PEDIDO'!$C$14:$M$263,8,0),0)*100","v":0},"TALCO AMMENS FRESH 110 OZ"]
["AMMENS-FRESH125",{"$f":"IFERROR(VLOOKUP(A114,'HOJA DE PEDIDO'!$C$14:$M$263,9,0),0)","v":0},0,{"$f":"IFERROR(VLOOKUP($A114,'HOJA DE PEDIDO'!$C$14:$M$263,8,0),0)*100","v":0},"TALCO AMMENS FRESH 125GR"]
["AMMENS-ORI",{"$f":"IFERROR(VLOOKUP(A115,'HOJA DE PEDIDO'!$C$14:$M$263,9,0),0)","v":0},0,{"$f":"IFERROR(VLOOKUP($A115,'HOJA DE PEDIDO'!$C$14:$M$263,8,0),0)*100","v":0},"TALCO AMMENS ORIGINAL 110 OZ"]
["AMMENS-ORI125",{"$f":"IFERROR(VLOOKUP(A116,'HOJA DE PEDIDO'!$C$14:$M$263,9,0),0)","v":0},0,{"$f":"IFERROR(VLOOKUP($A116,'HOJA DE PEDIDO'!$C$14:$M$263,8,0),0)*100","v":0},"TALCO AMMENS ORIGINAL 125GR"]
["AMMENS-PIE60",{"$f":"IFERROR(VLOOKUP(A117,'HOJA DE PEDIDO'!$C$14:$M$263,9,0),0)","v":0},0,{"$f":"IFERROR(VLOOKUP($A117,'HOJA DE PEDIDO'!$C$14:$M$263,8,0),0)*100","v":0},"TALCO AMMENS PIE 60GR"]
["BA-CSOFT-50",{"$f":"IFERROR(VLOOKUP(A118,'HOJA DE PEDIDO'!$C$14:$M$263,9,0),0)","v":0},0,{"$f":"IFERROR(VLOOKUP($A118,'HOJA DE PEDIDO'!$C$14:$M$263,8,0),0)*100","v":0},"BOLAS DE ALG 50 UNIDADES COTTON SOFT"]
["CF-PONDBIO-100",{"$f":"IFERROR(VLOOKUP(A119,'HOJA DE PEDIDO'!$C$14:$M$263,9,0),0)","v":0},0,{"$f":"IFERROR(VLOOKUP($A119,'HOJA DE PEDIDO'!$C$14:$M$263,8,0),0)*100","v":0},"PONDS CR BIOHIDRATANTE 24X100G"]
["CF-PONDBIO-50",{"$f":"IFERROR(VLOOKUP(A120,'HOJA DE PEDIDO'!$C$14:$M$263,9,0),0)","v":0},0,{"$f":"IFERROR(VLOOKUP($A120,'HOJA DE PEDIDO'!$C$14:$M$263,8,0),0)*100","v":0},"PONDS CR BIOHIDRATANTE 24X50G"]
["CF-PONDC-45",{"$f":"IFERROR(VLOOKUP(A121,'HOJA DE PEDIDO'!$C$14:$M$263,9,0),0)","v":0},0,{"$f":"IFERROR(VLOOKUP($A121,'HOJA DE PEDIDO'!$C$14:$M$263,8,0),0)*100","v":0},"PONDS CR C ORIGINAL 24X45G"]
["CF-PONDC-95",{"$f":"IFERROR(VLOOKUP(A122,'HOJA DE PEDIDO'!$C$14:$M$263,9,0),0)","v":0},0,{"$f":"IFERROR(VLOOKUP($A122,'HOJA DE PEDIDO'!$C$14:$M$263,8,0),0)*100","v":0},"PONDS CR C ORIGINAL 24X95G"]
["CF-PONDC-SCH10",{"$f":"IFERROR(VLOOKUP(A123,'HOJA DE PEDIDO'!$C$14:$M$263,9,0),0)","v":0},0,{"$f":"IFERROR(VLOOKUP($A123,'HOJA DE PEDIDO'!$C$14:$M$263,8,0),0)*100","v":0},"PONDS CR C ORIGINAL DPL 12X10X10G"]
["CF-PONDCLAR-100",{"$f":"IFERROR(VLOOKUP(A124,'HOJA DE PEDIDO'!$C$14:$M$263,9,0),0)","v":0},0,{"$f":"IFERROR(VLOOKUP($A124,'HOJA DE PEDIDO'!$C$14:$M$263,8,0),0)*100","v":0},"PONDS CR CLARANT B3 GRASA 24X100G"]
["CF-PONDCLAR-50",{"$f":"IFERROR(VLOOKUP(A125,'HOJA DE PEDIDO'!$C$14:$M$263,9,0),0)","v":0},0,{"$f":"IFERROR(VLOOKUP($A125,'HOJA DE PEDIDO'!$C$14:$M$263,8,0),0)*100","v":0},"PONDS CR CLARANT B3 GRASA 24X50G"]
["CF-PONDCPEP-100",{"$f":"IFERROR(VLOOKUP(A126,'HOJA DE PEDIDO'!$C$14:$M$263,9,0),0)","v":0},0,{"$f":"IFERROR(VLOOKUP($A126,'HOJA DE PEDIDO'!$C$14:$M$263,8,0),0)*100","v":0},"PONDS CR C PEPINO 24X100G"]
["CF-PONDH-100",{"$f":"IFERROR(VLOOKUP(A127,'HOJA DE PEDIDO'!$C$14:$M$263,9,0),0)","v":0},0,{"$f":"IFERROR(VLOOKUP($A127,'HOJA DE PEDIDO'!$C$14:$M$263,8,0),0)*100","v":0},"PONDS CR H 24X100G"]
["CF-PONDH-50",{"$f":"IFERROR(VLOOKUP(A128,'HOJA DE PEDIDO'!$C$14:$M$263,9,0),0)","v":0},0,{"$f":"IFERROR(VLOOKUP($A128,'HOJA DE PEDIDO'!$C$14:$M$263,8,0),0)*100","v":0},"PONDS CR H 24X50G"]
["CF-PONDHC-2PK",{"$f":"IFERROR(VLOOKUP(A129,'HOJA DE PEDIDO'!$C$14:$M$263,9,0),0)","v":0},0,{"$f":"IFERROR(VLOOKUP($A129,'HOJA DE PEDIDO'!$C$14:$M$263,8,0),0)*100","v":0},"PONDS DUO PACK H100 C45"]
["CF-PONDREJ-100",{"$f":"IFERROR(VLOOKUP(A130,'HOJA DE PEDIDO'!$C$14:$M$263,9,0),0)","v":0},0,{"$f":"IFERROR(VLOOKUP($A130,'HOJA DE PEDIDO'!$C$14:$M$263,8,0),0)*100","v":0},"PONDS CR REJUVENESS DIA 24X100G"]
["CF-PONDREJ-50",{"$f":"IFERROR(VLOOKUP(A131,'HOJA DE PEDIDO'!$C$14:$M$263,9,0),0)","v":0},0,{"$f":"IFERROR(VLOOKUP($A131,'HOJA DE PEDIDO'!$C$14:$M$263,8,0),0)*100","v":0},"PONDS CR REJUVENESS  24X50G"]
["CF-PONDREJ-SCH10",{"$f":"IFERROR(VLOOKUP(A132,'HOJA DE PEDIDO'!$C$14:$M$263,9,0),0)","v":0},0,{"$f":"IFERROR(VLOOKUP($A132,'HOJA DE PEDIDO'!$C$14:$M$263,8,0),0)*100","v":0},"PONDS CR REJUVENESS SCH 12X10X10G"]
["CF-PONDS-100",{"$f":"IFERROR(VLOOKUP(A133,'HOJA DE PEDIDO'!$C$14:$M$263,9,0),0)","v":0},0,{"$f":"IFERROR(VLOOKUP($A133,'HOJA DE PEDIDO'!$C$14:$M$263,8,0),0)*100","v":0},"PONDS CR S HUMECTANTE NUTRITIVA 24X100G"]
["CF-PONDS-50",{"$f":"IFERROR(VLOOKUP(A134,'HOJA DE PEDIDO'!$C$14:$M$263,9,0),0)","v":0},0,{"$f":"IFERROR(VLOOKUP($A134,'HOJA DE PEDIDO'!$C$14:$M$263,8,0),0)*100","v":0},"PONDS CR S HUMECTANTE NUTRITIVA 24X50G"]
["CF-PONDS-SCH10",{"$f":"IFERROR(VLOOKUP(A135,'HOJA DE PEDIDO'!$C$14:$M$263,9,0),0)","v":0},0,{"$f":"IFERROR(VLOOKUP($A135,'HOJA DE PEDIDO'!$C$14:$M$263,8,0),0)*100","v":0},"PONDS CR S SCH 12X10X10G"]
["CP-SEDCERA-300",{"$f":"IFERROR(VLOOKUP(A136,'HOJA DE PEDIDO'!$C$14:$M$263,9,0),0)","v":0},0,{"$f":"IFERROR(VLOOKUP($A136,'HOJA DE PEDIDO'!$C$14:$M$263,8,0),0)*100","v":0},"CREMA DE PEINAR SEDAL CERAMIDAS VIVI 12X300ML"]
["CP-SEDKERA-300",{"$f":"IFERROR(VLOOKUP(A137,'HOJA DE PEDIDO'!$C$14:$M$263,9,0),0)","v":0},0,{"$f":"IFERROR(VLOOKUP($A137,'HOJA DE PEDIDO'!$C$14:$M$263,8,0),0)*100","v":0},"CREMA DE PEINAR SEDAL PEIN KERATINA C/ ANTIOX 12X300ML"]
["CP-SEDRIZOS-300",{"$f":"IFERROR(VLOOKUP(A138,'HOJA DE PEDIDO'!$C$14:$M$263,9,0),0)","v":0},0,{"$f":"IFERROR(VLOOKUP($A138,'HOJA DE PEDIDO'!$C$14:$M$263,8,0),0)*100","v":0},"CREMA DE PEINAR SEDAL RIZOS DEFINIDOS 12X300ML"]
["DA-CSOFT-70",{"$f":"IFERROR(VLOOKUP(A139,'HOJA DE PEDIDO'!$C$14:$M$263,9,0),0)","v":0},0,{"$f":"IFERROR(VLOOKUP($A139,'HOJA DE PEDIDO'!$C$14:$M$263,8,0),0)*100","v":0},"DISCOS DESMAQ DE ALG COTTON SOFT -70 UND"]
["DEO-AXBS-ANARC",{"$f":"IFERROR(VLOOKUP(A140,'HOJA DE PEDIDO'!$C$14:$M$263,9,0),0)","v":0},0,{"$f":"IFERROR(VLOOKUP($A140,'HOJA DE PEDIDO'!$C$14:$M$263,8,0),0)*100","v":0},"AXE BODY SPRAY ANARCHY MALE 113G"]
["DEO-AXBS-BLCK",{"$f":"IFERROR(VLOOKUP(A141,'HOJA DE PEDIDO'!$C$14:$M$263,9,0),0)","v":0},0,{"$f":"IFERROR(VLOOKUP($A141,'HOJA DE PEDIDO'!$C$14:$M$263,8,0),0)*100","v":0},"AXE BODY SPRAY BLACK 113G"]
["DEO-AXBS-DARK",{"$f":"IFERROR(VLOOKUP(A142,'HOJA DE PEDIDO'!$C$14:$M$263,9,0),0)","v":0},0,{"$f":"IFERROR(VLOOKUP($A142,'HOJA DE PEDIDO'!$C$14:$M$263,8,0),0)*100","v":0},"AXE BODY SPRAY DARK TEMPTATION 113G"]
["DEO-DOVDERM-A150",{"$f":"IFERROR(VLOOKUP(A143,'HOJA DE PEDIDO'!$C$14:$M$263,9,0),0)","v":0},0,{"$f":"IFERROR(VLOOKUP($A143,'HOJA DE PEDIDO'!$C$14:$M$263,8,0),0)*100","v":0},"DOVE DEO AER AP DERMO ACLARANT 12X89G/150ML"]
["DEO-DOVDERM-R50",{"$f":"IFERROR(VLOOKUP(A144,'HOJA DE PEDIDO'!$C$14:$M$263,9,0),0)","v":0},0,{"$f":"IFERROR(VLOOKUP($A144,'HOJA DE PEDIDO'!$C$14:$M$263,8,0),0)*100","v":0},"DOVE DEO ROL DERMO ACLARANT 12X50ML"]
["DEO-DOVDERM-S50",{"$f":"IFERROR(VLOOKUP(A145,'HOJA DE PEDIDO'!$C$14:$M$263,9,0),0)","v":0},0,{"$f":"IFERROR(VLOOKUP($A145,'HOJA DE PEDIDO'!$C$14:$M$263,8,0),0)*100","v":0},"DOVE DEO STICK DERMO ACLARANT 12X50G"]
["DEO-DOVMINV-A150",{"$f":"IFERROR(VLOOKUP(A146,'HOJA DE PEDIDO'!$C$14:$M$263,9,0),0)","v":0},0,{"$f":"IFERROR(VLOOKUP($A146,'HOJA DE PEDIDO'!$C$14:$M$263,8,0),0)*100","v":0},"DOVE DEO AER MEN INVI DRY12X89G/150ML"]
["DEO-DOVMINV-S50",{"$f":"IFERROR(VLOOKUP(A147,'HOJA DE PEDIDO'!$C$14:$M$263,9,0),0)","v":0},0,{"$f":"IFERROR(VLOOKUP($A147,'HOJA DE PEDIDO'!$C$14:$M$263,8,0),0)*100","v":0},"DOVE DEO STICK INVISIBLE DRY FM 12X50G"]
["DEO-DOVORG-A150",{"$f":"IFERROR(VLOOKUP(A148,'HOJA DE PEDIDO'!$C$14:$M$263,9,0),0)","v":0},0,{"$f":"IFERROR(VLOOKUP($A148,'HOJA DE PEDIDO'!$C$14:$M$263,8,0),0)*100","v":0},"DOVE DEO AER AP ORIGINAL 12X89G/150ML"]
["DEO-DOVORG-R50",{"$f":"IFERROR(VLOOKUP(A149,'HOJA DE PEDIDO'!$C$14:$M$263,9,0),0)","v":0},0,{"$f":"IFERROR(VLOOKUP($A149,'HOJA DE PEDIDO'!$C$14:$M$263,8,0),0)*100","v":0},"DOVE DEO ROLLON ORIGINAL 12X50ML"]
["DEO-DOVORG-S50",{"$f":"IFERROR(VLOOKUP(A150,'HOJA DE PEDIDO'!$C$14:$M$263,9,0),0)","v":0},0,{"$f":"IFERROR(VLOOKUP($A150,'HOJA DE PEDIDO'!$C$14:$M$263,8,0),0)*100","v":0},"DOVE DEO STICK ORIGINAL 12X50G"]
["DEO-REXAB-A150",{"$f":"IFERROR(VLOOKUP(A151,'HOJA DE PEDIDO'!$C$14:$M$263,9,0),0)","v":0},0,{"$f":"IFERROR(VLOOKUP($A151,'HOJA DE PEDIDO'!$C$14:$M$263,8,0),0)*100","v":0},"REXONA DEO W AER ANTIB 12X90GR/150ML"]
["DEO-REXBAMB-A150",{"$f":"IFERROR(VLOOKUP(A152,'HOJA DE PEDIDO'!$C$14:$M$263,9,0),0)","v":0},0,{"$f":"IFERROR(VLOOKUP($A152,'HOJA DE PEDIDO'!$C$14:$M$263,8,0),0)*100","v":0},"REXONA DEO AER BAMB AL VERA 12X90GR/150ML"]
["DEO-REXCOTT-A150",{"$f":"IFERROR(VLOOKUP(A153,'HOJA DE PEDIDO'!$C$14:$M$263,9,0),0)","v":0},0,{"$f":"IFERROR(VLOOKUP($A153,'HOJA DE PEDIDO'!$C$14:$M$263,8,0),0)*100","v":0},"REXONA DEO AER AP COTTON 12X90GR/150ML"]
["DEO-REXCOTT-S50",{"$f":"IFERROR(VLOOKUP(A154,'HOJA DE PEDIDO'!$C$14:$M$263,9,0),0)","v":0},0,{"$f":"IFERROR(VLOOKUP($A154,'HOJA DE PEDIDO'!$C$14:$M$263,8,0),0)*100","v":0},"REXONA DEO STICK AP COTTON 12X50GR"]
["DEO-REXEFFI-A153",{"$f":"IFERROR(VLOOKUP(A155,'HOJA DE PEDIDO'!$C$14:$M$263,9,0),0)","v":0},0,{"$f":"IFERROR(VLOOKUP($A155,'HOJA DE PEDIDO'!$C$14:$M$263,8,0),0)*100","v":0},"REXONA DEO AER EFFICIENT 12X88GR/153ML"]
["DEO-REXMAB-A150",{"$f":"IFERROR(VLOOKUP(A156,'HOJA DE PEDIDO'!$C$14:$M$263,9,0),0)","v":0},0,{"$f":"IFERROR(VLOOKUP($A156,'HOJA DE PEDIDO'!$C$14:$M$263,8,0),0)*100","v":0},"REXONA DEO MEN AER AB INV 12X90GR/150ML"]
["DEO-REXMAB-R50",{"$f":"IFERROR(VLOOKUP(A157,'HOJA DE PEDIDO'!$C$14:$M$263,9,0),0)","v":0},0,{"$f":"IFERROR(VLOOKUP($A157,'HOJA DE PEDIDO'!$C$14:$M$263,8,0),0)*100","v":0},"REXONA DEO MEN ROLLON AB INV 12X50ML"]
["DEO-REXMAB-S50",{"$f":"IFERROR(VLOOKUP(A158,'HOJA DE PEDIDO'!$C$14:$M$263,9,0),0)","v":0},0,{"$f":"IFERROR(VLOOKUP($A158,'HOJA DE PEDIDO'!$C$14:$M$263,8,0),0)*100","v":0},"REXONA DEO MEN STICK ANTIB INV 12X50GR"]
["DEO-REXSPFAN-A150",{"$f":"IFERROR(VLOOKUP(A159,'HOJA DE PEDIDO'!$C$14:$M$263,9,0),0)","v":0},0,{"$f":"IFERROR(VLOOKUP($A159,'HOJA DE PEDIDO'!$C$14:$M$263,8,0),0)*100","v":0},"REXONA DEO AER AP SPORTFAN 12X90GR/150ML"]
["DEO-REXSPFAN-R50",{"$f":"IFERROR(VLOOKUP(A160,'HOJA DE PEDIDO'!$C$14:$M$263,9,0),0)","v":0},0,{"$f":"IFERROR(VLOOKUP($A160,'HOJA DE PEDIDO'!$C$14:$M$263,8,0),0)*100","v":0},"REXONA DEO ROLLON AP SPORTFAN 12X50ML"]
["DEO-REXSPFAN-S50",{"$f":"IFERROR(VLOOKUP(A161,'HOJA DE PEDIDO'!$C$14:$M$263,9,0),0)","v":0},0,{"$f":"IFERROR(VLOOKUP($A161,'HOJA DE PEDIDO'!$C$14:$M$263,8,0),0)*100","v":0},"REXONA DEO STICK AP SPORTFAN 12X50GR"]
["DEO-REXV8-A150",{"$f":"IFERROR(VLOOKUP(A162,'HOJA DE PEDIDO'!$C$14:$M$263,9,0),0)","v":0},0,{"$f":"IFERROR(VLOOKUP($A162,'HOJA DE PEDIDO'!$C$14:$M$263,8,0),0)*100","v":0},"REXONA DEO AER AP V8 12X90GR/150ML"]
["DEO-REXV8-R50",{"$f":"IFERROR(VLOOKUP(A163,'HOJA DE PEDIDO'!$C$14:$M$263,9,0),0)","v":0},0,{"$f":"IFERROR(VLOOKUP($A163,'HOJA DE PEDIDO'!$C$14:$M$263,8,0),0)*100","v":0},"REXONA DEO ROLLON AP V8 12X50ML"]
["DEO-REXV8-S50",{"$f":"IFERROR(VLOOKUP(A164,'HOJA DE PEDIDO'!$C$14:$M$263,9,0),0)","v":0},0,{"$f":"IFERROR(VLOOKUP($A164,'HOJA DE PEDIDO'!$C$14:$M$263,8,0),0)*100","v":0},"REXONA DEO STICK AP V8 12X50GR"]
["GA-PUR100",{"$f":"IFERROR(VLOOKUP(A165,'HOJA DE PEDIDO'!$C$14:$M$263,9,0),0)","v":0},0,{"$f":"IFERROR(VLOOKUP($A165,'HOJA DE PEDIDO'!$C$14:$M$263,8,0),0)*100","v":0},"GEL ANTIBACTERIAL PURISSIMA 100GR"]
["GA-PUR1GAL",{"$f":"IFERROR(VLOOKUP(A166,'HOJA DE PEDIDO'!$C$14:$M$263,9,0),0)","v":0},0,{"$f":"IFERROR(VLOOKUP($A166,'HOJA DE PEDIDO'!$C$14:$M$263,8,0),0)*100","v":0},"GEL ANTIBACTERIAL PURISSIMA 3,750 GR (1GAL)"]
["GA-PUR200",{"$f":"IFERROR(VLOOKUP(A167,'HOJA DE PEDIDO'!$C$14:$M$263,9,0),0)","v":0},0,{"$f":"IFERROR(VLOOKUP($A167,'HOJA DE PEDIDO'!$C$14:$M$263,8,0),0)*100","v":0},"GEL ANTIBACTERIAL PURISSIMA 200GR"]
["HUG-TOAV48",{"$f":"IFERROR(VLOOKUP(A168,'HOJA DE PEDIDO'!$C$14:$M$263,9,0),0)","v":0},0,{"$f":"IFERROR(VLOOKUP($A168,'HOJA DE PEDIDO'!$C$14:$M$263,8,0),0)*100","v":0},"HUGGIES TOALL. HUM LIMPIEZA EFEC. X 48"]
["HUG-TOAX80",{"$f":"IFERROR(VLOOKUP(A169,'HOJA DE PEDIDO'!$C$14:$M$263,9,0),0)","v":0},0,{"$f":"IFERROR(VLOOKUP($A169,'HOJA DE PEDIDO'!$C$14:$M$263,8,0),0)*100","v":0},"HUGGIES TOALL. HUM LIMPIEZA COT. X 80"]
["JB-DOVCOCO-90",{"$f":"IFERROR(VLOOKUP(A170,'HOJA DE PEDIDO'!$C$14:$M$263,9,0),0)","v":0},0,{"$f":"IFERROR(VLOOKUP($A170,'HOJA DE PEDIDO'!$C$14:$M$263,8,0),0)*100","v":0},"DOVE JAB LECHE DE COCO 48X90G"]
["JB-DOVORG-90",{"$f":"IFERROR(VLOOKUP(A171,'HOJA DE PEDIDO'!$C$14:$M$263,9,0),0)","v":0},0,{"$f":"IFERROR(VLOOKUP($A171,'HOJA DE PEDIDO'!$C$14:$M$263,8,0),0)*100","v":0},"DOVE JAB ORIGINAL 48X90G"]
["JB-DOVVAN-90",{"$f":"IFERROR(VLOOKUP(A172,'HOJA DE PEDIDO'!$C$14:$M$263,9,0),0)","v":0},0,{"$f":"IFERROR(VLOOKUP($A172,'HOJA DE PEDIDO'!$C$14:$M$263,8,0),0)*100","v":0},"DOVE JAB KAR Y VAINILLA 48X90G"]
["JB-LUXJAZ-125",{"$f":"IFERROR(VLOOKUP(A173,'HOJA DE PEDIDO'!$C$14:$M$263,9,0),0)","v":0},0,{"$f":"IFERROR(VLOOKUP($A173,'HOJA DE PEDIDO'!$C$14:$M$263,8,0),0)*100","v":0},"LUX JABON BARRA JAZMIN 48X125G"]
["JB-LUXORQ-125",{"$f":"IFERROR(VLOOKUP(A174,'HOJA DE PEDIDO'!$C$14:$M$263,9,0),0)","v":0},0,{"$f":"IFERROR(VLOOKUP($A174,'HOJA DE PEDIDO'!$C$14:$M$263,8,0),0)*100","v":0},"LUX JABON BARRA ORQUID NEGRA FR 48X125G"]
["JB-LUXROSA-125",{"$f":"IFERROR(VLOOKUP(A175,'HOJA DE PEDIDO'!$C$14:$M$263,9,0),0)","v":0},0,{"$f":"IFERROR(VLOOKUP($A175,'HOJA DE PEDIDO'!$C$14:$M$263,8,0),0)*100","v":0},"LUX JABON BARRA ROSAS FR 48X125G"]
["JB-LUXVAN-125",{"$f":"IFERROR(VLOOKUP(A176,'HOJA DE PEDIDO'!$C$14:$M$263,9,0),0)","v":0},0,{"$f":"IFERROR(VLOOKUP($A176,'HOJA DE PEDIDO'!$C$14:$M$263,8,0),0)*100","v":0},"LUX JABON BARRA VAINILLA FR 48X125G"]
["JB-REX7PACK-120",{"$f":"IFERROR(VLOOKUP(A177,'HOJA DE PEDIDO'!$C$14:$M$263,9,0),0)","v":0},0,{"$f":"IFERROR(VLOOKUP($A177,'HOJA DE PEDIDO'!$C$14:$M$263,8,0),0)*100","v":0},"REXONA JABON BARRA 7 PACK 120G"]
["JB-REXAVE-120",{"$f":"IFERROR(VLOOKUP(A178,'HOJA DE PEDIDO'!$C$14:$M$263,9,0),0)","v":0},0,{"$f":"IFERROR(VLOOKUP($A178,'HOJA DE PEDIDO'!$C$14:$M$263,8,0),0)*100","v":0},"REXONA JABON BARRA ANTIB AVENA 48X120G"]
["JB-REXBAMB-120",{"$f":"IFERROR(VLOOKUP(A179,'HOJA DE PEDIDO'!$C$14:$M$263,9,0),0)","v":0},0,{"$f":"IFERROR(VLOOKUP($A179,'HOJA DE PEDIDO'!$C$14:$M$263,8,0),0)*100","v":0},"REXONA JABON BARRA ANTIB BAMBOO 48X120G"]
["JB-REXFRESH-120",{"$f":"IFERROR(VLOOKUP(A180,'HOJA DE PEDIDO'!$C$14:$M$263,9,0),0)","v":0},0,{"$f":"IFERROR(VLOOKUP($A180,'HOJA DE PEDIDO'!$C$14:$M$263,8,0),0)*100","v":0},"REXONA JABON BARRA ANTIB FRESH 48X120G"]
["JB-REXLIMP-120",{"$f":"IFERROR(VLOOKUP(A181,'HOJA DE PEDIDO'!$C$14:$M$263,9,0),0)","v":0},0,{"$f":"IFERROR(VLOOKUP($A181,'HOJA DE PEDIDO'!$C$14:$M$263,8,0),0)*100","v":0},"REXONA JABON BARRA ANTIB LIMPIEZA 48X120G"]
["KOTEX-DIA",{"$f":"IFERROR(VLOOKUP(A182,'HOJA DE PEDIDO'!$C$14:$M$263,9,0),0)","v":0},0,{"$f":"IFERROR(VLOOKUP($A182,'HOJA DE PEDIDO'!$C$14:$M$263,8,0),0)*100","v":0},"KOTEX TOALLA SAN DIURNA"]
["KOTEX-LIN15",{"$f":"IFERROR(VLOOKUP(A183,'HOJA DE PEDIDO'!$C$14:$M$263,9,0),0)","v":0},0,{"$f":"IFERROR(VLOOKUP($A183,'HOJA DE PEDIDO'!$C$14:$M$263,8,0),0)*100","v":0},"KOTEX PROTECTOR DIARIO X15"]
["KOTEX-LIN50",{"$f":"IFERROR(VLOOKUP(A184,'HOJA DE PEDIDO'!$C$14:$M$263,9,0),0)","v":0},0,{"$f":"IFERROR(VLOOKUP($A184,'HOJA DE PEDIDO'!$C$14:$M$263,8,0),0)*100","v":7.0000000000000009},"KOTEX PROTECTOR DIARIO X50"]
["KOTEX-LINAB50",{"$f":"IFERROR(VLOOKUP(A185,'HOJA DE PEDIDO'!$C$14:$M$263,9,0),0)","v":0},0,{"$f":"IFERROR(VLOOKUP($A185,'HOJA DE PEDIDO'!$C$14:$M$263,8,0),0)*100","v":0},"KOTEX LINER ANTIBACTERIAL 12X50"]
["KOTEX-LINPURE50",{"$f":"IFERROR(VLOOKUP(A186,'HOJA DE PEDIDO'!$C$14:$M$263,9,0),0)","v":0},0,{"$f":"IFERROR(VLOOKUP($A186,'HOJA DE PEDIDO'!$C$14:$M$263,8,0),0)*100","v":0},"KOTEX LINER PURE 12X50"]
["KOTEX-NOC",{"$f":"IFERROR(VLOOKUP(A187,'HOJA DE PEDIDO'!$C$14:$M$263,9,0),0)","v":0},0,{"$f":"IFERROR(VLOOKUP($A187,'HOJA DE PEDIDO'!$C$14:$M$263,8,0),0)*100","v":0},"KOTEX TOALLA SAN NOC"]
["KOTEX-TAMM",{"$f":"IFERROR(VLOOKUP(A188,'HOJA DE PEDIDO'!$C$14:$M$263,9,0),0)","v":0},0,{"$f":"IFERROR(VLOOKUP($A188,'HOJA DE PEDIDO'!$C$14:$M$263,8,0),0)*100","v":7.5},"TAMPONES KOTEX MEDIUM 12X8 SPORT TTX"]
["KOTEX-TAMS",{"$f":"IFERROR(VLOOKUP(A189,'HOJA DE PEDIDO'!$C$14:$M$263,9,0),0)","v":0},0,{"$f":"IFERROR(VLOOKUP($A189,'HOJA DE PEDIDO'!$C$14:$M$263,8,0),0)*100","v":7.5},"TAMPONES KOTEX SUPER 12X8 TTX"]
["KOTEX-UFAB-R5",{"$f":"IFERROR(VLOOKUP(A190,'HOJA DE PEDIDO'!$C$14:$M$263,9,0),0)","v":0},0,{"$f":"IFERROR(VLOOKUP($A190,'HOJA DE PEDIDO'!$C$14:$M$263,8,0),0)*100","v":0},"KOTEX TOALLA FEM UF AB 10X5X5 RISTRA"]
["KOTEX-UFNOCT",{"$f":"IFERROR(VLOOKUP(A191,'HOJA DE PEDIDO'!$C$14:$M$263,9,0),0)","v":0},0,{"$f":"IFERROR(VLOOKUP($A191,'HOJA DE PEDIDO'!$C$14:$M$263,8,0),0)*100","v":0},"KOTEX TOALLA FEM UF DIA&NOCHE X8UND"]
["KOTEX-UFPURE",{"$f":"IFERROR(VLOOKUP(A192,'HOJA DE PEDIDO'!$C$14:$M$263,9,0),0)","v":0},0,{"$f":"IFERROR(VLOOKUP($A192,'HOJA DE PEDIDO'!$C$14:$M$263,8,0),0)*100","v":0},"KOTEX TOALLA FEM UF PURE 12X10"]
["KOTEX-ULTRAF",{"$f":"IFERROR(VLOOKUP(A193,'HOJA DE PEDIDO'!$C$14:$M$263,9,0),0)","v":0},0,{"$f":"IFERROR(VLOOKUP($A193,'HOJA DE PEDIDO'!$C$14:$M$263,8,0),0)*100","v":0},"KOTEX TOALLA ULTRAFINAX10"]
["LC-VASEALOE-295",{"$f":"IFERROR(VLOOKUP(A194,'HOJA DE PEDIDO'!$C$14:$M$263,9,0),0)","v":0},0,{"$f":"IFERROR(VLOOKUP($A194,'HOJA DE PEDIDO'!$C$14:$M$263,8,0),0)*100","v":0},"LOCION CORPORAL VASELINE ALOE SOOTHE 295ML"]
["LC-VASECOCOA-295",{"$f":"IFERROR(VLOOKUP(A195,'HOJA DE PEDIDO'!$C$14:$M$263,9,0),0)","v":0},0,{"$f":"IFERROR(VLOOKUP($A195,'HOJA DE PEDIDO'!$C$14:$M$263,8,0),0)*100","v":0},"LOCION CORPORAL VASELINE COCOA RADIANT 295ML"]
["LC-VASENOUR-295",{"$f":"IFERROR(VLOOKUP(A196,'HOJA DE PEDIDO'!$C$14:$M$263,9,0),0)","v":0},0,{"$f":"IFERROR(VLOOKUP($A196,'HOJA DE PEDIDO'!$C$14:$M$263,8,0),0)*100","v":0},"LOCION CORPORAL VASELINE NOURISH + RESTORE 295ML"]
["NAIR-ALOE",{"$f":"IFERROR(VLOOKUP(A197,'HOJA DE PEDIDO'!$C$14:$M$263,9,0),0)","v":0},0,{"$f":"IFERROR(VLOOKUP($A197,'HOJA DE PEDIDO'!$C$14:$M$263,8,0),0)*100","v":0},"LOCION DEP NAIR CON ALOE"]
["NAIR-BABYOIL",{"$f":"IFERROR(VLOOKUP(A198,'HOJA DE PEDIDO'!$C$14:$M$263,9,0),0)","v":0},0,{"$f":"IFERROR(VLOOKUP($A198,'HOJA DE PEDIDO'!$C$14:$M$263,8,0),0)*100","v":0},"LOCION DEP NAIR BABY OIL"]
["NAIR-COCOA",{"$f":"IFERROR(VLOOKUP(A199,'HOJA DE PEDIDO'!$C$14:$M$263,9,0),0)","v":0},0,{"$f":"IFERROR(VLOOKUP($A199,'HOJA DE PEDIDO'!$C$14:$M$263,8,0),0)*100","v":0},"LOCION DEP NAIR COCOA"]
["NAIR-DEPMIXTO",{"$f":"IFERROR(VLOOKUP(A200,'HOJA DE PEDIDO'!$C$14:$M$263,9,0),0)","v":0},0,{"$f":"IFERROR(VLOOKUP($A200,'HOJA DE PEDIDO'!$C$14:$M$263,8,0),0)*100","v":0},"LOCION DEP NAIR MIXTO"]
["PA-PADDLERS-L",{"$f":"IFERROR(VLOOKUP(A201,'HOJA DE PEDIDO'!$C$14:$M$263,9,0),0)","v":0},0,{"$f":"IFERROR(VLOOKUP($A201,'HOJA DE PEDIDO'!$C$14:$M$263,8,0),0)*100","v":0},"PAÑAL ADL PADDLERS TALLA L"]
["PA-PADDLERS-M",{"$f":"IFERROR(VLOOKUP(A202,'HOJA DE PEDIDO'!$C$14:$M$263,9,0),0)","v":0},0,{"$f":"IFERROR(VLOOKUP($A202,'HOJA DE PEDIDO'!$C$14:$M$263,8,0),0)*100","v":0},"PAÑAL ADT PADDLERS TALLA M"]
["PJ-VASEPUR-100",{"$f":"IFERROR(VLOOKUP(A203,'HOJA DE PEDIDO'!$C$14:$M$263,9,0),0)","v":0},0,{"$f":"IFERROR(VLOOKUP($A203,'HOJA DE PEDIDO'!$C$14:$M$263,8,0),0)*100","v":0},"VASELINA VASELINE PURE ORIGINAL 100G"]
["PJ-VASEPUR-50",{"$f":"IFERROR(VLOOKUP(A204,'HOJA DE PEDIDO'!$C$14:$M$263,9,0),0)","v":0},0,{"$f":"IFERROR(VLOOKUP($A204,'HOJA DE PEDIDO'!$C$14:$M$263,8,0),0)*100","v":0},"VASELINA VASELINE PURE ORIGINAL 50G"]
["PLAY-3EN1",{"$f":"IFERROR(VLOOKUP(A205,'HOJA DE PEDIDO'!$C$14:$M$263,9,0),0)","v":0},0,{"$f":"IFERROR(VLOOKUP($A205,'HOJA DE PEDIDO'!$C$14:$M$263,8,0),0)*100","v":0},"PRESERVATIVOS PLAY B 3 EN 1"]
["PLAY-LUBRI",{"$f":"IFERROR(VLOOKUP(A206,'HOJA DE PEDIDO'!$C$14:$M$263,9,0),0)","v":0},0,{"$f":"IFERROR(VLOOKUP($A206,'HOJA DE PEDIDO'!$C$14:$M$263,8,0),0)*100","v":0},"PRESERVATIVOS PLAY B LUBRICATED"]
["PLAY-RIBBET",{"$f":"IFERROR(VLOOKUP(A207,'HOJA DE PEDIDO'!$C$14:$M$263,9,0),0)","v":0},0,{"$f":"IFERROR(VLOOKUP($A207,'HOJA DE PEDIDO'!$C$14:$M$263,8,0),0)*100","v":0},"PRESERVATIVOS PLAY B RIBBET"]
["PLAY-ULTRA",{"$f":"IFERROR(VLOOKUP(A208,'HOJA DE PEDIDO'!$C$14:$M$263,9,0),0)","v":0},0,{"$f":"IFERROR(VLOOKUP($A208,'HOJA DE PEDIDO'!$C$14:$M$263,8,0),0)*100","v":0},"PRESERVATIVOS PLAY B ULTRA"]
["SH-DOVOLEO-400",{"$f":"IFERROR(VLOOKUP(A209,'HOJA DE PEDIDO'!$C$14:$M$263,9,0),0)","v":0},0,{"$f":"IFERROR(VLOOKUP($A209,'HOJA DE PEDIDO'!$C$14:$M$263,8,0),0)*100","v":0},"SHAMPOO DOVE OLEO NUTRICION 12X400ML"]
["SH-DOVRECON-400",{"$f":"IFERROR(VLOOKUP(A210,'HOJA DE PEDIDO'!$C$14:$M$263,9,0),0)","v":0},0,{"$f":"IFERROR(VLOOKUP($A210,'HOJA DE PEDIDO'!$C$14:$M$263,8,0),0)*100","v":0},"SHAMPOO DOVE RECONS COMPLETA 12X400ML"]
["SH-SEDCERA-340",{"$f":"IFERROR(VLOOKUP(A211,'HOJA DE PEDIDO'!$C$14:$M$263,9,0),0)","v":0},0,{"$f":"IFERROR(VLOOKUP($A211,'HOJA DE PEDIDO'!$C$14:$M$263,8,0),0)*100","v":0},"SHAMPOO SEDAL CERAMIDAS 12X340ML"]
["SH-SEDDUO21-340",{"$f":"IFERROR(VLOOKUP(A212,'HOJA DE PEDIDO'!$C$14:$M$263,9,0),0)","v":0},0,{"$f":"IFERROR(VLOOKUP($A212,'HOJA DE PEDIDO'!$C$14:$M$263,8,0),0)*100","v":0},"SHAMPOO SEDAL 2EN1 DUO 12X340ML"]
["SH-SEDKERA-340",{"$f":"IFERROR(VLOOKUP(A213,'HOJA DE PEDIDO'!$C$14:$M$263,9,0),0)","v":0},0,{"$f":"IFERROR(VLOOKUP($A213,'HOJA DE PEDIDO'!$C$14:$M$263,8,0),0)*100","v":0},"SHAMPOO SEDAL KERATINA C/ANTIOX 12X340ML"]
["SH-SEDRIZOS-340",{"$f":"IFERROR(VLOOKUP(A214,'HOJA DE PEDIDO'!$C$14:$M$263,9,0),0)","v":0},0,{"$f":"IFERROR(VLOOKUP($A214,'HOJA DE PEDIDO'!$C$14:$M$263,8,0),0)*100","v":0},"SHAMPOO SEDAL RIZOS DEFINIDOS 12X340ML"]
["SH-SUAMIEL-360",{"$f":"IFERROR(VLOOKUP(A215,'HOJA DE PEDIDO'!$C$14:$M$263,9,0),0)","v":0},0,{"$f":"IFERROR(VLOOKUP($A215,'HOJA DE PEDIDO'!$C$14:$M$263,8,0),0)*100","v":0},"SUAVE SH MIEL Y ALMENDRA 12X360ML"]
["SURE-FRESH",{"$f":"IFERROR(VLOOKUP(A216,'HOJA DE PEDIDO'!$C$14:$M$263,9,0),0)","v":0},0,{"$f":"IFERROR(VLOOKUP($A216,'HOJA DE PEDIDO'!$C$14:$M$263,8,0),0)*100","v":0},"DEO SURE FRESH&COOL"]
["SURE-ORREG",{"$f":"IFERROR(VLOOKUP(A217,'HOJA DE PEDIDO'!$C$14:$M$263,9,0),0)","v":0},0,{"$f":"IFERROR(VLOOKUP($A217,'HOJA DE PEDIDO'!$C$14:$M$263,8,0),0)*100","v":0},"DEO SURE REGULAR"]
["SURE-OSPOW",{"$f":"IFERROR(VLOOKUP(A218,'HOJA DE PEDIDO'!$C$14:$M$263,9,0),0)","v":0},0,{"$f":"IFERROR(VLOOKUP($A218,'HOJA DE PEDIDO'!$C$14:$M$263,8,0),0)*100","v":0},"DEO SURE POWDER"]
["TH-BABYSOFT-40",{"$f":"IFERROR(VLOOKUP(A219,'HOJA DE PEDIDO'!$C$14:$M$263,9,0),0)","v":0},0,{"$f":"IFERROR(VLOOKUP($A219,'HOJA DE PEDIDO'!$C$14:$M$263,8,0),0)*100","v":10},"TOALLAS HUM BABY SOFT PREMIUM - 40 UND"]
["TH-BABYSOFT-72",{"$f":"IFERROR(VLOOKUP(A220,'HOJA DE PEDIDO'!$C$14:$M$263,9,0),0)","v":0},0,{"$f":"IFERROR(VLOOKUP($A220,'HOJA DE PEDIDO'!$C$14:$M$263,8,0),0)*100","v":0},"TOALLAS HUM BABY SOFT PREMIUM-72 UND"]
["DL-AHESTALLIDO",{"$f":"IFERROR(VLOOKUP(A221,'HOJA DE PEDIDO'!$C$14:$M$263,9,0),0)","v":0},0,{"$f":"IFERROR(VLOOKUP($A221,'HOJA DE PEDIDO'!$C$14:$M$263,8,0),0)*100","v":40},"A&H DETER.LIQ ESTALLIDO LIMP"]
["DL-AHJARDIN",{"$f":"IFERROR(VLOOKUP(A222,'HOJA DE PEDIDO'!$C$14:$M$263,9,0),0)","v":0},0,{"$f":"IFERROR(VLOOKUP($A222,'HOJA DE PEDIDO'!$C$14:$M$263,8,0),0)*100","v":40},"A&H DETER.LIQ JARDIN FLOR"]
["DL-XTRAMANECER",{"$f":"IFERROR(VLOOKUP(A223,'HOJA DE PEDIDO'!$C$14:$M$263,9,0),0)","v":0},0,{"$f":"IFERROR(VLOOKUP($A223,'HOJA DE PEDIDO'!$C$14:$M$263,8,0),0)*100","v":0},"XTRA DET. LIQ FRES AMANECER"]
["DL-XTROXI",{"$f":"IFERROR(VLOOKUP(A224,'HOJA DE PEDIDO'!$C$14:$M$263,9,0),0)","v":0},0,{"$f":"IFERROR(VLOOKUP($A224,'HOJA DE PEDIDO'!$C$14:$M$263,8,0),0)*100","v":40},"XTRA DET. LIQ OXI CLEAN"]
["DL-XTRTROPICAL",{"$f":"IFERROR(VLOOKUP(A225,'HOJA DE PEDIDO'!$C$14:$M$263,9,0),0)","v":0},0,{"$f":"IFERROR(VLOOKUP($A225,'HOJA DE PEDIDO'!$C$14:$M$263,8,0),0)*100","v":40},"XTRA DET. LIQ PAS. TROPICAL"]
["PH-SCOTT-4R",{"$f":"IFERROR(VLOOKUP(A226,'HOJA DE PEDIDO'!$C$14:$M$263,9,0),0)","v":0},0,{"$f":"IFERROR(VLOOKUP($A226,'HOJA DE PEDIDO'!$C$14:$M$263,8,0),0)*100","v":10},"SCOTT PAPEL HIG RINDEMAX 4ROLLOS"]
["QM-OXIPLV-800G",{"$f":"IFERROR(VLOOKUP(A227,'HOJA DE PEDIDO'!$C$14:$M$263,9,0),0)","v":0},0,{"$f":"IFERROR(VLOOKUP($A227,'HOJA DE PEDIDO'!$C$14:$M$263,8,0),0)*100","v":0},"OXI CLEAN QUITA MANCHAS POLVO"]
["QM-OXISPR-636ML",{"$f":"IFERROR(VLOOKUP(A228,'HOJA DE PEDIDO'!$C$14:$M$263,9,0),0)","v":0},0,{"$f":"IFERROR(VLOOKUP($A228,'HOJA DE PEDIDO'!$C$14:$M$263,8,0),0)*100","v":0},"OXI CLEAN QUITA MANCHAS SPRAY"]
["SER-SCOTT-100",{"$f":"IFERROR(VLOOKUP(A229,'HOJA DE PEDIDO'!$C$14:$M$263,9,0),0)","v":0},0,{"$f":"IFERROR(VLOOKUP($A229,'HOJA DE PEDIDO'!$C$14:$M$263,8,0),0)*100","v":0},"SERVILLETAS RENDIDORAS SCOTTX100"]
["HUG-NIÑAX112",{"$f":"IFERROR(VLOOKUP(A230,'HOJA DE PEDIDO'!$C$14:$M$263,9,0),0)","v":0},0,{"$f":"IFERROR(VLOOKUP($A230,'HOJA DE PEDIDO'!$C$14:$M$263,8,0),0)*100","v":0},"HUGGIES NATCARE NIÑA GX112"]
["HUG-NIÑAX60",{"$f":"IFERROR(VLOOKUP(A231,'HOJA DE PEDIDO'!$C$14:$M$263,9,0),0)","v":0},0,{"$f":"IFERROR(VLOOKUP($A231,'HOJA DE PEDIDO'!$C$14:$M$263,8,0),0)*100","v":0},"HUGGIES NATCARE NIÑA GX60"]
["HUG-NIÑAX72",{"$f":"IFERROR(VLOOKUP(A232,'HOJA DE PEDIDO'!$C$14:$M$263,9,0),0)","v":0},0,{"$f":"IFERROR(VLOOKUP($A232,'HOJA DE PEDIDO'!$C$14:$M$263,8,0),0)*100","v":0},"HUGGIES NATCARE NIÑA GX72"]
["HUG-NIÑOX112",{"$f":"IFERROR(VLOOKUP(A233,'HOJA DE PEDIDO'!$C$14:$M$263,9,0),0)","v":0},0,{"$f":"IFERROR(VLOOKUP($A233,'HOJA DE PEDIDO'!$C$14:$M$263,8,0),0)*100","v":0},"HUGGIES NATCARE NIÑO GX112"]
["HUG-NIÑOX60",{"$f":"IFERROR(VLOOKUP(A234,'HOJA DE PEDIDO'!$C$14:$M$263,9,0),0)","v":0},0,{"$f":"IFERROR(VLOOKUP($A234,'HOJA DE PEDIDO'!$C$14:$M$263,8,0),0)*100","v":0},"HUGGIES NATCARE NIÑO GX60"]
["HUG-NIÑOX72",{"$f":"IFERROR(VLOOKUP(A235,'HOJA DE PEDIDO'!$C$14:$M$263,9,0),0)","v":0},0,{"$f":"IFERROR(VLOOKUP($A235,'HOJA DE PEDIDO'!$C$14:$M$263,8,0),0)*100","v":0},"HUGGIES NATCARE NIÑO GX72"]
["PB-HUG-G",{"$f":"IFERROR(VLOOKUP(A236,'HOJA DE PEDIDO'!$C$14:$M$263,9,0),0)","v":0},0,{"$f":"IFERROR(VLOOKUP($A236,'HOJA DE PEDIDO'!$C$14:$M$263,8,0),0)*100","v":12},"PAÑAL HUGGIES TALLAS G"]
["PB-HUG-G20",{"$f":"IFERROR(VLOOKUP(A237,'HOJA DE PEDIDO'!$C$14:$M$263,9,0),0)","v":0},0,{"$f":"IFERROR(VLOOKUP($A237,'HOJA DE PEDIDO'!$C$14:$M$263,8,0),0)*100","v":7.0000000000000009},"HUGGIES PAÑAL BEBE ACTIVESEC TALLA G 8X20"]
["PB-HUG-M",{"$f":"IFERROR(VLOOKUP(A238,'HOJA DE PEDIDO'!$C$14:$M$263,9,0),0)","v":0},0,{"$f":"IFERROR(VLOOKUP($A238,'HOJA DE PEDIDO'!$C$14:$M$263,8,0),0)*100","v":7.0000000000000009},"PAÑAL HUGGIES TALLAS M"]
["PB-HUG-P",{"$f":"IFERROR(VLOOKUP(A239,'HOJA DE PEDIDO'!$C$14:$M$263,9,0),0)","v":0},0,{"$f":"IFERROR(VLOOKUP($A239,'HOJA DE PEDIDO'!$C$14:$M$263,8,0),0)*100","v":0},"PAÑAL HUGGIES TALLAS P"]
["PB-HUG-P36",{"$f":"IFERROR(VLOOKUP(A240,'HOJA DE PEDIDO'!$C$14:$M$263,9,0),0)","v":0},0,{"$f":"IFERROR(VLOOKUP($A240,'HOJA DE PEDIDO'!$C$14:$M$263,8,0),0)*100","v":7.0000000000000009},"PAÑAL HUGGIES TALLAS P36"]
["PB-HUG-RN",{"$f":"IFERROR(VLOOKUP(A241,'HOJA DE PEDIDO'!$C$14:$M$263,9,0),0)","v":0},0,{"$f":"IFERROR(VLOOKUP($A241,'HOJA DE PEDIDO'!$C$14:$M$263,8,0),0)*100","v":0},"PAÑAL HUGGIES RECIEN NACIDOX32"]
["PB-HUG-XG",{"$f":"IFERROR(VLOOKUP(A242,'HOJA DE PEDIDO'!$C$14:$M$263,9,0),0)","v":0},0,{"$f":"IFERROR(VLOOKUP($A242,'HOJA DE PEDIDO'!$C$14:$M$263,8,0),0)*100","v":12},"PAÑAL HUGGIES TALLAS XG"]
["PB-HUG-XG20",{"$f":"IFERROR(VLOOKUP(A243,'HOJA DE PEDIDO'!$C$14:$M$263,9,0),0)","v":0},0,{"$f":"IFERROR(VLOOKUP($A243,'HOJA DE PEDIDO'!$C$14:$M$263,8,0),0)*100","v":15},"HUGGIES PAÑAL BEBE ACTIVESEC TALLA XG 8X20"]
["PB-HUG-XXG",{"$f":"IFERROR(VLOOKUP(A244,'HOJA DE PEDIDO'!$C$14:$M$263,9,0),0)","v":0},0,{"$f":"IFERROR(VLOOKUP($A244,'HOJA DE PEDIDO'!$C$14:$M$263,8,0),0)*100","v":12},"PAÑAL HUGGIES TALLAS XXG"]
["PB-HUG-XXG20",{"$f":"IFERROR(VLOOKUP(A245,'HOJA DE PEDIDO'!$C$14:$M$263,9,0),0)","v":0},0,{"$f":"IFERROR(VLOOKUP($A245,'HOJA DE PEDIDO'!$C$14:$M$263,8,0),0)*100","v":18},"HUGGIES PAÑAL BEBE ACTIVESEC TALLA XXG 8X20"]
["PB-HUGNAT-G",{"$f":"IFERROR(VLOOKUP(A246,'HOJA DE PEDIDO'!$C$14:$M$263,9,0),0)","v":0},0,{"$f":"IFERROR(VLOOKUP($A246,'HOJA DE PEDIDO'!$C$14:$M$263,8,0),0)*100","v":5},"PAÑAL HUG NATCARE TALLA G"]
["PB-HUGNAT-M",{"$f":"IFERROR(VLOOKUP(A247,'HOJA DE PEDIDO'!$C$14:$M$263,9,0),0)","v":0},0,{"$f":"IFERROR(VLOOKUP($A247,'HOJA DE PEDIDO'!$C$14:$M$263,8,0),0)*100","v":5},"PAÑAL HUG NATCARE TALLA M"]
["PB-HUGNAT-P",{"$f":"IFERROR(VLOOKUP(A248,'HOJA DE PEDIDO'!$C$14:$M$263,9,0),0)","v":0},0,{"$f":"IFERROR(VLOOKUP($A248,'HOJA DE PEDIDO'!$C$14:$M$263,8,0),0)*100","v":5},"PAÑAL HUG NATCARE TALLA P"]
["PB-HUGNAT-RN20",{"$f":"IFERROR(VLOOKUP(A249,'HOJA DE PEDIDO'!$C$14:$M$263,9,0),0)","v":0},0,{"$f":"IFERROR(VLOOKUP($A249,'HOJA DE PEDIDO'!$C$14:$M$263,8,0),0)*100","v":0},"HUGGIES PAÑAL BEBE NATCARE TALLA RN 10X20"]
["PB-HUGNAT-XG",{"$f":"IFERROR(VLOOKUP(A250,'HOJA DE PEDIDO'!$C$14:$M$263,9,0),0)","v":0},0,{"$f":"IFERROR(VLOOKUP($A250,'HOJA DE PEDIDO'!$C$14:$M$263,8,0),0)*100","v":5},"PAÑAL HUG NATCARE TALLA XG"]
["PB-HUGNAT-XXG",{"$f":"IFERROR(VLOOKUP(A251,'HOJA DE PEDIDO'!$C$14:$M$263,9,0),0)","v":0},0,{"$f":"IFERROR(VLOOKUP($A251,'HOJA DE PEDIDO'!$C$14:$M$263,8,0),0)*100","v":5},"PAÑAL HUG NATCARE TALLA XXG"]
["TH-HUGMAN-48",{"$f":"IFERROR(VLOOKUP(A252,'HOJA DE PEDIDO'!$C$14:$M$263,9,0),0)","v":0},0,{"$f":"IFERROR(VLOOKUP($A252,'HOJA DE PEDIDO'!$C$14:$M$263,8,0),0)*100","v":0},"TOA HUM HUGGIES X 48 FIBRAS NATURALES"]
["TH-HUGMAN-80",{"$f":"IFERROR(VLOOKUP(A253,'HOJA DE PEDIDO'!$C$14:$M$263,9,0),0)","v":0},0,{"$f":"IFERROR(VLOOKUP($A253,'HOJA DE PEDIDO'!$C$14:$M$263,8,0),0)*100","v":0},"TOA HUM HUGGIES X 80 FIBRAS NATURALES"]
["AH-DENT-ADWH",{"$f":"IFERROR(VLOOKUP(A254,'HOJA DE PEDIDO'!$C$14:$M$263,9,0),0)","v":0},0,{"$f":"IFERROR(VLOOKUP($A254,'HOJA DE PEDIDO'!$C$14:$M$263,8,0),0)*100","v":0},"PAST DENT ARM&HAMMER ADVANCE W"]
["AH-DENT-CCARE",{"$f":"IFERROR(VLOOKUP(A255,'HOJA DE PEDIDO'!$C$14:$M$263,9,0),0)","v":0},0,{"$f":"IFERROR(VLOOKUP($A255,'HOJA DE PEDIDO'!$C$14:$M$263,8,0),0)*100","v":0},"PAST DENT ARM&HAMMER COMPL CARE"]
["AH-DENT-PEROX",{"$f":"IFERROR(VLOOKUP(A256,'HOJA DE PEDIDO'!$C$14:$M$263,9,0),0)","v":0},0,{"$f":"IFERROR(VLOOKUP($A256,'HOJA DE PEDIDO'!$C$14:$M$263,8,0),0)*100","v":0},"PAST DENT ARM&HAMMER PEROX"]
["END-LG-4SV",{"$f":"IFERROR(VLOOKUP(A257,'HOJA DE PEDIDO'!$C$14:$M$263,9,0),0)","v":0},0,{"$f":"IFERROR(VLOOKUP($A257,'HOJA DE PEDIDO'!$C$14:$M$263,8,0),0)*100","v":0},"Exhibidor Energizer PUNTA DE GONDOLA"]
["ISL-XSM",{"$f":"IFERROR(VLOOKUP(A258,'HOJA DE PEDIDO'!$C$14:$M$263,9,0),0)","v":0},0,{"$f":"IFERROR(VLOOKUP($A258,'HOJA DE PEDIDO'!$C$14:$M$263,8,0),0)*100","v":0},"Exhibidor Energizer TIPO ISLA"]
["PIL-EGZR-9V",{"$f":"IFERROR(VLOOKUP(A259,'HOJA DE PEDIDO'!$C$14:$M$263,9,0),0)","v":0},0,{"$f":"IFERROR(VLOOKUP($A259,'HOJA DE PEDIDO'!$C$14:$M$263,8,0),0)*100","v":0},"ENERGIZER BAT ALK  9V"]
["PIL-EGZR-A23X2",{"$f":"IFERROR(VLOOKUP(A260,'HOJA DE PEDIDO'!$C$14:$M$263,9,0),0)","v":0},0,{"$f":"IFERROR(VLOOKUP($A260,'HOJA DE PEDIDO'!$C$14:$M$263,8,0),0)*100","v":0},"ENERGIZER A23X2 BATERIA ALKALINA MINI"]
["PIL-EGZR-AAAX2",{"$f":"IFERROR(VLOOKUP(A261,'HOJA DE PEDIDO'!$C$14:$M$263,9,0),0)","v":0},0,{"$f":"IFERROR(VLOOKUP($A261,'HOJA DE PEDIDO'!$C$14:$M$263,8,0),0)*100","v":0},"ENERGIZER BAT ALK AAAX2"]
["PIL-EGZR-AAAX4",{"$f":"IFERROR(VLOOKUP(A262,'HOJA DE PEDIDO'!$C$14:$M$263,9,0),0)","v":0},0,{"$f":"IFERROR(VLOOKUP($A262,'HOJA DE PEDIDO'!$C$14:$M$263,8,0),0)*100","v":0},"ENERGIZER BAT ALK AAAX4"]
["PIL-EGZR-AAX2",{"$f":"IFERROR(VLOOKUP(A263,'HOJA DE PEDIDO'!$C$14:$M$263,9,0),0)","v":0},0,{"$f":"IFERROR(VLOOKUP($A263,'HOJA DE PEDIDO'!$C$14:$M$263,8,0),0)*100","v":0},"ENERGIZER BAT ALK AAX2"]
["PIL-EGZR-AAX4",{"$f":"IFERROR(VLOOKUP(A264,'HOJA DE PEDIDO'!$C$14:$M$263,9,0),0)","v":0},0,{"$f":"IFERROR(VLOOKUP($A264,'HOJA DE PEDIDO'!$C$14:$M$263,8,0),0)*100","v":0},"ENERGIZER BAT ALK AAX4"]
["PIL-EGZR-CX2",{"$f":"IFERROR(VLOOKUP(A265,'HOJA DE PEDIDO'!$C$14:$M$263,9,0),0)","v":0},0,{"$f":"IFERROR(VLOOKUP($A265,'HOJA DE PEDIDO'!$C$14:$M$263,8,0),0)*100","v":0},"ENERGIZER BAT ALK CX2"]
["PIL-EGZR-DX2",{"$f":"IFERROR(VLOOKUP(A266,'HOJA DE PEDIDO'!$C$14:$M$263,9,0),0)","v":0},0,{"$f":"IFERROR(VLOOKUP($A266,'HOJA DE PEDIDO'!$C$14:$M$263,8,0),0)*100","v":0},"ENERGIZER BAT ALK  DX2"]
["POP-EN-CSPLS",{"$f":"IFERROR(VLOOKUP(A267,'HOJA DE PEDIDO'!$C$14:$M$263,9,0),0)","v":0},0,{"$f":"IFERROR(VLOOKUP($A267,'HOJA DE PEDIDO'!$C$14:$M$263,8,0),0)*100","v":0},"Exhibidor Energizer CS-PLSTC"]
["POP-EN-CTSM",{"$f":"IFERROR(VLOOKUP(A268,'HOJA DE PEDIDO'!$C$14:$M$263,9,0),0)","v":0},0,{"$f":"IFERROR(VLOOKUP($A268,'HOJA DE PEDIDO'!$C$14:$M$263,8,0),0)*100","v":0},"Exhibidor Energizer CT-SM"]
["POP-EN-FSXSM",{"$f":"IFERROR(VLOOKUP(A269,'HOJA DE PEDIDO'!$C$14:$M$263,9,0),0)","v":0},0,{"$f":"IFERROR(VLOOKUP($A269,'HOJA DE PEDIDO'!$C$14:$M$263,8,0),0)*100","v":0},"Exhibidor Energizer FLOORSTAND FS-XSM"]
["POP-EN-MBHZ",{"$f":"IFERROR(VLOOKUP(A270,'HOJA DE PEDIDO'!$C$14:$M$263,9,0),0)","v":0},0,{"$f":"IFERROR(VLOOKUP($A270,'HOJA DE PEDIDO'!$C$14:$M$263,8,0),0)*100","v":0},"Exhibidor Energizer MB-EX-HZ"]
["POP-EN-SDKSM",{"$f":"IFERROR(VLOOKUP(A271,'HOJA DE PEDIDO'!$C$14:$M$263,9,0),0)","v":0},0,{"$f":"IFERROR(VLOOKUP($A271,'HOJA DE PEDIDO'!$C$14:$M$263,8,0),0)*100","v":0},"Exhibidor Energizer SDK-SM"]
["CUB-KNORRPOL-12",{"$f":"IFERROR(VLOOKUP(A272,'HOJA DE PEDIDO'!$C$14:$M$263,9,0),0)","v":0},0,{"$f":"IFERROR(VLOOKUP($A272,'HOJA DE PEDIDO'!$C$14:$M$263,8,0),0)*100","v":0},"CUBITO KNORR DE POLLO DESHIDRATADO X 12UN"]
["CUB-KNORRPOL-120",{"$f":"IFERROR(VLOOKUP(A273,'HOJA DE PEDIDO'!$C$14:$M$263,9,0),0)","v":0},0,{"$f":"IFERROR(VLOOKUP($A273,'HOJA DE PEDIDO'!$C$14:$M$263,8,0),0)*100","v":0},"CUBITO KNORR DE POLLO DESHIDRATADO X 120UN"]
["CUB-KNORRPOL-8",{"$f":"IFERROR(VLOOKUP(A274,'HOJA DE PEDIDO'!$C$14:$M$263,9,0),0)","v":0},0,{"$f":"IFERROR(VLOOKUP($A274,'HOJA DE PEDIDO'!$C$14:$M$263,8,0),0)*100","v":0},"CUBITO KNORR DE POLLO DESHIDRATADO X 8UN"]
["NOO-KNORCAR-75",{"$f":"IFERROR(VLOOKUP(A275,'HOJA DE PEDIDO'!$C$14:$M$263,9,0),0)","v":0},0,{"$f":"IFERROR(VLOOKUP($A275,'HOJA DE PEDIDO'!$C$14:$M$263,8,0),0)*100","v":0},"KNORR NOODLES CARNE 75G"]
["NOO-KNORPOL-75",{"$f":"IFERROR(VLOOKUP(A276,'HOJA DE PEDIDO'!$C$14:$M$263,9,0),0)","v":0},0,{"$f":"IFERROR(VLOOKUP($A276,'HOJA DE PEDIDO'!$C$14:$M$263,8,0),0)*100","v":0},"KNORR NOODLES POLLO 75G"]
["NOO-KNORVEG-75",{"$f":"IFERROR(VLOOKUP(A277,'HOJA DE PEDIDO'!$C$14:$M$263,9,0),0)","v":0},0,{"$f":"IFERROR(VLOOKUP($A277,'HOJA DE PEDIDO'!$C$14:$M$263,8,0),0)*100","v":0},"KNORR NOODLES VEGETALES 75G"]

{"sheet":"inventario","index":3,"n_rows":151,"n_cols":8,"rows_kept":151,"cut":false,"hidden":true,"merged":[]}
[]
[null,"CODIGO","DESCRIPCION","MODELO","REFERENCIA","ALMACEN","STOCK ACTUAL","BULTOS"]
[null,101010040015,"AMMENS TALCO BABY 12X125G","AMMENS-BABY125",7502221182181,1,579,"BUL"]
[null,101010040017,"AMMENS TALCO FRESH 12X125G","AMMENS-FRESH125",7502221182167,1,722,"BUL"]
[null,101010040019,"AMMENS TALCO ORIGINAL 12X125G","AMMENS-ORI125",7502221182143,1,682,"BUL"]
[null,101010040020,"AMMENS TALCO PIE 12X60G","AMMENS-PIE60",7502221184437,1,720,"BUL"]
[null,202020150085,"A&H DETER LIQ JARDIN FLOR 8X1.47L","DL-AHJARDIN","REPETID",1,2,"BUL"]
[null,301020030057,"AXE DEO STICK COLLISION 12X50G","DEO-AXSTI-COLL",75060206,1,601,"BUL"]
[null,301020030197,"AXE DEO STICK BLACK 12X50G","DEO-AXSTI-BLK",75048082,1,488,"BUL"]
[null,301020120048,"AXE BS APOLLO 12X150ML","DEO-AXBS-APOLLO",7791293025780,1,1402,"BUL"]
[null,301020120050,"AXE BS BLACK NIGHT 12X150ML","DEO-AXBS-BLKNGHT",7791293032153,1,3099,"BUL"]
[null,301020120051,"AXE BS COLLISION 12X150ML","DEO-AXBS-COLL",7506306202832,1,2324,"BUL"]
[null,301020120053,"AXE BS DARK TEMPTATION 12X150ML","DEO-AXBS-DARKT",7791293025797,1,2114,"BUL"]
[null,301020120054,"AXE BS EXCITE 12X150ML","DEO-AXBS-EXCITE",7791293025803,1,2777,"BUL"]
[null,301020120055,"AXE BS FUSION 12X150ML","DEO-AXBS-FUSION",7791293025810,1,1970,"BUL"]
[null,501010050021,"COTTON SOFT BOLAS ALG 40X50UND","BA-CSOFT-50",null,1,96,"BUL"]
[null,501010050203,"COTTON SOFT HISOPOS 100UND","HA-CSOFT-100",5115203,1,2,"UND"]
[null,601020030061,"DOVE DEO STICK DERMO ACLARANT 12X50G","DEO-DOVDERM-S50",75034238,1,654,"BUL"]
[null,601020130059,"DOVE DEO AER AP DERMO ACLARANT 12X89G/150ML","DEO-DOVDERM-A150",7506306241152,1,277,"BUL"]
[null,601020130062,"DOVE DEO AER MEN INVI DRY12X89G/150ML","DEO-DOVMINV-A150",7791293022819,1,143,"BUL"]
[null,601020130064,"DOVE DEO WOMEN AER ORIGINAL BIPACK 6X2X89G/150ML","DEO-DOVORG-2PK",7702006201032,1,119,"BUL"]
[null,601020130065,"DOVE DEO AER AP ORIGINAL 12X89G/150ML","DEO-DOVORG-A150",7506306241183,1,905,"BUL"]
[null,601020140060,"DOVE DEO ROLLON DERMO ACLARANT 12X50ML","DEO-DOVDERM-R50",78928503,1,383,"BUL"]
[null,601030010001,"DOVE ACONDICIONADOR OLEO NUTRICION 12X400ML","AC-DOVOLEO-400",7891150017337,1,821,"BUL"]
[null,601030010002,"DOVE ACONDICIONADOR RECONS COMPLETA 12X400ML","AC-DOVRECON-400",null,1,1045,"BUL"]
[null,601030010218,"DOVE BAÑO DE CREMA CONCENTRADO RECONS 6X300G","BC-DOVRECON-300",7891150058613,1,230,"BUL"]
[null,601030340174,"DOVE SHAMPOO RECONS COMPLETA 12X400ML","SH-DOVRECON-400",7791293005010,1,1122,"BUL"]
[null,601050180094,"DOVE JABON ORIGINAL 48X90G","JB-DOVORG-90",7898422746759,1,1142,"BUL"]
[null,601050180095,"DOVE JABON KAR Y VAINILLA 48X90G","JB-DOVVAN-90",7891150019560,1,1248,"BUL"]
[null,702010230130,"ENERGIZER LINTERNA 50 LED + AAAX6","LIN-EGZR-AAAX6",null,1,1585,"BUL"]
[null,702010290154,"ENERGIZER BAT ALK 24X9V","PIL-EGZR-9V",39800013613,1,330,"BUL"]
[null,702010290156,"ENERGIZER BAT ALK 24XAAAX2","PIL-EGZR-AAAX2",39800014009,1,109,"BUL"]
[null,702010290158,"ENERGIZER BAT ALK 24XAAX2","PIL-EGZR-AAX2",39800015464,1,126,"BUL"]
[null,702010290161,"ENERGIZER BAT ALK 12XDX2","PIL-EGZR-DX2",39800011398,1,1,"BUL"]
[null,705010370202,"EXHIBIDOR ENERGIZER PUNTA DE GONDOLA","END-LG-4SV",null,1,25,"UND"]
[null,705010370207,"ENERGIZER EXHIBIDOR DE PIE / ISLA (FS-SM)","ISL-XSM",null,1,5,"UND"]
[null,705010370213,"ENERGIZER EXHIBIDOR RISTRA PLASTICA (CS-PLSTC)","CS-PLSTC",null,1,205,"UND"]
[null,802010290163,"EVEREADY BAT 24XAAX4","PIL-EVR-AAX4",39800040008,1,32,"BUL"]
[null,802010290164,"EVEREADY BAT 12XCX2","PIL-EVR-CX2",39800059154,1,335.91666700000002,"BUL"]
[null,802010290165,"EVEREADY BAT 12XDX2","PIL-EVR-DX2",39800059352,1,281,"BUL"]
[null,901060270137,"HUGGIES PAÑAL ACTIVESEC TALLA G 8X30UND","PB-HUG-G",7702425801530,1,127,"BUL"]
[null,901060270138,"HUGGIES PAÑAL ACTIVESEC TALLA G 8X20UND","PB-HUG-G20",7702425810754,1,501,"BUL"]
[null,901060270139,"HUGGIES PAÑAL ACTIVESEC TALLA M 8X30UND","PB-HUG-M",7702425801462,1,1907,"BUL"]
[null,901060270141,"HUGGIES PAÑAL ACTIVESEC TALLA P 6X36UND","PB-HUG-P36",7702425806597,1,2291,"BUL"]
[null,901060270142,"HUGGIES PAÑAL ACTIVESEC RN 6X32UND","PB-HUG-RN",7702425804654,1,1684,"BUL"]
[null,901060270143,"HUGGIES PAÑAL ACTIVESEC XG 8X30UND","PB-HUG-XG",7702425801615,1,1175,"BUL"]
[null,901060270144,"HUGGIES PAÑAL ACTIVESEC XG 8X20UND","PB-HUG-XG20",7702425810761,1,6,"BUL"]
[null,901060270145,"HUGGIES PAÑAL ACTIVESEC XXG 8X30UND","PB-HUG-XXG",7702425801677,1,2518,"BUL"]
[null,901060270146,"HUGGIES PAÑAL ACTIVESEC XXG 8X20UND","PB-HUG-XXG20",7702425810778,1,1512,"BUL"]
[null,901060270147,"HUGGIES PAÑAL NATCARE G 8X30UND","PB-HUGNAT-G",7702425808706,1,155,"BUL"]
[null,901060270148,"HUGGIES PAÑAL NATCARE M 8X30UND","PB-HUGNAT-M",7702425808690,1,586,"BUL"]
[null,901060270149,"HUGGIES PAÑAL NATCARE P 8X30UND","PB-HUGNAT-P",7702425802155,1,910,"BUL"]
[null,901060270150,"HUGGIES PAÑAL NATCARE RN 8X20UND","PB-HUGNAT-RN20",7702425802148,1,1007,"BUL"]
[null,901060270152,"HUGGIES PAÑAL NATCARE XXG 8X30UND","PB-HUGNAT-XXG",7702425808720,1,3,"BUL"]
[null,1003010110043,"KNORR CUBITO DE POLLO DESH 96X12UND","CUB-KNORRPOL-12",8886467068751,1,9068,"BUL"]
[null,1003010110044,"KNORR CUBITO DE POLLO DESH 12X120UND","CUB-KNORRPOL-120",8886467068744,1,3081,"BUL"]
[null,1003010110045,"KNORR CUBITO DE POLLO DESH 144X8UND","CUB-KNORRPOL-8",8886467068768,1,8785,"BUL"]
[null,1003010110222,"KNORR CUBITO DE CARNE DESH 96X12UND","CUB-KNORRCAR-12",8886467052644,1,735,"BUL"]
[null,1003010110223,"KNORR CUBITO DE CARNE DESH 144X8UND","CUB-KNORRCAR-8",8886467052651,1,682,"BUL"]
[null,1003010110224,"KNORR CUBITO DE COSTILLA DESH 96X12UND","CUB-KNORRCOS-12",8886467052675,1,726,"BUL"]
[null,1003010110225,"KNORR CUBITO DE COSTILLA DESH 144X8UND","CUB-KNORRCOS-8",8886467052682,1,664,"BUL"]
[null,1003020250132,"KNORR NOODLES CARNE 30X75G","NOO-KNORCAR-75",8886467052040,1,4161,"BUL"]
[null,1003020250133,"KNORR NOODLES POLLO 30X75G","NOO-KNORPOL-75",8886467052033,1,77,"BUL"]
[null,1003030380226,"KNORR SOPA DE POLLO Y FIDEOS 72X60G","SOP-KNORRPOL-60",8886467052798,1,3156,"BUL"]
[null,1003030380227,"KNORR SOPA DE VEGETALES 72X60G","SOP-KNORRVEG-60",8886467052811,1,1480,"BUL"]
[null,1003030390228,"KNORR CREMA DE POLLO 72X60G","CRE-KNORRPOL-60",8886467052828,1,2187,"BUL"]
[null,1003030390229,"KNORR CREMA DE CHAMPIÑONES 72X60G","CRE-KNORRCHA-60",8886467052835,1,1421,"BUL"]
[null,1003030390230,"KNORR CREMA DE MAIZ 72X60G","CRE-KNORRMAIZ-60",8886467052859,1,1525,"BUL"]
[null,1003030390231,"KNORR CREMA DE CAMARONES 72X60G","CRE-KNORRCAM-60",8886467052866,1,1580,"BUL"]
[null,1003040400232,"KNORR SAZONADOR TODO USO 48X200G","SAZ-KNORRTODO-200",8886467052781,1,1653,"BUL"]
[null,1006010410236,"KNORR PROMO 1 SOPA 60G + 2 CUBITOS 8UND",null,725765285508,1,12,"BUL"]
[null,1006010410237,"KNORR PROMO 1 SAZONADOR 200 G",null,725765285539,1,3,"BUL"]
[null,1006010410238,"KNORR PROMO 1 CUBITO 12 UND",null,725765285522,1,33,"BUL"]
[null,1101070190116,"KOTEX LINER ANTIBAC 12X15UND","KOTEX-LINAB15",7702425807549,1,2266,"BUL"]
[null,1101070190117,"KOTEX LINER ANTIBAC 12X50UND","KOTEX-LINAB50",7702425809758,1,1130,"BUL"]
[null,1101070190122,"KOTEX TOALLA FEM UF ANTIBAC RISTRA 10X5X5UND","KOTEX-UFAB-R5",7702425810006,1,1296,"BUL"]
[null,1101070190123,"KOTEX TOALLA FEM UF DIA&NOCHE 12X8UND","KOTEX-UFNOCT",7702425807648,1,1721,"BUL"]
[null,1101070190124,"KOTEX TOALLA FEM UF PURE 12X10UND","KOTEX-UFPURE",7702425810501,1,2164,"BUL"]
[null,1101070190125,"KOTEX TOALLA FEM UF 48X10UND","KOTEX-ULTRAF",7702425801288,1,2129,"BUL"]
[null,1101070190208,"KOTEX TOALLA FEM ESENCIAL S/ALAS 24X10UND","KOTEX-ESENSA10",7441008164326,1,3496.875,"BUL"]
[null,1101070200114,"KOTEX LINER 12X15UND","KOTEX-LIN15",7702425544932,1,2444,"BUL"]
[null,1101070200115,"KOTEX LINER 12X50UND","KOTEX-LIN50",7702425809765,1,4140.8333329999996,"BUL"]
[null,1201050180096,"LUX JABON JAZMIN 48X125G","JB-LUXJAZ-125",7702006205016,1,246,"BUL"]
[null,1201050180097,"LUX JABON JAZMIN 3PACK 16X3X125G","JB-LUXJAZ-3PK",7702006205061,1,483,"BUL"]
[null,1201050180099,"LUX JABON ORQUIDEA NEGRA 3PACK 16X3X125G","JB-LUXORQ-3PK",7702006205092,1,407,"BUL"]
[null,1201050180100,"LUX JABON ROSAS FR 48X125G","JB-LUXROSA-125",7702006205009,1,459,"BUL"]
[null,1201050180101,"LUX JABON ROSAS FR 3PACK 16X3X125G","JB-LUXROSA-3PK",7702006205054,1,297,"BUL"]
[null,1201050180103,"LUX JABON VAINILLA 3PACK 16X3X125G","JB-LUXVAN-3PK",7702006205078,1,506,"BUL"]
[null,1601080260136,"PADDLERS PAÑAL ADULTO TALLA M 12X8UND","PA-PADDLERS-M",null,1,7,"BUL"]
[null,1801040060022,"PONDS CR BIOHIDRATANTE 24X100G","CF-PONDBIO-100",7501056330330,1,418,"BUL"]
[null,1801040060023,"PONDS CR BIOHIDRATANTE 24X50G","CF-PONDBIO-50",7501056330323,1,528,"BUL"]
[null,1801040060030,"PONDS CR H 24X100G","CF-PONDH-100",7501056325398,1,206,"BUL"]
[null,1801040060036,"PONDS CR S HUMECTANTE NUTRITIVA 24X100G","CF-PONDS-100",7501056326142,1,94,"BUL"]
[null,1801040060037,"PONDS CR S HUMECTANTE NUTRITIVA 24X50G","CF-PONDS-50",7501056325442,1,318,"BUL"]
[null,1801040070024,"PONDS CR C ORIGINAL 24X45G","CF-PONDC-45",7501056325169,1,412,"BUL"]
[null,1801040070025,"PONDS CR C ORIGINAL 24X95G","CF-PONDC-95",7501056325176,1,516,"BUL"]
[null,1801040070029,"PONDS CR C PEPINO 24X100G","CF-PONDCPEP-100",7501056324889,1,37,"BUL"]
[null,1801040080027,"PONDS CR CLARANT B3 GRASA 24X100G","CF-PONDCLAR-100",7501056330309,1,177,"BUL"]
[null,1801040080028,"PONDS CR CLARANT B3 GRASA 24X50G","CF-PONDCLAR-50",7501056330293,1,45,"BUL"]
[null,1801040080196,"PONDS CR CLARANT B3 SECA 24X100G","CF-PONDCLARS-100",7501056330262,1,208,"BUL"]
[null,1801040080216,"PONDS CR CLARANT B3 SECA 24X50G","CF-PONDCLARS-50",7501056330255,1,141,"BUL"]
[null,1801040090033,"PONDS CR REJUVENESS 24X100G","CF-PONDREJ-100",7501056330491,1,324,"BUL"]
[null,1801040090034,"PONDS CR REJUVENESS 24X50G","CF-PONDREJ-50",7501056330484,1,99,"BUL"]
[null,1801040090220,"PONDS CR REJUVENESS SACHET 12X10X8.5G","CF-PONDREJ-SCH8",null,1,16,"BUL"]
[null,1901020030072,"REXONA DEO STICK COTTON 12X50G","DEO-REXCOTT-S50",78084117,1,723,"BUL"]
[null,1901020030083,"REXONA DEO STICK V8 12X50G","DEO-REXV8-S50",75024956,1,522,"BUL"]
[null,1901020030194,"REXONA DEO STICK BAMBOO 12X50G","DEO-REXBAMB-S50",78004498,1,239,"BUL"]
[null,1901020030201,"REXONA DEO STICK PERFECT TONE 12X45GR","DEO-REXPERFECT-S45",null,1,335,"BUL"]
[null,1901020130069,"REXONA DEO AER BAMBOO 2PACK 6X2X90G/150ML","DEO-REXBAMB-2PK",7702006200998,1,115,"BUL"]
[null,1901020130070,"REXONA DEO AER BAMBOO 12X90G/150ML","DEO-REXBAMB-A150",7791293036069,1,321,"BUL"]
[null,1901020130071,"REXONA DEO AER COTTON 12X90G/150ML","DEO-REXCOTT-A150",7791293032467,1,741,"BUL"]
[null,1901020130074,"REXONA DEO AER AB INV FM 12X90G/150ML","DEO-REXMAB-A150",7506306244184,1,123,"BUL"]
[null,1901020130077,"REXONA DEO AER SPORTFAN 12X90G/150ML","DEO-REXSPFAN-A150",7791293022543,1,133,"BUL"]
[null,1901020130080,"REXONA DEO AER V8 2PACK 6X2X90G/150ML","DEO-REXV8-2PK",7702006200981,1,124,"BUL"]
[null,1901020130081,"REXONA DEO AER V8 12X90G/150ML","DEO-REXV8-A150",7791293022567,1,102,"BUL"]
[null,1901020130198,"REXONA DEO AER EFFICIENT DELICATE 12X210ML","DEO-REXEFFIDEL-A210",7791293042091,1,78,"BUL"]
[null,1901020130199,"REXONA DEO AER PERFECT TONE 12X90G/150ML","DEO-REXPERFECT-A150",7506306206625,1,961,"BUL"]
[null,1901020130221,"REXONA DEO AER EFFICIENT ORIGINAL 12X210ML","DEO-REXEFFIOR-A210",7791293042114,1,218,"BUL"]
[null,1901020140082,"REXONA DEO ROLLON V8 12X50ML","DEO-REXV8-R50",78923454,1,185,"BUL"]
[null,1901020140200,"REXONA DEO ROLLON PERFECT TONE 12X50ML","DEO-REXPERFECT-R50",null,1,351,"BUL"]
[null,1901020140233,"REXONA DEO ROLLON BAMBOO 12X50ML",null,78924345,1,215,"BUL"]
[null,1901050180104,"REXONA JABON BARRA 7PACK 10X7X120G","JB-REX7PACK-120",null,1,1000,"BUL"]
[null,1901050180105,"REXONA JABON ANTIBAC AVENA 48X120G","JB-REXAVE-120",7702006402231,1,527,"BUL"]
[null,1901050180107,"REXONA JABON ANTIBAC BAMBOO 48X120G","JB-REXBAMB-120",7702006402200,1,121,"BUL"]
[null,1901050180108,"REXONA JABON ANTIBAC BAMBOO 3PACK 16X3X120G","JB-REXBAMB-3PK",7702006205399,1,325,"BUL"]
[null,1901050180109,"REXONA JABON ANTIBAC FRESH 48X120G","JB-REXFRESH-120",7702006402187,1,623,"BUL"]
[null,1901050180110,"REXONA JABON ANTIBAC FRESH 3PACK 16X3X120G","JB-REXFRESH-3PK",7702006205375,1,164,"BUL"]
[null,1901050180111,"REXONA JABON ANTIBAC LIMPIEZA 48X120G","JB-REXLIMP-120",7702006402194,1,275,"BUL"]
[null,1901050180112,"REXONA JABON ANTIBAC LIMPIEZA 3PACK 16X3X120G","JB-REXLIMP-3PK",7702006205382,1,204,"BUL"]
[null,2101030010003,"SEDAL ACONDICIONADOR CERAMIDAS 12X340ML","AC-SEDCERA-340",7506306237902,1,1087,"BUL"]
[null,2101030010004,"SEDAL ACONDICIONADOR KERAT C/ANTIOX 12X340ML","AC-SEDKERA-340",7506306237940,1,862,"BUL"]
[null,2101030010005,"SEDAL ACONDICIONADOR RIZOS DEFINIDOS 12X340ML","AC-SEDRIZOS-340",7506306237155,1,702,"BUL"]
[null,2101030010195,"SEDAL ACONDICIONADOR CERAMIDAS 12X190ML","AC-SEDCERA-190",7506306237094,1,606,"BUL"]
[null,2101030100039,"SEDAL CREMA DE PEINAR CERAMIDAS 12X300ML","CP-SEDCERA-300",7501056340124,1,437,"BUL"]
[null,2101030100040,"SEDAL CREMA DE PEINAR KERATINA C/ANTIOX 12X300ML","CP-SEDKERA-300",7506306233249,1,109,"BUL"]
[null,2101030100041,"SEDAL CREMA DE PEINAR RIZOS DEFINIDOS 12X300ML","CP-SEDRIZOS-300",7501056340131,1,418,"BUL"]
[null,2101030100042,"SEDAL CREMA DE PEINAR RIZOS RISTRA 288X10ML","CP-SEDRIZOS-R10",7501056340261,1,39,"BUL"]
[null,2101030340175,"SEDAL SHAMPOO CASPA CONTROL 12X340ML","SH-SEDCASP-340",7506306237971,1,696,"BUL"]
[null,2101030340177,"SEDAL SHAMPOO CERAMIDAS 12X340ML","SH-SEDCERA-340",7506306237315,1,82,"BUL"]
[null,2101030340178,"SEDAL SHAMPOO 2EN1 12X340ML","SH-SEDDUO21-340",null,1,78,"BUL"]
[null,2101030340179,"SEDAL SHAMPOO KERATINA C/ANTIOX 12X190ML","SH-SEDKERA-190",7506306237841,1,252,"BUL"]
[null,2101030340180,"SEDAL SHAMPOO KERATINA C/ANTIOX 12X340ML","SH-SEDKERA-340",7506306237339,1,826,"BUL"]
[null,2101030340181,"SEDAL SHAMPOO RIZOS DEFINIDOS 12X340ML","SH-SEDRIZOS-340",7506306237421,1,900,"BUL"]
[null,2101030340234,"SEDAL SHAMPOO RIZOS DEFINIDOS 12X190ML",null,7506306237391,1,252,"BUL"]
[null,2301020030183,"SURE DEO FRESH&COOL 12X76G","SURE-FRESH",null,1,5,"BUL"]
[null,2301020030184,"SURE DEO REGULAR 12X76G","SURE-ORREG",null,1,32,"BUL"]
[null,2301020030185,"SURE DEO POWDER 12X76G","SURE-OSPOW",null,1,7,"BUL"]
[null,2502020150088,"XTRA DETER LIQ PASION TROPICAL 8X1.5L","DL-XTRTROPICAL",94514424049,1,2,"BUL"]
[null,"GM-CS0001","ARTICULOS DE OFICINA",null,null,1,15,"UND"]
[null,"GM-CS0002","ARTICULOS DE LIMPIEZA",null,null,1,7,"UND"]
[null,"GM-CS0003","ARTICULOS DE CAFETERIA",null,null,1,8,"UND"]

{"sheet":"ficha producto","index":4,"n_rows":306,"n_cols":9,"rows_kept":306,"cut":false,"hidden":true,"merged":[]}
[]
[]
[]
[null,"CODIGO","TIPO","MANEJA SERIALES","INACTIVO","FECHA DE REGISTRO","DESCRIPCION","MODELO","UNIDADDEEMPAQUE"]
[null,"AC-DOVOLEO-400","V","NO","NO","2021-01-14","ACONDICIONADOR DOVE OLEO NUTRICION 12X400ML","DOVE",12]
[null,"AC-DOVRECON-400","V","NO","NO","2021-01-14","ACONDICIONADOR DOVE RECONSTRUCCION COMPLETA 12X400ML","DOVE",12]
[null,"AC-SEDCERA-340","V","NO","NO","2021-01-14","ACONDICIONADOR SEDAL CERAMIDAS 12X340ML","SEDAL",12]
[null,"AC-SEDKERA-340","V","NO","NO","2021-01-14","ACONDICIONADOR SEDAL KERAT C/ANTIOX 12X340ML","SEDAL",12]
[null,"AC-SEDRIZOS-340","V","NO","NO","2021-01-14","ACONDICIONADOR SEDAL RIZOS DEFINIDOS 12X340ML","SEDAL",12]
[null,"AC-SUAMIEL-360","V","NO","NO","2020-11-26","SUAVE AC MIEL Y ALMENDRA 12X360ML","SUAVE",12]
[null,"AH-DENT-ADWH","V","NO","NO","2020-06-26","PAST DENT ARM&HAMMER ADVANCE W","ARM & HAMMER",12]
[null,"AH-DENT-CCARE","V","NO","NO","2020-06-26","PAST DENT ARM&HAMMER COMPL CARE","ARM & HAMMER",12]
[null,"AH-DENT-PEROX","V","NO","NO","2020-06-26","PAST DENT ARM&HAMMER PEROX","ARM & HAMMER",12]
[null,"AH-FRESH","V","NO","NO","2020-06-26","DEO ARM&HAMMER SOLID FRESH","ARM & HAMMER",12]
[null,"AH-GELCOOL","V","NO","NO","2020-06-26","DEO ARM&HAMMER GEL COOL BLAST","ARM & HAMMER",12]
[null,"AH-MAXPWER","V","NO","NO","2020-06-26","DEO ARM&HAMMER POWDER FRESH","ARM & HAMMER",12]
[null,"AH-MAXSPORT","V","NO","NO","2020-06-26","DEO ARM&HAMMER ACTIVE SPORT","ARM & HAMMER",12]
[null,"AH-UNSCENTED","V","NO","NO","2020-06-26","DEO ARM&HAMMER SOLID UNSCENTED","ARM & HAMMER",12]
[null,"AMMENS-BABY125","V","NO","NO","2020-06-26","TALCO AMMENS BABY 125GR","AMMENS",12]
[null,"AMMENS-FRESH125","V","NO","NO","2020-06-26","TALCO AMMENS FRESH 125GR","AMMENS",12]
[null,"AMMENS-ORI125","V","NO","NO","2020-06-26","TALCO AMMENS ORIGINAL 125GR","AMMENS",12]
[null,"AMMENS-PIE60","V","NO","NO","2020-06-26","TALCO AMMENS PIE 60GR","AMMENS",12]
[null,"BA-CSOFT-50","V","NO","NO","2020-06-26","BOLAS DE ALG 50 UNIDADES COTTON SOFT","COTTON SOFT",40]
[null,"CF-PONDBIO-100","V","NO","NO","2020-11-26","PONDS CR BIOHIDRATANTE 24X100G","PONDS",24]
[null,"CF-PONDBIO-50","V","NO","NO","2020-11-26","PONDS CR BIOHIDRATANTE 24X50G","PONDS",24]
[null,"CF-PONDC-45","V","NO","NO","2020-11-26","PONDS CR C ORIGINAL 24X45G","PONDS",24]
[null,"CF-PONDC-95","V","NO","NO","2020-11-26","PONDS CR C ORIGINAL 24X95G","PONDS",24]
[null,"CF-PONDC-SCH10","V","NO","NO","2020-11-26","PONDS CR C ORIGINAL DPL 12X10X10G","PONDS",120]
[null,"CF-PONDCLAR-100","V","NO","NO","2020-11-26","PONDS CR CLARANT B3 GRASA 24X100G","PONDS",24]
[null,"CF-PONDCLAR-50","V","NO","NO","2020-11-26","PONDS CR CLARANT B3 GRASA 24X50G","PONDS",24]
[null,"CF-PONDCPEP-100","V","NO","NO","2020-11-26","PONDS CR C PEPINO 24X100G","PONDS",24]
[null,"CF-PONDH-100","V","NO","NO","2020-11-26","PONDS CR H 24X100G","PONDS",24]
[null,"CF-PONDH-50","V","NO","NO","2020-11-26","PONDS CR H 24X50G","PONDS",24]
[null,"CF-PONDHC-2PK","V","NO","NO","2021-05-06","PONDS DUO PACK H100 C45","PONDS",18]
[null,"CF-PONDREJ-100","V","NO","NO","2020-11-26","PONDS CR REJUVENESS DIA 24X100G","PONDS",24]
[null,"CF-PONDREJ-50","V","NO","NO","2020-11-26","PONDS CR REJUVENESS  24X50G","PONDS",24]
[null,"CF-PONDREJ-SCH10","V","NO","NO","2020-11-26","PONDS CR REJUVENESS SCH 12X10X10G","PONDS",120]
[null,"CF-PONDS-100","V","NO","NO","2020-11-26","PONDS CR S HUMECTANTE NUTRITIVA 24X100G","PONDS",24]
[null,"CF-PONDS-50","V","NO","NO","2020-11-26","PONDS CR S HUMECTANTE NUTRITIVA 24X50G","PONDS",24]
[null,"CF-PONDS-SCH10","V","NO","NO","2020-11-26","PONDS CR S SCH 12X10X10G","PONDS",120]
[null,"CP-SEDCERA-300","V","NO","NO","2021-01-14","CREMA DE PEINAR SEDAL CERAMIDAS VIVI 12X300ML","SEDAL",12]
[null,"CP-SEDKERA-300","V","NO","NO","2021-01-14","CREMA DE PEINAR SEDAL PEIN KERATINA C/ ANTIOX 12X300ML","SEDAL",12]
[null,"CP-SEDRIZOS-300","V","NO","NO","2021-01-14","CREMA DE PEINAR SEDAL RIZOS DEFINIDOS 12X300ML","SEDAL",12]
[null,"CP-SEDRIZOS-R10","V","NO","NO","2021-06-15","CREMA DE PEINAR SEDAL RIZOS RISTRA 10ML","SEDAL",288]
[null,"CUB-KNORRPOL-12","V","NO","NO","2021-02-05","CUBITO KNORR DE POLLO DESHIDRATADO X 12UN","KNORR",96]
[null,"CUB-KNORRPOL-120","V","NO","NO","2021-02-05","CUBITO KNORR DE POLLO DESHIDRATADO X 120UN","KNORR",12]
[null,"CUB-KNORRPOL-8","V","NO","NO","2021-02-05","CUBITO KNORR DE POLLO DESHIDRATADO X 8UN","KNORR",144]
[null,"DA-CSOFT-70","V","NO","NO","2020-06-26","DISCOS DESMAQ DE ALG COTTON SOFT -70 UND","COTTON SOFT",48]
[null,"DEO-AXBS-ANARC","V","NO","NO","2021-02-17","AXE BODY SPRAY ANARCHY MALE 113G","AXE",12]
[null,"DEO-AXBS-BLCK","V","NO","NO","2021-02-17","AXE BODY SPRAY BLACK 113G","AXE",12]
[null,"DEO-AXBS-DARK","V","NO","NO","2021-02-17","AXE BODY SPRAY DARK TEMPTATION 113G","AXE",12]
[null,"DEO-DOVDERM-A150","V","NO","NO","2020-11-26","DOVE DEO AER AP DERMO ACLARANT 12X89G/150ML","DOVE",12]
[null,"DEO-DOVDERM-R50","V","NO","NO","2020-11-26","DOVE DEO ROL DERMO ACLARANT 12X50ML","DOVE",12]
[null,"DEO-DOVDERM-S50","V","NO","NO","2020-11-26","DOVE DEO STICK DERMO ACLARANT 12X50G","DOVE",12]
[null,"DEO-DOVMINV-A150","V","NO","NO","2020-11-26","DOVE DEO AER MEN INVI DRY12X89G/150ML","DOVE",12]
[null,"DEO-DOVMINV-S50","V","NO","NO","2020-11-26","DOVE DEO STICK INVISIBLE DRY FM 12X50G","DOVE",12]
[null,"DEO-DOVORG-2PK","V","NO","NO","2021-07-29","DOVE DEO WOMEN AER ORIGINAL BIPACK 6X2X89G/150ML","DOVE",6]
[null,"DEO-DOVORG-A150","V","NO","NO","2020-11-26","DOVE DEO AER AP ORIGINAL 12X89G/150ML","DOVE",12]
[null,"DEO-DOVORG-R50","V","NO","NO","2020-11-26","DOVE DEO ROLLON ORIGINAL 12X50ML","DOVE",12]
[null,"DEO-DOVORG-S50","V","NO","NO","2020-11-26","DOVE DEO STICK ORIGINAL 12X50G","DOVE",12]
[null,"DEO-REXAB-A150","V","NO","NO","2020-11-26","REXONA DEO W AER ANTIB 12X90GR/150ML","REXONA",12]
[null,"DEO-REXBAMB-2PK","V","NO","NO","2021-07-29","REXONA DEO AER BIPACK BAMB AL VERA 6X2X90GR/150ML","REXONA",6]
[null,"DEO-REXBAMB-A150","V","NO","NO","2020-11-26","REXONA DEO AER BAMB AL VERA 12X90GR/150ML","REXONA",12]
[null,"DEO-REXCOTT-A150","V","NO","NO","2020-11-26","REXONA DEO AER AP COTTON 12X90GR/150ML","REXONA",12]
[null,"DEO-REXCOTT-S50","V","NO","NO","2020-11-26","REXONA DEO STICK AP COTTON 12X50GR","REXONA",12]
[null,"DEO-REXEFFI-A153","V","NO","NO","2020-11-26","REXONA DEO AER EFFICIENT 12X88GR/153ML","REXONA",12]
[null,"DEO-REXMAB-A150","V","NO","NO","2020-11-26","REXONA DEO MEN AER AB INV 12X90GR/150ML","REXONA",12]
[null,"DEO-REXMAB-R50","V","NO","NO","2020-11-26","REXONA DEO MEN ROLLON AB INV 12X50ML","REXONA",12]
[null,"DEO-REXMAB-S50","V","NO","NO","2020-11-26","REXONA DEO MEN STICK ANTIB INV 12X50GR","REXONA",12]
[null,"DEO-REXSPFAN-A150","V","NO","NO","2020-11-26","REXONA DEO AER AP SPORTFAN 12X90GR/150ML","REXONA",12]
[null,"DEO-REXSPFAN-R50","V","NO","NO","2020-11-26","REXONA DEO ROLLON AP SPORTFAN 12X50ML","REXONA",12]
[null,"DEO-REXSPFAN-S50","V","NO","NO","2020-11-26","REXONA DEO STICK AP SPORTFAN 12X50GR","REXONA",12]
[null,"DEO-REXV8-2PK","V","NO","NO","2021-07-29","REXONA DEO AER BIPACK V8 6X2X90GR/150ML","REXONA",6]
[null,"DEO-REXV8-A150","V","NO","NO","2020-11-26","REXONA DEO AER AP V8 12X90GR/150ML","REXONA",12]
[null,"DEO-REXV8-R50","V","NO","NO","2020-11-26","REXONA DEO ROLLON AP V8 12X50ML","REXONA",12]
[null,"DEO-REXV8-S50","V","NO","NO","2020-11-26","REXONA DEO STICK AP V8 12X50GR","REXONA",12]
[null,"DL-AHESTALLIDO","V","NO","NO","2020-06-26","A&H DETER.LIQ ESTALLIDO LIMP","ARM & HAMMER",8]
[null,"DL-AHJARDIN","V","NO","NO","2020-06-26","A&H DETER.LIQ JARDIN FLOR","ARM & HAMMER",8]
[null,"DL-XTRAMANECER","V","NO","NO","2020-06-26","XTRA DET. LIQ FRES AMANECER","XTRA",8]
[null,"DL-XTROXI","V","NO","NO","2020-06-26","XTRA DET. LIQ OXI CLEAN","XTRA",8]
[null,"DL-XTRTROPICAL","V","NO","NO","2020-06-26","XTRA DET. LIQ PAS. TROPICAL","XTRA",8]
[null,"EU-MARY-1","V","NO","NO","2020-06-26","MARYLIN ESMALTE PROF TONO 1","MARYLIN",6]
[null,"EU-MARY-100","V","NO","NO","2020-06-26","MARYLIN ESMALTE PROF TONO 100","MARYLIN",6]
[null,"EU-MARY-101","V","NO","NO","2020-06-26","MARYLIN ESMALTE PROF TONO 101","MARYLIN",6]
[null,"EU-MARY-102","V","NO","NO","2020-06-26","MARYLIN ESMALTE PROF TONO 102","MARYLIN",6]
[null,"EU-MARY-103","V","NO","NO","2020-06-26","MARYLIN ESMALTE PROF TONO 103","MARYLIN",6]
[null,"EU-MARY-104","V","NO","NO","2020-06-26","MARYLIN ESMALTE PROF TONO 104","MARYLIN",6]
[null,"EU-MARY-108","V","NO","NO","2020-06-26","MARYLIN ESMALTE PROF TONO 108","MARYLIN",6]
[null,"EU-MARY-109","V","NO","NO","2020-06-26","MARYLIN ESMALTE PROF TONO 109","MARYLIN",6]
[null,"EU-MARY-110","V","NO","NO","2020-06-26","MARYLIN ESMALTE PROF TONO 110","MARYLIN",6]
[null,"EU-MARY-115","V","NO","NO","2020-06-26","MARYLIN ESMALTE PROF TONO 115","MARYLIN",6]
[null,"EU-MARY-116","V","NO","NO","2020-06-26","MARYLIN ESMALTE PROF TONO 116","MARYLIN",6]
[null,"EU-MARY-117","V","NO","NO","2020-06-26","MARYLIN ESMALTE PROF TONO 117","MARYLIN",6]
[null,"EU-MARY-118","V","NO","NO","2020-06-26","MARYLIN ESMALTE PROF TONO 118","MARYLIN",6]
[null,"EU-MARY-119","V","NO","NO","2020-06-26","MARYLIN ESMALTE PROF TONO 119","MARYLIN",6]
[null,"EU-MARY-12","V","NO","NO","2020-06-26","MARYLIN ESMALTE PROF TONO 12","MARYLIN",6]
[null,"EU-MARY-120","V","NO","NO","2020-06-26","MARYLIN ESMALTE PROF TONO 120","MARYLIN",6]
[null,"EU-MARY-123","V","NO","NO","2020-06-26","MARYLIN ESMALTE PROF TONO 123","MARYLIN",6]
[null,"EU-MARY-126","V","NO","NO","2020-06-26","MARYLIN ESMALTE PROF TONO 126","MARYLIN",6]
[null,"EU-MARY-13","V","NO","NO","2020-06-26","MARYLIN ESMALTE PROF TONO 13","MARYLIN",6]
[null,"EU-MARY-132","V","NO","NO","2020-06-26","MARYLIN ESMALTE PROF TONO 132","MARYLIN",6]
[null,"EU-MARY-135","V","NO","NO","2020-06-26","MARYLIN ESMALTE PROF TONO 135","MARYLIN",6]
[null,"EU-MARY-136","V","NO","NO","2020-06-26","MARYLIN ESMALTE PROF TONO 136","MARYLIN",6]
[null,"EU-MARY-14","V","NO","NO","2020-06-26","MARYLIN ESMALTE PROF TONO 14","MARYLIN",6]
[null,"EU-MARY-150","V","NO","NO","2020-06-26","MARYLIN ESMALTE PROF TONO 150","MARYLIN",6]
[null,"EU-MARY-153","V","NO","NO","2020-06-26","MARYLIN ESMALTE PROF TONO 153","MARYLIN",6]
[null,"EU-MARY-156","V","NO","NO","2020-06-26","MARYLIN ESMALTE PROF TONO 156","MARYLIN",6]
[null,"EU-MARY-157","V","NO","NO","2020-06-26","MARYLIN ESMALTE PROF TONO 157","MARYLIN",6]
[null,"EU-MARY-158","V","NO","NO","2020-06-26","MARYLIN ESMALTE PROF TONO 158","MARYLIN",6]
[null,"EU-MARY-159","V","NO","NO","2020-06-26","MARYLIN ESMALTE PROF TONO 159","MARYLIN",6]
[null,"EU-MARY-16","V","NO","NO","2020-06-26","MARYLIN ESMALTE PROF TONO 16","MARYLIN",6]
[null,"EU-MARY-160","V","NO","NO","2020-06-26","MARYLIN ESMALTE PROF TONO 160","MARYLIN",6]
[null,"EU-MARY-161","V","NO","NO","2020-06-26","MARYLIN ESMALTE PROF TONO 161","MARYLIN",6]
[null,"EU-MARY-162","V","NO","NO","2020-06-26","MARYLIN ESMALTE PROF TONO 162","MARYLIN",6]
[null,"EU-MARY-163","V","NO","NO","2020-06-26","MARYLIN ESMALTE PROF TONO 163","MARYLIN",6]
[null,"EU-MARY-164","V","NO","NO","2020-06-26","MARYLIN ESMALTE PROF TONO 164","MARYLIN",6]
[null,"EU-MARY-165","V","NO","NO","2020-06-26","MARYLIN ESMALTE PROF TONO 165","MARYLIN",6]
[null,"EU-MARY-166","V","NO","NO","2020-06-26","MARYLIN ESMALTE PROF TONO 166","MARYLIN",6]
[null,"EU-MARY-168","V","NO","NO","2020-06-26","MARYLIN ESMALTE PROF TONO 168","MARYLIN",6]
[null,"EU-MARY-169","V","NO","NO","2020-06-26","MARYLIN ESMALTE PROF TONO 169","MARYLIN",6]
[null,"EU-MARY-170","V","NO","NO","2020-06-26","MARYLIN ESMALTE PROF TONO 170","MARYLIN",6]
[null,"EU-MARY-171","V","NO","NO","2020-06-26","MARYLIN ESMALTE PROF TONO 171","MARYLIN",6]
[null,"EU-MARY-172","V","NO","NO","2020-06-26","MARYLIN ESMALTE PROF TONO 172","MARYLIN",6]
[null,"EU-MARY-173","V","NO","NO","2020-06-26","MARYLIN ESMALTE PROF TONO 173","MARYLIN",6]
[null,"EU-MARY-174","V","NO","NO","2020-06-26","MARYLIN ESMALTE PROF TONO 174","MARYLIN",6]
[null,"EU-MARY-175","V","NO","NO","2020-06-26","MARYLIN ESMALTE PROF TONO 175","MARYLIN",6]
[null,"EU-MARY-177","V","NO","NO","2020-06-26","MARYLIN ESMALTE PROF TONO 177","MARYLIN",6]
[null,"EU-MARY-18","V","NO","NO","2020-06-26","MARYLIN ESMALTE PROF TONO 18","MARYLIN",6]
[null,"EU-MARY-180","V","NO","NO","2020-06-26","MARYLIN ESMALTE PROF TONO 180","MARYLIN",6]
[null,"EU-MARY-183","V","NO","NO","2020-06-26","MARYLIN ESMALTE PROF TONO 183","MARYLIN",6]
[null,"EU-MARY-19","V","NO","NO","2020-06-26","MARYLIN ESMALTE PROF TONO 19","MARYLIN",6]
[null,"EU-MARY-2","V","NO","NO","2020-06-26","MARYLIN ESMALTE PROF TONO 2","MARYLIN",6]
[null,"EU-MARY-21","V","NO","NO","2020-06-26","MARYLIN ESMALTE PROF TONO 21","MARYLIN",6]
[null,"EU-MARY-22","V","NO","NO","2020-06-26","MARYLIN ESMALTE PROF TONO 22","MARYLIN",6]
[null,"EU-MARY-28","V","NO","NO","2020-06-26","MARYLIN ESMALTE PROF TONO 28","MARYLIN",6]
[null,"EU-MARY-3","V","NO","NO","2020-06-26","MARYLIN ESMALTE PROF TONO 3","MARYLIN",6]
[null,"EU-MARY-30","V","NO","NO","2020-06-26","MARYLIN ESMALTE PROF TONO 30","MARYLIN",6]
[null,"EU-MARY-32","V","NO","NO","2020-06-26","MARYLIN ESMALTE PROF TONO 32","MARYLIN",6]
[null,"EU-MARY-37","V","NO","NO","2020-06-26","MARYLIN ESMALTE PROF TONO 37","MARYLIN",6]
[null,"EU-MARY-4","V","NO","NO","2020-06-26","MARYLIN ESMALTE PROF TONO 4","MARYLIN",6]
[null,"EU-MARY-40","V","NO","NO","2020-06-26","MARYLIN ESMALTE PROF TONO 40","MARYLIN",6]
[null,"EU-MARY-41","V","NO","NO","2020-06-26","MARYLIN ESMALTE PROF TONO 41","MARYLIN",6]
[null,"EU-MARY-44","V","NO","NO","2020-06-26","MARYLIN ESMALTE PROF TONO 44","MARYLIN",6]
[null,"EU-MARY-45","V","NO","NO","2020-06-26","MARYLIN ESMALTE PROF TONO 45","MARYLIN",6]
[null,"EU-MARY-47","V","NO","NO","2020-06-26","MARYLIN ESMALTE PROF TONO 47","MARYLIN",6]
[null,"EU-MARY-5","V","NO","NO","2020-06-26","MARYLIN ESMALTE PROF TONO 5","MARYLIN",6]
[null,"EU-MARY-51","V","NO","NO","2020-06-26","MARYLIN ESMALTE PROF TONO 51","MARYLIN",6]
[null,"EU-MARY-52","V","NO","NO","2020-06-26","MARYLIN ESMALTE PROF TONO 52","MARYLIN",6]
[null,"EU-MARY-53","V","NO","NO","2020-06-26","MARYLIN ESMALTE PROF TONO 53","MARYLIN",6]
[null,"EU-MARY-54","V","NO","NO","2020-06-26","MARYLIN ESMALTE PROF TONO 54","MARYLIN",6]
[null,"EU-MARY-57","V","NO","NO","2020-06-26","MARYLIN ESMALTE PROF TONO 57","MARYLIN",6]
[null,"EU-MARY-58","V","NO","NO","2020-06-26","MARYLIN ESMALTE PROF TONO 58","MARYLIN",6]
[null,"EU-MARY-61","V","NO","NO","2020-06-26","MARYLIN ESMALTE PROF TONO 61","MARYLIN",6]
[null,"EU-MARY-68","V","NO","NO","2020-06-26","MARYLIN ESMALTE PROF TONO 68","MARYLIN",6]
[null,"EU-MARY-69","V","NO","NO","2020-06-26","MARYLIN ESMALTE PROF TONO 69","MARYLIN",6]
[null,"EU-MARY-7","V","NO","NO","2020-06-26","MARYLIN ESMALTE PROF TONO 7","MARYLIN",6]
[null,"EU-MARY-70","V","NO","NO","2020-06-26","MARYLIN ESMALTE PROF TONO 70","MARYLIN",6]
[null,"EU-MARY-77","V","NO","NO","2020-06-26","MARYLIN ESMALTE PROF TONO 77","MARYLIN",6]
[null,"EU-MARY-79","V","NO","NO","2020-06-26","MARYLIN ESMALTE PROF TONO 79","MARYLIN",6]
[null,"EU-MARY-82","V","NO","NO","2020-06-26","MARYLIN ESMALTE PROF TONO 82","MARYLIN",6]
[null,"EU-MARY-83","V","NO","NO","2020-06-26","MARYLIN ESMALTE PROF TONO 83","MARYLIN",6]
[null,"EU-MARY-85","V","NO","NO","2020-06-26","MARYLIN ESMALTE PROF TONO 85","MARYLIN",6]
[null,"EU-MARY-89","V","NO","NO","2020-06-26","MARYLIN ESMALTE PROF TONO 89","MARYLIN",6]
[null,"EU-MARY-90","V","NO","NO","2020-06-26","MARYLIN ESMALTE PROF TONO 90","MARYLIN",6]
[null,"EU-MARY-91","V","NO","NO","2020-06-26","MARYLIN ESMALTE PROF TONO 91","MARYLIN",6]
[null,"EU-MARY-94","V","NO","NO","2020-06-26","MARYLIN ESMALTE PROF TONO 94","MARYLIN",6]
[null,"EU-MARY-96","V","NO","NO","2020-06-26","MARYLIN ESMALTE PROF TONO 96","MARYLIN",6]
[null,"EU-MARY-97","V","NO","NO","2020-06-26","MARYLIN ESMALTE PROF TONO 97","MARYLIN",6]
[null,"EU-MARY-98","V","NO","NO","2020-06-26","MARYLIN ESMALTE PROF TONO 98","MARYLIN",6]
[null,"EU-MARY-99","V","NO","NO","2020-06-26","MARYLIN ESMALTE PROF TONO 99","MARYLIN",6]
[null,"EU-MARY-BRILLO","V","NO","NO","2020-06-26","MARYLIN ESM PROF BRILLO","MARYLIN",6]
[null,"EU-MARY-GEN","V","NO","NO","2021-06-08","MARYLIN ESMALTE PROF GENERICO","MARYLIN",6]
[null,"HUG-TOAV48","V","NO","NO","2020-06-26","HUGGIES TOALL. HUM LIMPIEZA EFEC. X 48","HUGGIES",24]
[null,"HUG-TOAX80","V","NO","NO","2020-06-26","HUGGIES TOALL. HUM LIMPIEZA COT. X 80","HUGGIES",12]
[null,"JB-DOVCOCO-90","V","NO","NO","2020-11-26","DOVE JAB LECHE DE COCO 48X90G","DOVE",48]
[null,"JB-DOVORG-90","V","NO","NO","2020-11-26","DOVE JAB ORIGINAL 48X90G","DOVE",48]
[null,"JB-DOVVAN-90","V","NO","NO","2020-11-26","DOVE JAB KAR Y VAINILLA 48X90G","DOVE",48]
[null,"JB-LUXJAZ-125","V","NO","NO","2021-01-11","LUX JABON BARRA JAZMIN 48X125G","LUX",48]
[null,"JB-LUXJAZ-3PK","V","NO","NO","2021-07-29","LUX JABON BARRA JAZMIN 16X3X125G","LUX",16]
[null,"JB-LUXORQ-125","V","NO","NO","2021-01-11","LUX JABON BARRA ORQUID NEGRA FR 48X125G","LUX",48]
[null,"JB-LUXORQ-3PK","V","NO","NO","2021-07-29","JABON BARRA LUX ORQUIDEA NEGRA 16X3X125G","LUX",16]
[null,"JB-LUXROSA-125","V","NO","NO","2021-01-11","LUX JABON BARRA ROSAS FR 48X125G","LUX",48]
[null,"JB-LUXROSA-3PK","V","NO","NO","2021-07-29","JABON BARRA LUX ROSAS FRANCESAS 16X3X125G","LUX",16]
[null,"JB-LUXVAN-125","V","NO","NO","2021-01-11","LUX JABON BARRA VAINILLA FR 48X125G","LUX",48]
[null,"JB-LUXVAN-3PK","V","NO","NO","2021-07-29","JABON BARRA LUX VAINILLA 16X3X125G","LUX",16]
[null,"JB-REX7PACK-120","V","NO","NO","2021-04-28","REXONA JABON BARRA 7 PACK 120G","REXONA",10]
[null,"JB-REXAVE-120","V","NO","NO","2021-01-14","REXONA JABON BARRA ANTIB AVENA 48X120G","REXONA",48]
[null,"JB-REXAVE-3PK","V","NO","NO","2021-07-29","REXONA JABON BARRA ANTIB AVENA 16X3X120G","REXONA",16]
[null,"JB-REXBAMB-120","V","NO","NO","2021-01-11","REXONA JABON BARRA ANTIB BAMBOO 48X120G","REXONA",48]
[null,"JB-REXBAMB-3PK","V","NO","NO","2021-07-29","REXONA JABON BARRA ANTIB BAMBOO 16X3X120G","REXONA",16]
[null,"JB-REXFRESH-120","V","NO","NO","2021-01-14","REXONA JABON BARRA ANTIB FRESH 48X120G","REXONA",48]
[null,"JB-REXFRESH-3PK","V","NO","NO","2021-07-29","REXONA JABON BARRA ANTIB FRESH 16X3X120G","REXONA",16]
[null,"JB-REXLIMP-120","V","NO","NO","2021-01-11","REXONA JABON BARRA ANTIB LIMPIEZA 48X120G","REXONA",48]
[null,"JB-REXLIMP-3PK","V","NO","NO","2021-07-29","REXONA JABON BARRA ANTIB LIMPIEZA 16X3X120G","REXONA",16]
[null,"KOTEX-DIA","V","NO","NO","2020-06-26","KOTEX TOALLA SAN DIURNA","KOTEX",48]
[null,"KOTEX-LIN15","V","NO","NO","2020-06-26","KOTEX PROTECTOR DIARIO X15","KOTEX",12]
[null,"KOTEX-LIN50","V","NO","NO","2020-06-26","KOTEX PROTECTOR DIARIO X50","KOTEX",12]
[null,"KOTEX-LINAB50","V","NO","NO","2021-03-24","KOTEX LINER ANTIBACTERIAL 12X50","KOTEX",12]
[null,"KOTEX-LINPURE50","V","NO","NO","2021-03-24","KOTEX LINER PURE 12X50","KOTEX",12]
[null,"KOTEX-NOC","V","NO","NO","2020-06-26","KOTEX TOALLA SAN NOC","KOTEX",12]
[null,"KOTEX-TAMM","V","NO","NO","2020-09-29","TAMPONES KOTEX MEDIUM 12X8 SPORT TTX","KOTEX",12]
[null,"KOTEX-TAMS","V","NO","NO","2020-09-29","TAMPONES KOTEX SUPER 12X8 TTX","KOTEX",12]
[null,"KOTEX-UFAB-R5","V","NO","NO","2021-03-24","KOTEX TOALLA FEM UF AB 10X5X5 RISTRA","KOTEX",10]
[null,"KOTEX-UFNOCT","V","NO","NO","2021-02-09","KOTEX TOALLA FEM UF DIA&NOCHE X8UND","KOTEX",12]
[null,"KOTEX-UFPURE","V","NO","NO","2021-03-24","KOTEX TOALLA FEM UF PURE 12X10","KOTEX",12]
[null,"KOTEX-ULTRAF","V","NO","NO","2020-06-26","KOTEX TOALLA ULTRAFINAX10","KOTEX",48]
[null,"LC-VASEALM-295","V","NO","NO","2021-06-10","LOCION CORPORAL VASELINE ALMOND SMOOTH 295ML","VASELINE",6]
[null,"LC-VASEALOE-295","V","NO","NO","2021-02-17","LOCION CORPORAL VASELINE ALOE SOOTHE 295ML","VASELINE",6]
[null,"LC-VASECOCOA-295","V","NO","NO","2021-02-17","LOCION CORPORAL VASELINE COCOA RADIANT 295ML","VASELINE",6]
[null,"LC-VASENOUR-295","V","NO","NO","2021-02-17","LOCION CORPORAL VASELINE NOURISH + RESTORE 295ML","VASELINE",6]
[null,"LIN-EGZR-AAAX6","V","NO","NO","2021-06-18","LINTERNA ENERGIZER 50 LED + AAAX6","ENERGIZER",4]
[null,"MARY-BSEC","V","NO","NO","2020-06-26","MARYLIN BRILLO SECANTE","MARYLIN",6]
[null,"MARY-TAJO","V","NO","NO","2020-06-26","MARYLIN BASE  AJO LIMON","MARYLIN",6]
[null,"MARY-TFCOL","V","NO","NO","2020-06-26","MARYLIN BASE  FORMULA COLOMB","MARYLIN",6]
[null,"MARY-TFUS","V","NO","NO","2020-06-26","MARYLIN BASE FUS VITAMINAS","MARYLIN",6]
[null,"MARY-TKROSA","V","NO","NO","2020-06-26","MARYLIN BASE KERATINA ROSADA","MARYLIN",6]
[null,"NAIR-COCOA","V","NO","NO","2020-06-26","LOCION DEP NAIR COCOA","NAIR",12]
[null,"NOO-KNORCAR-75","V","NO","NO","2021-05-19","KNORR NOODLES CARNE 75G","KNORR",30]
[null,"NOO-KNORPOL-75","V","NO","NO","2021-05-19","KNORR NOODLES POLLO 75G","KNORR",30]
[null,"NOO-KNORVEG-75","V","NO","NO","2021-05-19","KNORR NOODLES VEGETALES 75G","KNORR",30]
[null,"PA-PADDLERS-L","V","NO","NO","2020-06-26","PAÑAL ADL PADDLERS TALLA L","PADDLERS",12]
[null,"PA-PADDLERS-M","V","NO","NO","2020-06-26","PAÑAL ADT PADDLERS TALLA M","PADDLERS",12]
[null,"PB-HUG-G","V","NO","NO","2020-06-26","PAÑAL HUGGIES TALLAS G","HUGGIES",8]
[null,"PB-HUG-G20","V","NO","NO","2021-03-30","HUGGIES PAÑAL BEBE ACTIVESEC TALLA G 8X20","HUGGIES",8]
[null,"PB-HUG-M","V","NO","NO","2020-06-26","PAÑAL HUGGIES TALLAS M","HUGGIES",8]
[null,"PB-HUG-P","V","NO","NO","2020-06-26","PAÑAL HUGGIES TALLAS P","HUGGIES",6]
[null,"PB-HUG-P36","V","NO","NO","2020-06-26","PAÑAL HUGGIES TALLAS P36","HUGGIES",6]
[null,"PB-HUG-RN","V","NO","NO","2020-06-26","PAÑAL HUGGIES RECIEN NACIDOX32","HUGGIES",6]
[null,"PB-HUG-XG","V","NO","NO","2020-06-26","PAÑAL HUGGIES TALLAS XG","HUGGIES",8]
[null,"PB-HUG-XG20","V","NO","NO","2021-03-30","HUGGIES PAÑAL BEBE ACTIVESEC TALLA XG 8X20","HUGGIES",8]
[null,"PB-HUG-XXG","V","NO","NO","2020-06-26","PAÑAL HUGGIES TALLAS XXG","HUGGIES",8]
[null,"PB-HUG-XXG20","V","NO","NO","2021-03-30","HUGGIES PAÑAL BEBE ACTIVESEC TALLA XXG 8X20","HUGGIES",8]
[null,"PB-HUGNAT-G","V","NO","NO","2020-07-28","PAÑAL HUG NATCARE TALLA G","HUGGIES",8]
[null,"PB-HUGNAT-M","V","NO","NO","2020-07-28","PAÑAL HUG NATCARE TALLA M","HUGGIES",8]
[null,"PB-HUGNAT-P","V","NO","NO","2020-07-28","PAÑAL HUG NATCARE TALLA P","HUGGIES",8]
[null,"PB-HUGNAT-RN20","V","NO","NO","2021-03-30","HUGGIES PAÑAL BEBE NATCARE TALLA RN 8X20","HUGGIES",8]
[null,"PB-HUGNAT-XG","V","NO","NO","2020-07-28","PAÑAL HUG NATCARE TALLA XG","HUGGIES",4]
[null,"PB-HUGNAT-XXG","V","NO","NO","2020-07-28","PAÑAL HUG NATCARE TALLA XXG","HUGGIES",8]
[null,"PH-SCOTT-4R","V","NO","NO","2020-06-26","SCOTT PAPEL HIG RINDEMAX 4ROLLOS","SCOTT",12]
[null,"PIL-EGZR-9V","V","NO","NO","2020-06-26","ENERGIZER BAT ALK  9V","ENERGIZER",24]
[null,"PIL-EGZR-A23X2","V","NO","NO","2021-02-24","ENERGIZER A23X2 BATERIA ALKALINA MINI","ENERGIZER",72]
[null,"PIL-EGZR-AAAX2","V","NO","NO","2020-06-26","ENERGIZER BAT ALK AAAX2","ENERGIZER",24]
[null,"PIL-EGZR-AAAX4","V","NO","NO","2020-06-26","ENERGIZER BAT ALK AAAX4","ENERGIZER",24]
[null,"PIL-EGZR-AAX2","V","NO","NO","2020-06-26","ENERGIZER BAT ALK AAX2","ENERGIZER",24]
[null,"PIL-EGZR-AAX4","V","NO","NO","2020-06-26","ENERGIZER BAT ALK AAX4","ENERGIZER",24]
[null,"PIL-EGZR-CX2","V","NO","NO","2020-06-26","ENERGIZER BAT ALK CX2","ENERGIZER",12]
[null,"PIL-EGZR-DX2","V","NO","NO","2020-06-26","ENERGIZER BAT ALK  DX2","ENERGIZER",12]
[null,"PIL-EVR-AAAX4","V","NO","NO","2021-07-07","PILA EVEREADY AAAX4","EVEREADY",24]
[null,"PIL-EVR-AAX4","V","NO","NO","2021-07-07","PILA EVEREADY AAX4","EVEREADY",24]
[null,"PIL-EVR-CX2","V","NO","NO","2021-07-07","PILA EVEREADY CX2","EVEREADY",12]
[null,"PIL-EVR-DX2","V","NO","NO","2021-07-07","PILA EVEREADY DX2","EVEREADY",12]
[null,"PJ-VASEPUR-100","V","NO","NO","2021-02-17","VASELINA VASELINE PURE ORIGINAL 100G","VASELINE",72]
[null,"PJ-VASEPUR-50","V","NO","NO","2021-02-17","VASELINA VASELINE PURE ORIGINAL 50G","VASELINE",72]
[null,"PLAY-3EN1","V","NO","NO","2020-06-26","PRESERVATIVOS PLAY B 3 EN 1","PLAYBOY",48]
[null,"PLAY-ULTRA","V","NO","NO","2020-06-26","PRESERVATIVOS PLAY B ULTRA","PLAYBOY",48]
[null,"QM-OXIPLV-800G","V","NO","NO","2020-10-26","OXI CLEAN QUITA MANCHAS POLVO","OXICLEAN",4]
[null,"QM-OXISPR-636ML","V","NO","NO","2020-10-26","OXI CLEAN QUITA MANCHAS SPRAY","OXICLEAN",8]
[null,"SER-SCOTT-100","V","NO","NO","2020-11-13","SERVILLETAS RENDIDORAS SCOTTX100","SCOTT",12]
[null,"SH-DOVOLEO-400","V","NO","NO","2021-01-14","SHAMPOO DOVE OLEO NUTRICION 12X400ML","DOVE",12]
[null,"SH-DOVRECON-400","V","NO","NO","2021-01-14","SHAMPOO DOVE RECONS COMPLETA 12X400ML","DOVE",12]
[null,"SH-SEDCASP-340","V","NO","NO","2021-07-20","SHAMPOO SEDAL CASPA CONTROL 12X340ML","SEDAL",12]
[null,"SH-SEDCERA-340","V","NO","NO","2021-01-14","SHAMPOO SEDAL CERAMIDAS 12X340ML","SEDAL",12]
[null,"SH-SEDDUO21-340","V","NO","NO","2021-01-14","SHAMPOO SEDAL 2EN1 DUO 12X340ML","SEDAL",12]
[null,"SH-SEDKERA-340","V","NO","NO","2021-01-14","SHAMPOO SEDAL KERATINA C/ANTIOX 12X340ML","SEDAL",12]
[null,"SH-SEDRIZOS-340","V","NO","NO","2021-01-14","SHAMPOO SEDAL RIZOS DEFINIDOS 12X340ML","SEDAL",12]
[null,"SH-SUAMIEL-360","V","NO","NO","2020-11-26","SUAVE SH MIEL Y ALMENDRA 12X360ML","SUAVE",12]
[null,"SURE-FRESH","V","NO","NO","2020-06-26","DEO SURE FRESH&COOL","SURE",12]
[null,"SURE-ORREG","V","NO","NO","2020-06-26","DEO SURE REGULAR","SURE",12]
[null,"SURE-OSPOW","V","NO","NO","2020-06-26","DEO SURE POWDER","SURE",12]
[null,"TH-BABYSOFT-40","V","NO","NO","2020-06-26","TOALLAS HUM BABY SOFT PREMIUM - 40 UND","BABY SOFT",36]
[null,"TH-BABYSOFT-72","V","NO","NO","2020-06-26","TOALLAS HUM BABY SOFT PREMIUM-72 UND","BABY SOFT",24]
[null,"TH-HUGCOT-80","V","NO","NO","2021-06-04","HUGGIES TOALL. HUM LIMPIEZA COT. X 80","HUGGIES",12]
[null,"TH-HUGEFI-48","V","NO","NO","2021-06-04","HUGGIES TOALL. HUM LIMPIEZA EFEC. X 48","HUGGIES",24]
[null,"TH-HUGMAN-48","V","NO","NO","2020-10-26","TOA HUM HUGGIES X 48 FIBRAS NATURALES","HUGGIES",24]
[null,"TH-HUGMAN-80","V","NO","NO","2020-10-26","TOA HUM HUGGIES X 80 FIBRAS NATURALES","HUGGIES",12]
[null,"DEO-DOVORG-2PK","V","NO","NO","2021-07-29","DOVE DEO WOMEN AER ORIGINAL BIPACK 6X2X89G/150ML","DOVE",6]
[null,"DEO-REXV8-2PK","V","NO","NO","2021-07-29","REXONA DEO AER BIPACK V8 6X2X90GR/150ML","REXONA",6]
[null,"DEO-REXBAMB-2PK","V","NO","NO","2021-07-29","REXONA DEO AER BIPACK BAMB AL VERA 6X2X90GR/150ML","REXONA",6]
[null,"KOTEX-LINAB15","V","NO","NO","2021-08-05","KOTEX LINER ANTIBACTERIAL 12X15","KOTEX",12]
[null,"TAL-REXEFFI-100","V","NO","NO","2021-09-17","REXONA TALCO EFFICIENT 12X100GR","REXONA",12]
[null,"TAL-REXEFFI-60","V","NO","NO","2021-09-17","REXONA TALCO EFFICIENT 12X60GR","REXONA",12]
[null,"DEO-AXBS-APOLLO","V","NO","NO","2021-08-04","AXE BODY SPRAY APOLLO 150ML","AXE",12]
[null,"DEO-AXBS-BLKNGHT","V","NO","NO","2021-08-04","AXE BODY SPRAY BLACK KNIGHT 150ML","AXE",12]
[null,"DEO-AXBS-COLL","V","NO","NO","2021-08-04","AXE BODY SPRAY COLLISION150ML","AXE",12]
[null,"DEO-AXBS-DARKT","V","NO","NO","2021-08-09","AXE BODY SPRAY DARK TEMPTATION 150ML","AXE",12]
[null,"DEO-AXBS-EXCITE","V","NO","NO","2021-08-04","AXE BODY SPRAY EXCITE 150ML","AXE",12]
[null,"DEO-AXBS-FUSION","V","NO","NO","2021-08-04","AXE BODY SPRAY FUSION 150ML","AXE",12]
[null,"DEO-AXSTI-BLKNGHT","V","NO","NO","2021-08-04","AXE DEO STICK BLACK KNIGHT 50G","AXE",12]
[null,"DEO-AXSTI-COLL","V","NO","NO","2021-08-04","AXE DEO STICK COLLISION 50G","AXE",12]
[null,"DEO-AXSTI-DARK","V","NO","NO","2021-08-04","AXE DEO STICK DARK TEMPTATION 50G","AXE",12]
[null,"SH-SEDCERA-190","V","NO","NO","2021-08-04","SHAMPOO SEDAL CERAMIDAS 12X190ML     ","SEDAL",12]
[null,"SH-SEDKERA-190","V","NO","NO","2021-08-04","SHAMPOO SEDAL KERATINA C/ANTIOX 12X190ML  ","SEDAL",12]
[null,"DEO-REXBAMB-S50","V","NO","NO","2021-08-04","REXONA DEO STICK BAMBOO12X50GR","REXONA",12]
[null,"DEO-REXBAMB-S50","V","NO","NO","2021-08-04","REXONA DEO STICK BAMBOO 12X50GR NUEVO","REXONA",12]
[null,"KOTEX-ESENSA10","V","NO","NO","2021-08-04","KOTEX TOALLA FEMENINA ESENCIAL S/ALAS 24X10 NUEVO","KOTEX",24]
[null,"CF-PONDCLARS-100","V","NO","NO","2021-08-04","PONDS CR CLARANT B3 SECA 24X100G","PONDS",24]
[null,"CF-PONDCLARS-SCH8","V","NO","NO","2021-08-04","PONDS CR CLARA B3 P SECA DPL 12X10X8.5G","PONDS",120]
[null,"AC-SEDCERA-190","V","NO","NO","2021-08-04","ACONDICIONADOR SEDAL CERAMIDAS 12X190ML","SEDAL",12]
[null,"AC-SEDCERA-340","V","NO","NO","2021-08-04","ACONDICIONADOR SEDAL CERAMIDAS 12X340ML","SEDAL",12]
[null,"AC-SEDKERA-340","V","NO","NO","2021-08-04","ACONDICIONADOR SEDAL KERAT C/ANTIOX 12X340ML","SEDAL",12]
[null,"AC-SEDRIZOS-340","V","NO","NO","2021-08-04","ACONDICIONADOR SEDAL RIZOS DEFINIDOS 12X340ML","SEDAL",12]
[null,"DEO-AXSTI-BLK","V","NO","NO","2020-06-26","AXE DEO STICK BLACK 50G","axe",12]
[null,"DEO-REXEFFIDEL-A210","V","NO","NO","2020-06-26","REXONA DEO AER AP EFFI DELICATE12X210ML","REXONA",12]
[null,"DEO-REXPERFECT-A150","V","NO","NO","2020-06-26","REXONA DEO AER PERFECT TONE 12X90GR/150ML","REXONA",12]
[null,"DEO-REXPERFECT-R50","V","NO","NO","2020-06-26","REXONA DEO ROLLON PERFECT TONE 12X50ML","REXONA",12]
[null,"DEO-REXPERFECT-S50","V","NO","NO","2020-06-26","REXONA DEO STICK PERFECT TONE 12X45GR","REXONA",12]

{"sheet":"LISTA PROFIT","index":5,"n_rows":296,"n_cols":14,"rows_kept":296,"cut":false,"hidden":true,"merged":[]}
[]
[]
[null,"LINEA","MODELO","CODIGO ARTICULO","ARTICULO","PRECIO 1","PRECIO 2","PRECIO 3","PRECIO 4","PRECIO 5"]
[null,1,null,"ESM-MARYLIN","MARYLIN ESMALTE TONOS VARIOS",1593750,1593750,1593750,1683000,0.51]
[null,1,"MARYLIN","EU-MARY-1","MARYLIN ESMALTE PROF TONO 1",1593750,1593750,1593750,1683000,0.51]
[null,1,"MARYLIN","EU-MARY-100","MARYLIN ESMALTE PROF TONO 100",1593750,1593750,1593750,1683000,0.51]
[null,1,"MARYLIN","EU-MARY-101","MARYLIN ESMALTE PROF TONO 101",1593750,1593750,1593750,1683000,0.51]
[null,1,"MARYLIN","EU-MARY-102","MARYLIN ESMALTE PROF TONO 102",1593750,1593750,1593750,1683000,0.51]
[null,1,"MARYLIN","EU-MARY-103","MARYLIN ESMALTE PROF TONO 103",1593750,1593750,1593750,1683000,0.51,null,null,null,0.57999999999999996]
[null,1,"MARYLIN","EU-MARY-104","MARYLIN ESMALTE PROF TONO 104",1593750,1593750,1593750,1683000,0.51]
[null,1,"MARYLIN","EU-MARY-108","MARYLIN ESMALTE PROF TONO 108",1593750,1593750,1593750,1683000,0.51]
[null,1,"MARYLIN","EU-MARY-109","MARYLIN ESMALTE PROF TONO 109",1593750,1593750,1593750,1683000,0.51]
[null,1,"MARYLIN","EU-MARY-110","MARYLIN ESMALTE PROF TONO 110",1593750,1593750,1593750,1683000,0.51]
[null,1,"MARYLIN","EU-MARY-115","MARYLIN ESMALTE PROF TONO 115",1593750,1593750,1593750,1683000,0.51]
[null,1,"MARYLIN","EU-MARY-116","MARYLIN ESMALTE PROF TONO 116",1593750,1593750,1593750,1683000,0.51]
[null,1,"MARYLIN","EU-MARY-117","MARYLIN ESMALTE PROF TONO 117",1593750,1593750,1593750,1683000,0.51]
[null,1,"MARYLIN","EU-MARY-118","MARYLIN ESMALTE PROF TONO 118",1593750,1593750,1593750,1683000,0.51]
[null,1,"MARYLIN","EU-MARY-119","MARYLIN ESMALTE PROF TONO 119",1593750,1593750,1593750,1683000,0.51]
[null,1,"MARYLIN","EU-MARY-12","MARYLIN ESMALTE PROF TONO 12",1593750,1593750,1593750,1683000,0.51]
[null,1,"MARYLIN","EU-MARY-120","MARYLIN ESMALTE PROF TONO 120",1593750,1593750,1593750,1683000,0.51]
[null,1,"MARYLIN","EU-MARY-123","MARYLIN ESMALTE PROF TONO 123",1593750,1593750,1593750,1683000,0.51]
[null,1,"MARYLIN","EU-MARY-126","MARYLIN ESMALTE PROF TONO 126",1593750,1593750,1593750,1683000,0.51]
[null,1,"MARYLIN","EU-MARY-13","MARYLIN ESMALTE PROF TONO 13",1593750,1593750,1593750,1683000,0.51]
[null,1,"MARYLIN","EU-MARY-132","MARYLIN ESMALTE PROF TONO 132",1593750,1593750,1593750,1683000,0.51]
[null,1,"MARYLIN","EU-MARY-135","MARYLIN ESMALTE PROF TONO 135",1593750,1593750,1593750,1683000,0.51]
[null,1,"MARYLIN","EU-MARY-136","MARYLIN ESMALTE PROF TONO 136",1593750,1593750,1593750,1683000,0.51]
[null,1,"MARYLIN","EU-MARY-14","MARYLIN ESMALTE PROF TONO 14",1593750,1593750,1593750,1683000,0.51]
[null,1,"MARYLIN","EU-MARY-150","MARYLIN ESMALTE PROF TONO 150",1593750,1593750,1593750,1683000,0.51]
[null,1,"MARYLIN","EU-MARY-153","MARYLIN ESMALTE PROF TONO 153",1593750,1593750,1593750,1683000,0.51]
[null,1,"MARYLIN","EU-MARY-156","MARYLIN ESMALTE PROF TONO 156",1593750,1593750,1593750,1683000,0.51]
[null,1,"MARYLIN","EU-MARY-157","MARYLIN ESMALTE PROF TONO 157",1593750,1593750,1593750,1683000,0.51]
[null,1,"MARYLIN","EU-MARY-158","MARYLIN ESMALTE PROF TONO 158",1593750,1593750,1593750,1683000,0.51]
[null,1,"MARYLIN","EU-MARY-159","MARYLIN ESMALTE PROF TONO 159",1593750,1593750,1593750,1683000,0.51]
[null,1,"MARYLIN","EU-MARY-16","MARYLIN ESMALTE PROF TONO 16",1593750,1593750,1593750,1683000,0.51]
[null,1,"MARYLIN","EU-MARY-160","MARYLIN ESMALTE PROF TONO 160",1593750,1593750,1593750,1683000,0.51]
[null,1,"MARYLIN","EU-MARY-161","MARYLIN ESMALTE PROF TONO 161",1593750,1593750,1593750,1683000,0.51]
[null,1,"MARYLIN","EU-MARY-162","MARYLIN ESMALTE PROF TONO 162",1593750,1593750,1593750,1683000,0.51]
[null,1,"MARYLIN","EU-MARY-163","MARYLIN ESMALTE PROF TONO 163",1593750,1593750,1593750,1683000,0.51]
[null,1,"MARYLIN","EU-MARY-164","MARYLIN ESMALTE PROF TONO 164",1593750,1593750,1593750,1683000,0.51]
[null,1,"MARYLIN","EU-MARY-165","MARYLIN ESMALTE PROF TONO 165",1593750,1593750,1593750,1683000,0.51]
[null,1,"MARYLIN","EU-MARY-166","MARYLIN ESMALTE PROF TONO 166",1593750,1593750,1593750,1683000,0.51]
[null,1,"MARYLIN","EU-MARY-168","MARYLIN ESMALTE PROF TONO 168",1593750,1593750,1593750,1683000,0.51]
[null,1,"MARYLIN","EU-MARY-169","MARYLIN ESMALTE PROF TONO 169",1593750,1593750,1593750,1683000,0.51]
[null,1,"MARYLIN","EU-MARY-170","MARYLIN ESMALTE PROF TONO 170",1593750,1593750,1593750,1683000,0.51]
[null,1,"MARYLIN","EU-MARY-171","MARYLIN ESMALTE PROF TONO 171",1593750,1593750,1593750,1683000,0.51]
[null,1,"MARYLIN","EU-MARY-172","MARYLIN ESMALTE PROF TONO 172",1593750,1593750,1593750,1683000,0.51]
[null,1,"MARYLIN","EU-MARY-173","MARYLIN ESMALTE PROF TONO 173",1593750,1593750,1593750,1683000,0.51]
[null,1,"MARYLIN","EU-MARY-174","MARYLIN ESMALTE PROF TONO 174",1593750,1593750,1593750,1683000,0.51]
[null,1,"MARYLIN","EU-MARY-175","MARYLIN ESMALTE PROF TONO 175",1593750,1593750,1593750,1683000,0.51]
[null,1,"MARYLIN","EU-MARY-177","MARYLIN ESMALTE PROF TONO 177",1593750,1593750,1593750,1683000,0.51]
[null,1,"MARYLIN","EU-MARY-18","MARYLIN ESMALTE PROF TONO 18",1593750,1593750,1593750,1683000,0.51]
[null,1,"MARYLIN","EU-MARY-180","MARYLIN ESMALTE PROF TONO 180",1593750,1593750,1593750,1683000,0.51]
[null,1,"MARYLIN","EU-MARY-183","MARYLIN ESMALTE PROF TONO 183",1593750,1593750,1593750,1683000,0.51]
[null,1,"MARYLIN","EU-MARY-19","MARYLIN ESMALTE PROF TONO 19",1593750,1593750,1593750,1683000,0.51]
[null,1,"MARYLIN","EU-MARY-2","MARYLIN ESMALTE PROF TONO 2",1593750,1593750,1593750,1683000,0.51]
[null,1,"MARYLIN","EU-MARY-21","MARYLIN ESMALTE PROF TONO 21",1593750,1593750,1593750,1683000,0.51]
[null,1,"MARYLIN","EU-MARY-22","MARYLIN ESMALTE PROF TONO 22",1593750,1593750,1593750,1683000,0.51]
[null,1,"MARYLIN","EU-MARY-28","MARYLIN ESMALTE PROF TONO 28",1593750,1593750,1593750,1683000,0.51]
[null,1,"MARYLIN","EU-MARY-3","MARYLIN ESMALTE PROF TONO 3",1593750,1593750,1593750,1683000,0.51]
[null,1,"MARYLIN","EU-MARY-30","MARYLIN ESMALTE PROF TONO 30",1593750,1593750,1593750,1683000,0.51]
[null,1,"MARYLIN","EU-MARY-32","MARYLIN ESMALTE PROF TONO 32",1593750,1593750,1593750,1683000,0.51]
[null,1,"MARYLIN","EU-MARY-37","MARYLIN ESMALTE PROF TONO 37",1593750,1593750,1593750,1683000,0.51]
[null,1,"MARYLIN","EU-MARY-4","MARYLIN ESMALTE PROF TONO 4",1593750,1593750,1593750,1683000,0.51]
[null,1,"MARYLIN","EU-MARY-40","MARYLIN ESMALTE PROF TONO 40",1593750,1593750,1593750,1683000,0.51]
[null,1,"MARYLIN","EU-MARY-41","MARYLIN ESMALTE PROF TONO 41",1593750,1593750,1593750,1683000,0.51]
[null,1,"MARYLIN","EU-MARY-44","MARYLIN ESMALTE PROF TONO 44",1593750,1593750,1593750,1683000,0.51]
[null,1,"MARYLIN","EU-MARY-45","MARYLIN ESMALTE PROF TONO 45",1593750,1593750,1593750,1683000,0.51]
[null,1,"MARYLIN","EU-MARY-47","MARYLIN ESMALTE PROF TONO 47",1593750,1593750,1593750,1683000,0.51]
[null,1,"MARYLIN","EU-MARY-5","MARYLIN ESMALTE PROF TONO 5",1593750,1593750,1593750,1683000,0.51]
[null,1,"MARYLIN","EU-MARY-51","MARYLIN ESMALTE PROF TONO 51",1593750,1593750,1593750,1683000,0.51]
[null,1,"MARYLIN","EU-MARY-52","MARYLIN ESMALTE PROF TONO 52",1593750,1593750,1593750,1683000,0.51]
[null,1,"MARYLIN","EU-MARY-53","MARYLIN ESMALTE PROF TONO 53",1593750,1593750,1593750,1683000,0.51]
[null,1,"MARYLIN","EU-MARY-54","MARYLIN ESMALTE PROF TONO 54",1593750,1593750,1593750,1683000,0.51]
[null,1,"MARYLIN","EU-MARY-57","MARYLIN ESMALTE PROF TONO 57",1593750,1593750,1593750,1683000,0.51]
[null,1,"MARYLIN","EU-MARY-58","MARYLIN ESMALTE PROF TONO 58",1593750,1593750,1593750,1683000,0.51]
[null,1,"MARYLIN","EU-MARY-61","MARYLIN ESMALTE PROF TONO 61",1593750,1593750,1593750,1683000,0.51]
[null,1,"MARYLIN","EU-MARY-68","MARYLIN ESMALTE PROF TONO 68",1593750,1593750,1593750,1683000,0.51]
[null,1,"MARYLIN","EU-MARY-69","MARYLIN ESMALTE PROF TONO 69",1593750,1593750,1593750,1683000,0.51]
[null,1,"MARYLIN","EU-MARY-7","MARYLIN ESMALTE PROF TONO 7",1593750,1593750,1593750,1683000,0.51]
[null,1,"MARYLIN","EU-MARY-70","MARYLIN ESMALTE PROF TONO 70",1593750,1593750,1593750,1683000,0.51]
[null,1,"MARYLIN","EU-MARY-77","MARYLIN ESMALTE PROF TONO 77",1593750,1593750,1593750,1683000,0.51]
[null,1,"MARYLIN","EU-MARY-79","MARYLIN ESMALTE PROF TONO 79",1593750,1593750,1593750,1683000,0.51]
[null,1,"MARYLIN","EU-MARY-82","MARYLIN ESMALTE PROF TONO 82",1593750,1593750,1593750,1683000,0.51]
[null,1,"MARYLIN","EU-MARY-83","MARYLIN ESMALTE PROF TONO 83",1593750,1593750,1593750,1683000,0.51]
[null,1,"MARYLIN","EU-MARY-85","MARYLIN ESMALTE PROF TONO 85",1593750,1593750,1593750,1683000,0.51]
[null,1,"MARYLIN","EU-MARY-89","MARYLIN ESMALTE PROF TONO 89",1593750,1593750,1593750,1683000,0.51]
[null,1,"MARYLIN","EU-MARY-90","MARYLIN ESMALTE PROF TONO 90",1593750,1593750,1593750,1683000,0.51]
[null,1,"MARYLIN","EU-MARY-91","MARYLIN ESMALTE PROF TONO 91",1593750,1593750,1593750,1683000,0.51]
[null,1,"MARYLIN","EU-MARY-94","MARYLIN ESMALTE PROF TONO 94",1593750,1593750,1593750,1683000,0.51]
[null,1,"MARYLIN","EU-MARY-96","MARYLIN ESMALTE PROF TONO 96",1593750,1593750,1593750,1683000,0.51]
[null,1,"MARYLIN","EU-MARY-97","MARYLIN ESMALTE PROF TONO 97",1593750,1593750,1593750,1683000,0.51]
[null,1,"MARYLIN","EU-MARY-98","MARYLIN ESMALTE PROF TONO 98",1593750,1593750,1593750,1683000,0.51]
[null,1,"MARYLIN","EU-MARY-99","MARYLIN ESMALTE PROF TONO 99",1593750,1593750,1593750,1683000,0.51]
[null,1,"MARYLIN","EU-MARY-BRILLO","MARYLIN ESM PROF BRILLO",1593750,1593750,1593750,1683000,0.51]
[null,1,"MARYLIN","EU-MARY-GEN","MARYLIN ESMALTE PROF GENERICO",1593750,1593750,1593750,1683000,0.51]
[null,1,"VENTEKS","HA-CSOFT-100","HISOPOS DE ALGODON COTTON SOFT-100 UND",1,1,1,1,0]
[null,1,"VENTEKS","HIS-CSOFT-100","HISOPOS DE ALGODON 100 UND",0,0,0,0,0]
[null,1,"MARYLIN","MARY-BSEC","MARYLIN BRILLO SECANTE",1687500,1687500,1687500,1782000,0.54]
[null,1,"MARYLIN","MARY-TAJO","MARYLIN BASE  AJO LIMON",1687500,1687500,1687500,1782000,0.54]
[null,1,"MARYLIN","MARY-TFCOL","MARYLIN BASE  FORMULA COLOMB",1687500,1687500,1687500,1782000,0.54]
[null,1,"MARYLIN","MARY-TFUS","MARYLIN BASE FUS VITAMINAS",1687500,1687500,1687500,1782000,0.54]
[null,1,"MARYLIN","MARY-TKROSA","MARYLIN BASE KERATINA ROSADA",1687500,1687500,1687500,1782000,0.54]
[null,3,"NA",18,"ATENCION AL PERSONAL",0,0,0,0,0]
[null,3,"NA",19,"GASTOS DE SERVICIO MEDICO",0,0,0,0,0]
[null,3,"NA",44,"MATERIALES Y SUMINISTROS",0,0,0,0,0]
[null,3,"NA",69,"INSTALACIONES (ACTIVO FIJO)",0,0,0,0,0]
[null,3,"NA",70,"MOBILIARIO Y EQUIPO (ACTIVO FIJO)",0,0,0,0,0]
[null,3,null,71,"EQUIPOS DE COMPUTACION (ACTIVO FIJO)",0,0,0,0,0]
[null,3,null,72,"MAQUINARIAS Y EQUIPOS (ACTIVO FIJO)",0,0,0,0,0]
[null,3,null,73,"VEHICULOS (ACTIVO FIJO)",0,0,0,0,0]
[null,3,"NA",74,"GASTOS DE PROMOCION",0,0,0,0,0]
[null,3,"MULTAS","MULTAS","MULTAS",0,0,0,0,0]
[null,3,"RIVA","RIVA","REVERSO DE IVA",0,0,0,0,0]
[null,3,"TASA","TASA","TASA",0,0,0,0,0]
[null,3,null,"ZDIF-FACTIMP","DIFERENCIAS EN FACTURAS DE IMP'ORTACION",0,0,0,0,0]
[null,7,"DOVE","AC-DOVOLEO-400","ACONDICIONADOR DOVE OLEO NUTRICION 12X400ML",8125000,8125000,8125000,8580000,2.6]
[null,7,"DOVE","AC-DOVRECON-400","ACONDICIONADOR DOVE RECONSTRUCCION COMPLETA 12X400ML",8125000,8125000,8125000,8580000,2.6]
[null,7,"SEDAL","AC-SEDCERA-340","ACONDICIONADOR SEDAL CERAMIDAS 12X340ML",6375000,6375000,6375000,6732000,1.83]
[null,7,"SEDAL","AC-SEDKERA-340","ACONDICIONADOR SEDAL KERAT C/ANTIOX 12X340ML",6375000,6375000,6375000,6732000,1.83]
[null,7,"SEDAL","AC-SEDRIZOS-340","ACONDICIONADOR SEDAL RIZOS DEFINIDOS 12X340ML",6375000,6375000,6375000,6732000,1.83]
[null,7,"SUAVE","AC-SUAMIEL-360","SUAVE AC MIEL Y ALMENDRA 12X360ML",5312500,5312500,5312500,5610000,1.7]
[null,7,"ARM & HAMMER","AH-FRESH","DEO ARM&HAMMER SOLID FRESH",7500000,7500000,7500000,7920000,2.4]
[null,7,"ARM & HAMMER","AH-GELCOOL","DEO ARM&HAMMER GEL COOL BLAST",8437500,8437500,8437500,8910000,2.7]
[null,7,"ARM & HAMMER","AH-MAXPWER","DEO ARM&HAMMER POWDER FRESH",7500000,7500000,7500000,7920000,2.4]
[null,7,"ARM & HAMMER","AH-MAXSPORT","DEO ARM&HAMMER ACTIVE SPORT",7500000,7500000,7500000,7920000,2.4]
[null,7,"ARM & HAMMER","AH-UNSCENTED","DEO ARM&HAMMER SOLID UNSCENTED",7500000,7500000,7500000,7920000,2.4]
[null,7,"AMMENS","AMMENS-BABY125","TALCO AMMENS BABY 125GR",6750000,6750000,6750000,7128000,2.16]
[null,7,"AMMENS","AMMENS-FRESH","TALCO AMMENS FRESH 110 OZ",11468750,11468750,11468750,12111000,3.67]
[null,7,"AMMENS","AMMENS-FRESH125","TALCO AMMENS FRESH 125GR",6750000,6750000,6750000,7128000,2.16]
[null,7,"AMMENS","AMMENS-ORI","TALCO AMMENS ORIGINAL 110 OZ",11468750,11468750,11468750,12111000,3.67]
[null,7,"AMMENS","AMMENS-ORI125","TALCO AMMENS ORIGINAL 125GR",6750000,6750000,6750000,7128000,2.16]
[null,7,"AMMENS","AMMENS-PIE60","TALCO AMMENS PIE 60GR",5156250,5156250,5156250,5445000,1.65]
[null,7,"COTTON SOFT","BA-CSOFT-50","BOLAS DE ALG 50 UNIDADES COTTON SOFT",2000000,2000000,2000000,2112000,0.64]
[null,7,"PONDS","CF-PONDBIO-100","PONDS CR BIOHIDRATANTE 24X100G",7781250,7781250,7781250,8217000,2.4900000000000002]
[null,7,"PONDS","CF-PONDBIO-50","PONDS CR BIOHIDRATANTE 24X50G",4156250,4156250,4156250,4389000,1.33]
[null,7,"PONDS","CF-PONDC-45","PONDS CR C ORIGINAL 24X45G",2656250,2656250,2656250,2805000,0.85]
[null,7,"PONDS","CF-PONDC-95","PONDS CR C ORIGINAL 24X95G",4250000,4250000,4250000,4488000,1.36]
[null,7,"PONDS","CF-PONDC-SCH10","PONDS CR C ORIGINAL DPL 12X10X10G",625000,625000,625000,660000,0.2]
[null,7,"PONDS","CF-PONDCLAR-100","PONDS CR CLARANT B3 GRASA 24X100G",9000000,9000000,9000000,9504000,2.88]
[null,7,"PONDS","CF-PONDCLAR-50","PONDS CR CLARANT B3 GRASA 24X50G",5843750,5843750,5843750,6171000,1.87]
[null,7,"PONDS","CF-PONDCPEP-100","PONDS CR C PEPINO 24X100G",4250000,4250000,4250000,4488000,1.36]
[null,7,"PONDS","CF-PONDH-100","PONDS CR H 24X100G",6718750,6718750,6718750,7095000,2.15]
[null,7,"PONDS","CF-PONDH-50","PONDS CR H 24X50G",4156250,4156250,4156250,4389000,1.33]
[null,7,"PONDS","CF-PONDHC-2PK","PONDS DUO PACK H100 C45",7187500,7187500,7187500,7590000,2.2999999999999998]
[null,7,"PONDS","CF-PONDREJ-100","PONDS CR REJUVENESS DIA 24X100G",9000000,9000000,9000000,9504000,2.88]
[null,7,"PONDS","CF-PONDREJ-50","PONDS CR REJUVENESS  24X50G",5843750,5843750,5843750,6171000,1.87]
[null,7,"PONDS","CF-PONDREJ-SCH10","PONDS CR REJUVENESS SCH 12X10X10G",1281250,1281250,1281250,1353000,0.41]
[null,7,"PONDS","CF-PONDS-100","PONDS CR S HUMECTANTE NUTRITIVA 24X100G",7531250,7531250,7531250,7953000,2.41]
[null,7,"PONDS","CF-PONDS-50","PONDS CR S HUMECTANTE NUTRITIVA 24X50G",4156250,4156250,4156250,4389000,1.33]
[null,7,"PONDS","CF-PONDS-SCH10","PONDS CR S SCH 12X10X10G",1000000,1000000,1000000,1056000,0.32]
[null,7,"SEDAL","CP-SEDCERA-300","CREMA DE PEINAR SEDAL CERAMIDAS VIVI 12X300ML",5656250,5656250,5656250,5973000,1.81]
[null,7,"SEDAL","CP-SEDCERA-R10","CREMA DE PEINAR SEDAL RIZOS RISTRA 10ML",250000,250000,250000,264000,0.08]
[null,7,"SEDAL","CP-SEDKERA-300","CREMA DE PEINAR SEDAL PEIN KERATINA C/ ANTIOX 12X300ML",5656250,5656250,5656250,5973000,1.81]
[null,7,"SEDAL","CP-SEDRIZOS-300","CREMA DE PEINAR SEDAL RIZOS DEFINIDOS 12X300ML",5656250,5656250,5656250,5973000,1.81]
[null,7,"COTTON SOFT","DA-CSOFT-70","DISCOS DESMAQ DE ALG COTTON SOFT -70 UND",2250000,2250000,2250000,2376000,0.72]
[null,7,"AXE","DEO-AXBS-ANARC","AXE BODY SPRAY ANARCHY MALE 113G",6625000,6625000,6625000,6996000,2.12]
[null,7,"AXE","DEO-AXBS-BLCK","AXE BODY SPRAY BLACK 113G",6625000,6625000,6625000,6996000,2.12]
[null,7,"AXE","DEO-AXBS-DARK","AXE BODY SPRAY DARK TEMPTATION 113G",6625000,6625000,6625000,6996000,2.12]
[null,7,"DOVE","DEO-DOVDERM-A150","DOVE DEO AER AP DERMO ACLARANT 12X89G/150ML",8125000,8125000,8125000,8580000,2.6]
[null,7,"DOVE","DEO-DOVDERM-R50","DOVE DEO ROL DERMO ACLARANT 12X50ML",3531250,3531250,3531250,3729000,1.1299999999999999]
[null,7,"DOVE","DEO-DOVDERM-S50","DOVE DEO STICK DERMO ACLARANT 12X50G",6375000,6375000,6375000,6732000,2.04]
[null,7,"DOVE","DEO-DOVMINV-A150","DOVE DEO AER MEN INVI DRY12X89G/150ML",8125000,8125000,8125000,8580000,2.6]
[null,7,"DOVE","DEO-DOVMINV-S50","DOVE DEO STICK INVISIBLE DRY FM 12X50G",6375000,6375000,6375000,6732000,2.04]
[null,7,"DOVE","DEO-DOVORG-A150","DOVE DEO AER AP ORIGINAL 12X89G/150ML",8125000,8125000,8125000,8580000,2.6]
[null,7,"DOVE","DEO-DOVORG-R50","DOVE DEO ROLLON ORIGINAL 12X50ML",3531250,3531250,3531250,3729000,1.1299999999999999]
[null,7,"DOVE","DEO-DOVORG-S50","DOVE DEO STICK ORIGINAL 12X50G",6375000,6375000,6375000,6732000,2.04]
[null,7,"REXONA","DEO-REXAB-A150","REXONA DEO W AER ANTIB 12X90GR/150ML",7437500,7437500,7437500,7854000,2.38]
[null,7,"REXONA","DEO-REXBAMB-A150","REXONA DEO AER BAMB AL VERA 12X90GR/150ML",7437500,7437500,7437500,7854000,2.38]
[null,7,"REXONA","DEO-REXCOTT-A150","REXONA DEO AER AP COTTON 12X90GR/150ML",7437500,7437500,7437500,7854000,2.38]
[null,7,"REXONA","DEO-REXCOTT-S50","REXONA DEO STICK AP COTTON 12X50GR",6000000,6000000,6000000,6336000,1.92]
[null,7,"REXONA","DEO-REXEFFI-A153","REXONA DEO AER EFFICIENT 12X88GR/153ML",7437500,7437500,7437500,7854000,2.38]
[null,7,"REXONA","DEO-REXMAB-A150","REXONA DEO MEN AER AB INV 12X90GR/150ML",7437500,7437500,7437500,7854000,2.38]
[null,7,"REXONA","DEO-REXMAB-R50","REXONA DEO MEN ROLLON AB INV 12X50ML",3187500,3187500,3187500,3366000,1.02]
[null,7,"REXONA","DEO-REXMAB-S50","REXONA DEO MEN STICK ANTIB INV 12X50GR",6000000,6000000,6000000,6336000,1.92]
[null,7,"REXONA","DEO-REXSPFAN-A150","REXONA DEO AER AP SPORTFAN 12X90GR/150ML",7437500,7437500,7437500,7854000,2.38]
[null,7,"REXONA","DEO-REXSPFAN-R50","REXONA DEO ROLLON AP SPORTFAN 12X50ML",3187500,3187500,3187500,3366000,1.02]
[null,7,"REXONA","DEO-REXSPFAN-S50","REXONA DEO STICK AP SPORTFAN 12X50GR",6000000,6000000,6000000,6336000,1.92]
[null,7,"REXONA","DEO-REXV8-A150","REXONA DEO AER AP V8 12X90GR/150ML",7437500,7437500,7437500,7854000,2.38]
[null,7,"REXONA","DEO-REXV8-R50","REXONA DEO ROLLON AP V8 12X50ML",3187500,3187500,3187500,3366000,1.02]
[null,7,"REXONA","DEO-REXV8-S50","REXONA DEO STICK AP V8 12X50GR",6000000,6000000,6000000,6336000,1.92]
[null,7,null,"GA-PUR100","GEL ANTIBACTERIAL PURISSIMA 100GR",2343750,2343750,2343750,2475000,0.75]
[null,7,null,"GA-PUR1GAL","GEL ANTIBACTERIAL PURISSIMA 3,750 GR (1GAL)",49375000,49375000,49375000,52140000,15.8]
[null,7,null,"GA-PUR200","GEL ANTIBACTERIAL PURISSIMA 200GR",3750000,3750000,3750000,3960000,1.2]
[null,7,"HUGGIES","HUG-TOAV48","HUGGIES TOALL. HUM LIMPIEZA EFEC. X 48",2500000,2500000,2500000,2640000,0.8]
[null,7,"HUGGIES","HUG-TOAX80","HUGGIES TOALL. HUM LIMPIEZA COT. X 80",3000000,3000000,3000000,3168000,0.96]
[null,7,"DOVE","JB-DOVCOCO-90","DOVE JAB LECHE DE COCO 48X90G",2125000,2125000,2125000,2244000,0.68]
[null,7,"DOVE","JB-DOVORG-90","DOVE JAB ORIGINAL 48X90G",2125000,2125000,2125000,2244000,0.68]
[null,7,"DOVE","JB-DOVVAN-90","DOVE JAB KAR Y VAINILLA 48X90G",2125000,2125000,2125000,2244000,0.68]
[null,7,"LUX","JB-LUXJAZ-125","LUX JABON BARRA JAZMIN 48X125G",1500000,1500000,1500000,1584000,0.46]
[null,7,"LUX","JB-LUXORQ-125","LUX JABON BARRA ORQUID NEGRA FR 48X125G",1500000,1500000,1500000,1584000,0.46]
[null,7,"LUX","JB-LUXROSA-125","LUX JABON BARRA ROSAS FR 48X125G",1500000,1500000,1500000,1584000,0.46]
[null,7,"LUX","JB-LUXVAN-125","LUX JABON BARRA VAINILLA FR 48X125G",1500000,1500000,1500000,1584000,0.46]
[null,7,"REXONA","JB-REX7PACK-120","REXONA JABON BARRA 7 PACK 120G",11218750,11218750,11218750,11847000,3.59]
[null,7,"REXONA","JB-REXAVE-120","REXONA JABON BARRA ANTIB AVENA 48X120G",1781250,1781250,1781250,1881000,0.48]
[null,7,"REXONA","JB-REXBAMB-120","REXONA JABON BARRA ANTIB BAMBOO 48X120G",1781250,1781250,1781250,1881000,0.48]
[null,7,"REXONA","JB-REXFRESH-120","REXONA JABON BARRA ANTIB FRESH 48X120G",1781250,1781250,1781250,1881000,0.48]
[null,7,"REXONA","JB-REXLIMP-120","REXONA JABON BARRA ANTIB LIMPIEZA 48X120G",1781250,1781250,1781250,1881000,0.48]
[null,7,"KOTEX","KOTEX-DIA","KOTEX TOALLA SAN DIURNA",2156250,2156250,2156250,2277000,0.69]
[null,7,"KOTEX","KOTEX-LIN15","KOTEX PROTECTOR DIARIO X15",1343750,1343750,1343750,1419000,0.43]
[null,7,"KOTEX","KOTEX-LIN50","KOTEX PROTECTOR DIARIO X50",5218750,5218750,5218750,5511000,1.67]
[null,7,"KOTEX","KOTEX-LINAB50","KOTEX LINER ANTIBACTERIAL 12X50",5468750,5468750,5468750,5775000,1.75]
[null,7,"KOTEX","KOTEX-LINPURE50","KOTEX LINER PURE 12X50",5875000,5875000,5875000,6204000,1.88]
[null,7,"KOTEX","KOTEX-NOC","KOTEX TOALLA SAN NOC",3000000,3000000,3000000,3168000,0.96]
[null,7,"KOTEX","KOTEX-TAMM","TAMPONES KOTEX MEDIUM 12X8 SPORT TTX",9000000,9000000,9000000,9504000,2.88]
[null,7,"KOTEX","KOTEX-TAMS","TAMPONES KOTEX SUPER 12X8 TTX",9343750,9343750,9343750,9867000,2.99]
[null,7,"KOTEX","KOTEX-UFAB-R5","KOTEX TOALLA FEM UF AB 10X5X5 RISTRA",8062500,8062500,8062500,8514000,2.58]
[null,7,"KOTEX","KOTEX-UFNOCT","KOTEX TOALLA FEM UF DIA&NOCHE X8UND",3593750,3593750,3593750,3795000,1.1499999999999999]
[null,7,"KOTEX","KOTEX-UFPURE","KOTEX TOALLA FEM UF PURE 12X10",2312500,2312500,2312500,2442000,0.74]
[null,7,"KOTEX","KOTEX-ULTRAF","KOTEX TOALLA ULTRAFINAX10",2031250,2031250,2031250,2145000,0.65]
[null,7,"VASELINE","LC-VASEALM-295","LOCION CORPORAL VASELINE ALMOND SMOOTH 295ML",7750000,7750000,7750000,8184000,2.48]
[null,7,"VASELINE","LC-VASEALOE-295","LOCION CORPORAL VASELINE ALOE SOOTHE 295ML",7750000,7750000,7750000,8184000,2.48]
[null,7,"VASELINE","LC-VASECOCOA-295","LOCION CORPORAL VASELINE COCOA RADIANT 295ML",7750000,7750000,7750000,8184000,2.48]
[null,7,"VASELINE","LC-VASENOUR-295","LOCION CORPORAL VASELINE NOURISH + RESTORE 295ML",7750000,7750000,7750000,8184000,2.48]
[null,7,"NAIR","NAIR-ALOE","LOCION DEP NAIR CON ALOE",5812500,5812500,5812500,6138000,1.86]
[null,7,"NAIR","NAIR-BABYOIL","LOCION DEP NAIR BABY OIL",5812500,5812500,5812500,6138000,1.86]
[null,7,"NAIR","NAIR-COCOA","LOCION DEP NAIR COCOA",5812500,5812500,5812500,6138000,1.86]
[null,7,"NAIR","NAIR-DEPMIXTO","LOCION DEP NAIR MIXTO",5812500,5812500,5812500,6138000,1.86]
[null,7,"PADDLERS","PA-PADDLERS-L","PAÑAL ADL PADDLERS TALLA L",13656250,13656250,13656250,14421000,4.37]
[null,7,"PADDLERS","PA-PADDLERS-M","PAÑAL ADT PADDLERS TALLA M",13656250,13656250,13656250,14421000,4.37]
[null,7,"VASELINE","PJ-VASEPUR-100","VASELINA VASELINE PURE ORIGINAL 100G",6562500,6562500,6562500,6930000,2.1]
[null,7,"VASELINE","PJ-VASEPUR-50","VASELINA VASELINE PURE ORIGINAL 50G",4375000,4375000,4375000,4620000,1.4]
[null,7,"PLAYBOY","PLAY-3EN1","PRESERVATIVOS PLAY B 3 EN 1",2187500,2187500,2187500,2310000,0.7]
[null,7,"PLAYBOY","PLAY-LUBRI","PRESERVATIVOS PLAY B LUBRICATED",2187500,2187500,2187500,2310000,0.7]
[null,7,"PLAYBOY","PLAY-RIBBET","PRESERVATIVOS PLAY B RIBBET",2187500,2187500,2187500,2310000,0.7]
[null,7,"PLAYBOY","PLAY-ULTRA","PRESERVATIVOS PLAY B ULTRA",2187500,2187500,2187500,2310000,0.7]
[null,7,"DOVE","SH-DOVOLEO-400","SHAMPOO DOVE OLEO NUTRICION 12X400ML",8125000,8125000,8125000,8580000,2.6]
[null,7,"DOVE","SH-DOVRECON-400","SHAMPOO DOVE RECONS COMPLETA 12X400ML",8125000,8125000,8125000,8580000,2.6]
[null,7,"SEDAL","SH-SEDCERA-340","SHAMPOO SEDAL CERAMIDAS 12X340ML",6375000,6375000,6375000,6732000,1.83]
[null,7,"SEDAL","SH-SEDDUO21-340","SHAMPOO SEDAL 2EN1 DUO 12X340ML",6375000,6375000,6375000,6732000,1.83]
[null,7,"SEDAL","SH-SEDKERA-340","SHAMPOO SEDAL KERATINA C/ANTIOX 12X340ML",6375000,6375000,6375000,6732000,1.83]
[null,7,"SEDAL","SH-SEDRIZOS-340","SHAMPOO SEDAL RIZOS DEFINIDOS 12X340ML",6375000,6375000,6375000,6732000,1.83]
[null,7,"SUAVE","SH-SUAMIEL-360","SUAVE SH MIEL Y ALMENDRA 12X360ML",5312500,5312500,5312500,5610000,1.7]
[null,7,"SURE","SURE-FRESH","DEO SURE FRESH&COOL",6218750,6218750,6218750,6567000,1.99]
[null,7,"SURE","SURE-ORREG","DEO SURE REGULAR",6218750,6218750,6218750,6567000,1.99]
[null,7,"SURE","SURE-OSPOW","DEO SURE POWDER",6218750,6218750,6218750,6567000,1.99]
[null,7,"BABY SOFT","TH-BABYSOFT-40","TOALLAS HUM BABY SOFT PREMIUM - 40 UND",1812500,1812500,1812500,1914000,0.57999999999999996]
[null,7,"BABY SOFT","TH-BABYSOFT-72","TOALLAS HUM BABY SOFT PREMIUM-72 UND",2968750,2968750,2968750,3135000,0.95]
[null,7,"HUGGIES","TH-HUGCOT-80","HUGGIES TOALL. HUM LIMPIEZA COT. X 80",3000000,3000000,3000000,3168000,0.96]
[null,7,"HUGGIES","TH-HUGEFI-48","HUGGIES TOALL. HUM LIMPIEZA EFEC. X 48",2500000,2500000,2500000,2640000,0.8]
[null,8,"ARM & HAMMER","DL-AHESTALLIDO","A&H DETER.LIQ ESTALLIDO LIMP",12812500,12812500,12812500,13530000,4.0999999999999996]
[null,8,"ARM & HAMMER","DL-AHJARDIN","A&H DETER.LIQ JARDIN FLOR",12812500,12812500,12812500,13530000,4.0999999999999996]
[null,8,"XTRA","DL-XTRAMANECER","XTRA DET. LIQ FRES AMANECER",11093750,11093750,11093750,11715000,3.55]
[null,8,"XTRA","DL-XTROXI","XTRA DET. LIQ OXI CLEAN",11093750,11093750,11093750,11715000,3.55]
[null,8,"XTRA","DL-XTRTROPICAL","XTRA DET. LIQ PAS. TROPICAL",11093750,11093750,11093750,11715000,3.55]
[null,8,"SCOTT","PH-SCOTT-4R","SCOTT PAPEL HIG RINDEMAX 4ROLLOS",5343750,5343750,5343750,5643000,1.71]
[null,8,"OXICLEAN","QM-OXIPLV-800G","OXI CLEAN QUITA MANCHAS POLVO",15125000,15125000,15125000,15972000,4.84]
[null,8,"OXICLEAN","QM-OXISPR-636ML","OXI CLEAN QUITA MANCHAS SPRAY",11656250,11656250,11656250,12309000,3.73]
[null,8,"SCOTT","SER-SCOTT-100","SERVILLETAS RENDIDORAS SCOTTX100",1718750,1718750,1718750,1815000,0.55000000000000004]
[null,9,"HUGGIES","HUG-NIÑAX112","HUGGIES NATCARE NIÑA GX112",103062500,103062500,103062500,108834000,32.979999999999997]
[null,9,"HUGGIES","HUG-NIÑAX60","HUGGIES NATCARE NIÑA GX60",64312500,64312500,64312500,67914000,20.58]
[null,9,"HUGGIES","HUG-NIÑAX72","HUGGIES NATCARE NIÑA GX72",66562500,66562500,66562500,70290000,21.3]
[null,9,"HUGGIES","HUG-NIÑOX112","HUGGIES NATCARE NIÑO GX112",103062500,103062500,103062500,108834000,32.979999999999997]
[null,9,"HUGGIES","HUG-NIÑOX60","HUGGIES NATCARE NIÑO GX60",64312500,64312500,64312500,67914000,20.58]
[null,9,"HUGGIES","HUG-NIÑOX72","HUGGIES NATCARE NIÑO GX72",66562500,66562500,66562500,70290000,21.3]
[null,9,"HUGGIES","PB-HUG-G","PAÑAL HUGGIES TALLAS G",16562500,16562500,16562500,17490000,5.3]
[null,9,"HUGGIES","PB-HUG-G20","HUGGIES PAÑAL BEBE ACTIVESEC TALLA G 8X20",13625000,13625000,13625000,14388000,4.3600000000000003]
[null,9,"HUGGIES","PB-HUG-M","PAÑAL HUGGIES TALLAS M",15468750,15468750,15468750,16335000,4.95]
[null,9,"HUGGIES","PB-HUG-P","PAÑAL HUGGIES TALLAS P",21343750,21343750,21343750,22539000,6.83]
[null,9,"HUGGIES","PB-HUG-P36","PAÑAL HUGGIES TALLAS P36",15593750,15593750,15593750,16467000,4.99]
[null,9,"HUGGIES","PB-HUG-RN","PAÑAL HUGGIES RECIEN NACIDOX32",14375000,14375000,14375000,15180000,4.5999999999999996]
[null,9,"HUGGIES","PB-HUG-XG","PAÑAL HUGGIES TALLAS XG",19062500,19062500,19062500,20130000,6.1]
[null,9,"HUGGIES","PB-HUG-XG20","HUGGIES PAÑAL BEBE ACTIVESEC TALLA XG 8X20",16406250,16406250,16406250,17325000,5.25]
[null,9,"HUGGIES","PB-HUG-XXG","PAÑAL HUGGIES TALLAS XXG",20468750,20468750,20468750,21615000,6.55]
[null,9,"HUGGIES","PB-HUG-XXG20","HUGGIES PAÑAL BEBE ACTIVESEC TALLA XXG 8X20",17781250,17781250,17781250,18777000,5.69]
[null,9,"HUGGIES","PB-HUGNAT-G","PAÑAL HUG NATCARE TALLA G",22343750,22343750,22343750,23595000,7.15]
[null,9,"HUGGIES","PB-HUGNAT-M","PAÑAL HUG NATCARE TALLA M",19000000,19000000,19000000,20064000,6.08]
[null,9,"HUGGIES","PB-HUGNAT-P","PAÑAL HUG NATCARE TALLA P",16093750,16093750,16093750,16995000,5.15]
[null,9,"HUGGIES","PB-HUGNAT-RN20","HUGGIES PAÑAL BEBE NATCARE TALLA RN 10X20",9375000,9375000,9375000,9900000,3]
[null,9,"HUGGIES","PB-HUGNAT-XG","PAÑAL HUG NATCARE TALLA XG",26875000,26875000,26875000,28380000,8.6]
[null,9,"HUGGIES","PB-HUGNAT-XXG","PAÑAL HUG NATCARE TALLA XXG",28906250,28906250,28906250,30525000,9.25]
[null,9,"HUGGIES","TH-HUGMAN-48","TOA HUM HUGGIES X 48 FIBRAS NATURALES",2625000,2625000,2625000,2772000,0.84]
[null,9,"HUGGIES","TH-HUGMAN-80","TOA HUM HUGGIES X 80 FIBRAS NATURALES",3750000,3750000,3750000,3960000,1.2]
[null,10,"ARM & HAMMER","AH-DENT-ADWH","PAST DENT ARM&HAMMER ADVANCE W",3750000,3750000,3750000,3960000,1.2]
[null,10,"ARM & HAMMER","AH-DENT-CCARE","PAST DENT ARM&HAMMER COMPL CARE",3750000,3750000,3750000,3960000,1.2]
[null,10,"ARM & HAMMER","AH-DENT-PEROX","PAST DENT ARM&HAMMER PEROX",3750000,3750000,3750000,3960000,1.2]
[null,11,"ENERGIZER","END-LG-4SV","Exhibidor Energizer PUNTA DE GONDOLA",3125000,3125000,3125000,3300000,1]
[null,11,"ENERGIZER","ISL-XSM","Exhibidor Energizer TIPO ISLA",3125000,3125000,3125000,3300000,1]
[null,11,"ENERGIZER","PIL-EGZR-9V","ENERGIZER BAT ALK  9V",4656250,4656250,4656250,4917000,1.49]
[null,11,"ENERGIZER","PIL-EGZR-A23X2","ENERGIZER A23X2 BATERIA ALKALINA MINI",3625000,3625000,3625000,3828000,1.1599999999999999]
[null,11,"ENERGIZER","PIL-EGZR-AAAX2","ENERGIZER BAT ALK AAAX2",3375000,3375000,3375000,3564000,1.08]
[null,11,"ENERGIZER","PIL-EGZR-AAAX4","ENERGIZER BAT ALK AAAX4",6156250,6156250,6156250,6501000,1.97]
[null,11,"ENERGIZER","PIL-EGZR-AAX2","ENERGIZER BAT ALK AAX2",3375000,3375000,3375000,3564000,1.08]
[null,11,"ENERGIZER","PIL-EGZR-AAX4","ENERGIZER BAT ALK AAX4",6156250,6156250,6156250,6501000,1.97]
[null,11,"ENERGIZER","PIL-EGZR-CX2","ENERGIZER BAT ALK CX2",7156250,7156250,7156250,7557000,2.29]
[null,11,"ENERGIZER","PIL-EGZR-DX2","ENERGIZER BAT ALK  DX2",11406250,11406250,11406250,12045000,3.65]
[null,11,"ENERGIZER","POP-EN-CSPLS","Exhibidor Energizer CS-PLSTC",3125000,3125000,3125000,3300000,1]
[null,11,"ENERGIZER","POP-EN-CTSM","Exhibidor Energizer CT-SM",3125000,3125000,3125000,3300000,1]
[null,11,"ENERGIZER","POP-EN-FSXSM","Exhibidor Energizer FLOORSTAND FS-XSM",3125000,3125000,3125000,3300000,1]
[null,11,"ENERGIZER","POP-EN-MBHZ","Exhibidor Energizer MB-EX-HZ",3125000,3125000,3125000,3300000,1]
[null,11,"ENERGIZER","POP-EN-SDKSM","Exhibidor Energizer SDK-SM",3125000,3125000,3125000,3300000,1]
[null,12,"KNORR","CUB-KNORRPOL-12","CUBITO KNORR DE POLLO DESHIDRATADO X 12UN",3750000,3750000,3750000,3960000,1.2]
[null,12,"KNORR","CUB-KNORRPOL-120","CUBITO KNORR DE POLLO DESHIDRATADO X 120UN",31937500,31937500,31937500,33726000,10.220000000000001]
[null,12,"KNORR","CUB-KNORRPOL-8","CUBITO KNORR DE POLLO DESHIDRATADO X 8UN",2687500,2687500,2687500,2838000,0.86]
[null,12,"KNORR","NOO-KNORCAR-75","KNORR NOODLES CARNE 75G",1437500,1437500,1437500,1518000,0.46]
[null,12,"KNORR","NOO-KNORPOL-75","KNORR NOODLES POLLO 75G",1437500,1437500,1437500,1518000,0.46]
[null,12,"KNORR","NOO-KNORVEG-75","KNORR NOODLES VEGETALES 75G",1437500,1437500,1437500,1518000,0.46]